BEGIN:VCALENDAR
VERSION:2.0
PRODID:-//Landkreis Wittenberg - ECPv6.15.20//NONSGML v1.0//EN
CALSCALE:GREGORIAN
METHOD:PUBLISH
X-ORIGINAL-URL:https://www.landkreis-wittenberg.de
X-WR-CALDESC:Veranstaltungen für Landkreis Wittenberg
REFRESH-INTERVAL;VALUE=DURATION:PT1H
X-Robots-Tag:noindex
X-PUBLISHED-TTL:PT1H
BEGIN:VTIMEZONE
TZID:Europe/Berlin
BEGIN:DAYLIGHT
TZOFFSETFROM:+0100
TZOFFSETTO:+0200
TZNAME:CEST
DTSTART:20240331T010000
END:DAYLIGHT
BEGIN:STANDARD
TZOFFSETFROM:+0200
TZOFFSETTO:+0100
TZNAME:CET
DTSTART:20241027T010000
END:STANDARD
BEGIN:DAYLIGHT
TZOFFSETFROM:+0100
TZOFFSETTO:+0200
TZNAME:CEST
DTSTART:20250330T010000
END:DAYLIGHT
BEGIN:STANDARD
TZOFFSETFROM:+0200
TZOFFSETTO:+0100
TZNAME:CET
DTSTART:20251026T010000
END:STANDARD
BEGIN:DAYLIGHT
TZOFFSETFROM:+0100
TZOFFSETTO:+0200
TZNAME:CEST
DTSTART:20260329T010000
END:DAYLIGHT
BEGIN:STANDARD
TZOFFSETFROM:+0200
TZOFFSETTO:+0100
TZNAME:CET
DTSTART:20261025T010000
END:STANDARD
END:VTIMEZONE
BEGIN:VEVENT
DTSTART;TZID=Europe/Berlin:20250618T180000
DTEND;TZID=Europe/Berlin:20250618T193000
DTSTAMP:20260424T153853
CREATED:20250527T114144Z
LAST-MODIFIED:20250527T114315Z
UID:10000773-1750269600-1750275000@www.landkreis-wittenberg.de
SUMMARY:Filmmusik-Konzert der Kreismusikschule Wittenberg
DESCRIPTION:Musikschüler der Kreismusikschule Wittenberg spielen Filmmusik bekannter Komponisten\, von denen John Williams und Hans Zimmer sicher die berühmtesten sind. Etwa eineinhalb Stunden füllen die Titel aus Filmen wie “Interstellar”\, “Star Wars”\, “Drei Haselnüsse für Aschenputtel” oder “Schindlers Liste”. Wie abwechslungsreich das Programm ist wird deutlich\, wenn auch die Titelmusik aus den Serien “Game of Thrones” und “Die Sendung mit der Maus” erklingen. Neben einer besonders stimmungsvollen Atmosphäre\, die der romantische Innenhof des Jessener Schlosses bietet\, rundet ein kleines kulinarisches Angebot vom Obsthof Zwicker den musikalischen Abend ab. Der Eintritt ist frei.
URL:https://www.landkreis-wittenberg.de/event/filmmusik-konzert-der-kreismusikschule-wittenberg/
LOCATION:Schlosshof Jessen\, Schloßstrasse 11\, Jessen\, 06919
CATEGORIES:Allgemein,Kreismusikschule
ATTACH;FMTTYPE=image/jpeg:https://www.landkreis-wittenberg.de/wp-content/uploads/2025/05/Konzert-Filmmusik-Jessen-06_2025.jpg
END:VEVENT
END:VCALENDAR