BEGIN:VCALENDAR
VERSION:2.0
PRODID:-//Landkreis Wittenberg - ECPv6.15.20//NONSGML v1.0//EN
CALSCALE:GREGORIAN
METHOD:PUBLISH
X-WR-CALNAME:Landkreis Wittenberg
X-ORIGINAL-URL:https://www.landkreis-wittenberg.de
X-WR-CALDESC:Veranstaltungen für Landkreis Wittenberg
REFRESH-INTERVAL;VALUE=DURATION:PT1H
X-Robots-Tag:noindex
X-PUBLISHED-TTL:PT1H
BEGIN:VTIMEZONE
TZID:Europe/Berlin
BEGIN:DAYLIGHT
TZOFFSETFROM:+0100
TZOFFSETTO:+0200
TZNAME:CEST
DTSTART:20240331T010000
END:DAYLIGHT
BEGIN:STANDARD
TZOFFSETFROM:+0200
TZOFFSETTO:+0100
TZNAME:CET
DTSTART:20241027T010000
END:STANDARD
BEGIN:DAYLIGHT
TZOFFSETFROM:+0100
TZOFFSETTO:+0200
TZNAME:CEST
DTSTART:20250330T010000
END:DAYLIGHT
BEGIN:STANDARD
TZOFFSETFROM:+0200
TZOFFSETTO:+0100
TZNAME:CET
DTSTART:20251026T010000
END:STANDARD
BEGIN:DAYLIGHT
TZOFFSETFROM:+0100
TZOFFSETTO:+0200
TZNAME:CEST
DTSTART:20260329T010000
END:DAYLIGHT
BEGIN:STANDARD
TZOFFSETFROM:+0200
TZOFFSETTO:+0100
TZNAME:CET
DTSTART:20261025T010000
END:STANDARD
END:VTIMEZONE
BEGIN:VEVENT
DTSTART;TZID=Europe/Berlin:20250621T170000
DTEND;TZID=Europe/Berlin:20250621T180000
DTSTAMP:20260424T155748
CREATED:20250527T114943Z
LAST-MODIFIED:20250527T114943Z
UID:10000774-1750525200-1750528800@www.landkreis-wittenberg.de
SUMMARY:Mittsommer-Konzert des Akkordeon-Ensembles der Kreismusikschule Wittenberg
DESCRIPTION:Am längsten Tag des Jahres laden das Akkordeon-Ensemble der Kreismusikschule Wittenberg und die Evangelische Kirchengemeinde Pratau zu einem Sommerkonzert in die Kirche nach Wartenburg ein. Das Akkordeon-Ensemble unter der musikalischen Leitung von Victor Bolgov war bereits vor drei Jahren in Wartenburg zu Gast. Die etwa 25 Musikerinnen und Musiker zwischen 7 und 70 Jahren gestalten ein abwechslungsreiches Programm und nehmen das Publikum mit durch verschiedene Epochen. Anschließend gibt es noch einen kleinen Imbiss\, das eine oder andere Getränk und die Möglichkeit\, ein sicherlich schönes Konzert mit netten Gesprächen\, im Kirchgarten nachwirken zu lassen. Der Eintritt ist frei! Die Musiker freuen sich über eine Spende für die Ensemblearbeit.
URL:https://www.landkreis-wittenberg.de/event/mittsommer-konzert-des-akkordeon-ensembles-der-kreismusikschule-wittenberg/
LOCATION:Kirche in Wartenburg\, Zur Elbe\, Kemberg\, 06901
CATEGORIES:Allgemein,Kreismusikschule
ATTACH;FMTTYPE=image/jpeg:https://www.landkreis-wittenberg.de/wp-content/uploads/2025/05/Mittsommerkonzert-Wartenburg.jpg
END:VEVENT
END:VCALENDAR