BEGIN:VCALENDAR
VERSION:2.0
PRODID:-//Landkreis Wittenberg - ECPv6.15.20//NONSGML v1.0//EN
CALSCALE:GREGORIAN
METHOD:PUBLISH
X-ORIGINAL-URL:https://www.landkreis-wittenberg.de
X-WR-CALDESC:Veranstaltungen für Landkreis Wittenberg
REFRESH-INTERVAL;VALUE=DURATION:PT1H
X-Robots-Tag:noindex
X-PUBLISHED-TTL:PT1H
BEGIN:VTIMEZONE
TZID:Europe/Berlin
BEGIN:DAYLIGHT
TZOFFSETFROM:+0100
TZOFFSETTO:+0200
TZNAME:CEST
DTSTART:20240331T010000
END:DAYLIGHT
BEGIN:STANDARD
TZOFFSETFROM:+0200
TZOFFSETTO:+0100
TZNAME:CET
DTSTART:20241027T010000
END:STANDARD
BEGIN:DAYLIGHT
TZOFFSETFROM:+0100
TZOFFSETTO:+0200
TZNAME:CEST
DTSTART:20250330T010000
END:DAYLIGHT
BEGIN:STANDARD
TZOFFSETFROM:+0200
TZOFFSETTO:+0100
TZNAME:CET
DTSTART:20251026T010000
END:STANDARD
BEGIN:DAYLIGHT
TZOFFSETFROM:+0100
TZOFFSETTO:+0200
TZNAME:CEST
DTSTART:20260329T010000
END:DAYLIGHT
BEGIN:STANDARD
TZOFFSETFROM:+0200
TZOFFSETTO:+0100
TZNAME:CET
DTSTART:20261025T010000
END:STANDARD
END:VTIMEZONE
BEGIN:VEVENT
DTSTART;TZID=Europe/Berlin:20251129T170000
DTEND;TZID=Europe/Berlin:20251129T170000
DTSTAMP:20260424T173059
CREATED:20251027T071917Z
LAST-MODIFIED:20251110T112902Z
UID:10000938-1764435600-1764435600@www.landkreis-wittenberg.de
SUMMARY:Lampionumzug in der Lutherstadt Wittenberg
DESCRIPTION:Reso-Witt lädt herzlich ein zum diesjährigen Lampionumzug in der Lutherstadt Wittenberg am 29.11.2025. \nTreffpunkt: Berliner Sparkasse am Markt \nStart: 17.00 Uhr \nMusikalische Begleitung durch den Fanfarenzug Wittenberg und der historischen Stadtwache. \nStrecke: Sparkasse –> Collegienstraße –> Am Stadtgraben –> Wallstraße –> Leucoreahof \nIm Leucoreahof: leckeres Essen und Stockbrot\, eine Überraschung für die kleinen Lampionträger \nWIR FREUEN UNS AUF EUCH!
URL:https://www.landkreis-wittenberg.de/event/lampionumzug-in-der-lutherstadt-wittenberg/
LOCATION:Innenstadt Wittenberg
CATEGORIES:Allgemein,Feste
ATTACH;FMTTYPE=image/jpeg:https://www.landkreis-wittenberg.de/wp-content/uploads/2025/10/Lampionumzug-Reso-Witt-e.V.-29.11.2025-Flyer.jpg
END:VEVENT
BEGIN:VEVENT
DTSTART;TZID=Europe/Berlin:20250730T100000
DTEND;TZID=Europe/Berlin:20250914T200000
DTSTAMP:20260424T173059
CREATED:20250717T132410Z
LAST-MODIFIED:20250717T132410Z
UID:10000785-1753869600-1757880000@www.landkreis-wittenberg.de
SUMMARY:Kino To Go - ein Open-Air-Filmfest
DESCRIPTION:Innenstadtprojekt des Stadtlabors Wittenberg mit Kunstkollektiv ufo ufo \nDas Projekt „Kino to go“ stellt zusammen mit Jugendlichen und Kindern ein Open-Air-Filmfestival in Wittenberg auf die Beine. In zwei Workshops am Ende der Sommerferien wird gemeinsam mit dem Kunstkollektiv ufo ufo aus Berlin ein mobiler Kinowagen gebaut und das Festival Programm gestaltet. \nDer Workshop für den Bau und die Dekoration des Kinowagens findet vom 30.07.-01.08.25 statt\, der Workshop zur Gestaltung des Festivals mit Mal- und Kunstdruck Aktionen vom 03.-05.08.25. Im September folgen dann zwischen dem 12.-14.09.25 drei Tage Filmspektakel mit Eröffnungsgala\, rotem Teppich und jeder Menge Popcorn für Alle! \nDas Angebot ist für Kinder und Jugendliche ab 9 Jahren geeignet. Um Anmeldung zu den Workshops auf der Website des Stadtlabors wird gebeten:\nhttps://stadtlabor-wittenberg.de/anmeldung-kino-to-go/ \nTermine:\nBau-Workshop \n30.07. – 10-15 Uhr \n31.07. – 10-15 Uhr \n01.08. – 10-12; 14-16.30 Uhr \nFilmfest-Workshop \n03.08. – 13-16 Uhr \n04.08. – 13-16 Uhr \n05.08. – 13-16 Uhr \nFilmfest des Kino To Go \n12.-14.09.25 \nDieses Projekt ist Teil des Sommerprogramms des Stadtlabors Wittenberg. Das Stadtlabor wird von endboss GmbH im Auftrag der Lutherstadt Wittenberg durchgeführt und ist Teil des Förderprogramms „Zukunftsfähige Innenstädte und Zentren“ des Bundesministeriums für Wohnen\, Stadtentwicklung und Bauwesen.
URL:https://www.landkreis-wittenberg.de/event/kino-to-go-ein-open-air-filmfest/
LOCATION:Innenstadt Wittenberg
CATEGORIES:Allgemein,Feste
ATTACH;FMTTYPE=image/jpeg:https://www.landkreis-wittenberg.de/wp-content/uploads/2025/07/Plakat_Wittenberg.jpg
ORGANIZER;CN="Stadtlabor Wittenberg%2C endboss GmbH%2C Bundesministerium f%C3%BCr Wohnen%2C Stadtentwicklung und Bauwesen%2C urban fragment observatory (ufo ufo)":MAILTO:info@ufoufo.eu
END:VEVENT
END:VCALENDAR