BEGIN:VCALENDAR
VERSION:2.0
PRODID:-//Landkreis Wittenberg - ECPv6.15.20//NONSGML v1.0//EN
CALSCALE:GREGORIAN
METHOD:PUBLISH
X-ORIGINAL-URL:https://www.landkreis-wittenberg.de
X-WR-CALDESC:Veranstaltungen für Landkreis Wittenberg
REFRESH-INTERVAL;VALUE=DURATION:PT1H
X-Robots-Tag:noindex
X-PUBLISHED-TTL:PT1H
BEGIN:VTIMEZONE
TZID:Europe/Berlin
BEGIN:DAYLIGHT
TZOFFSETFROM:+0100
TZOFFSETTO:+0200
TZNAME:CEST
DTSTART:20240331T010000
END:DAYLIGHT
BEGIN:STANDARD
TZOFFSETFROM:+0200
TZOFFSETTO:+0100
TZNAME:CET
DTSTART:20241027T010000
END:STANDARD
BEGIN:DAYLIGHT
TZOFFSETFROM:+0100
TZOFFSETTO:+0200
TZNAME:CEST
DTSTART:20250330T010000
END:DAYLIGHT
BEGIN:STANDARD
TZOFFSETFROM:+0200
TZOFFSETTO:+0100
TZNAME:CET
DTSTART:20251026T010000
END:STANDARD
BEGIN:DAYLIGHT
TZOFFSETFROM:+0100
TZOFFSETTO:+0200
TZNAME:CEST
DTSTART:20260329T010000
END:DAYLIGHT
BEGIN:STANDARD
TZOFFSETFROM:+0200
TZOFFSETTO:+0100
TZNAME:CET
DTSTART:20261025T010000
END:STANDARD
END:VTIMEZONE
BEGIN:VEVENT
DTSTART;TZID=Europe/Berlin:20251011T210000
DTEND;TZID=Europe/Berlin:20251011T220000
DTSTAMP:20260424T183851
CREATED:20250401T112556Z
LAST-MODIFIED:20250407T072035Z
UID:10000703-1760216400-1760220000@www.landkreis-wittenberg.de
SUMMARY:Wittenberger Nachtgeschichten
DESCRIPTION:Im Fackelschein begleitet Sie ein historisch gewandeter Stadtführer\, der Ihnen allerlei Interessantes und Unterhaltsames aus dem Wittenberg des 16. Jahrhunderts zu berichten weiß. Vor Wegelagerern und Beutelabschneidern werden Sie von den Wittenberger Wächtern beschützt. \nDauer: 60 Minuten\nTreffpunkt: Tourist-Information Lutherstadt Wittenberg\, Schlossplatz 2\nErwachsene: 12\,00 €\nermäßigt: 10\,00 €\nBeginn: 21.00 Uhr\nTermin: 19.04.2025\, 31.05.2025\, 07.06.2025\, 21.06.2025\, 12.07.2025\, 23.08.2025\, 06.09.2025 und 11.10.2025 \nDie Teilnehmerzahl ist begrenzt. Um Anmeldung wird gebeten unter: Tel. 03491-498610 oder per E-Mail an info@lutherstadt-wittenberg.de \nTipp: Genießen Sie vor der Führung ein thematisch passendes Essen im Restaurant „Niederlassung“. Preis p. P. inkl. Führung und Essen: € 38\,- /€ 36\,- ermäßigt\, Start 19:00 Uhr \nWenn Sie die Kombination aus Führung und Abendessen wünschen\, ist eine vorherige Anmeldung zwingend erforderlich.
URL:https://www.landkreis-wittenberg.de/event/wittenberger-nachtgeschichten/2025-10-11/
LOCATION:Tourist-Information\, Schlossplatz 2\, Lutherstadt Wittenberg\, 06886\, Germany
CATEGORIES:Allgemein,Feste
ATTACH;FMTTYPE=image/jpeg:https://www.landkreis-wittenberg.de/wp-content/uploads/2025/04/1000065012.jpg
ORGANIZER;CN="Tourist-Information Lutherstadt-Wittenberg":MAILTO:info@lutherstadt-wittenberg.de
END:VEVENT
BEGIN:VEVENT
DTSTART;TZID=Europe/Berlin:20250906T210000
DTEND;TZID=Europe/Berlin:20250906T220000
DTSTAMP:20260424T183851
CREATED:20250401T112556Z
LAST-MODIFIED:20250407T072035Z
UID:10000702-1757192400-1757196000@www.landkreis-wittenberg.de
SUMMARY:Wittenberger Nachtgeschichten
DESCRIPTION:Im Fackelschein begleitet Sie ein historisch gewandeter Stadtführer\, der Ihnen allerlei Interessantes und Unterhaltsames aus dem Wittenberg des 16. Jahrhunderts zu berichten weiß. Vor Wegelagerern und Beutelabschneidern werden Sie von den Wittenberger Wächtern beschützt. \nDauer: 60 Minuten\nTreffpunkt: Tourist-Information Lutherstadt Wittenberg\, Schlossplatz 2\nErwachsene: 12\,00 €\nermäßigt: 10\,00 €\nBeginn: 21.00 Uhr\nTermin: 19.04.2025\, 31.05.2025\, 07.06.2025\, 21.06.2025\, 12.07.2025\, 23.08.2025\, 06.09.2025 und 11.10.2025 \nDie Teilnehmerzahl ist begrenzt. Um Anmeldung wird gebeten unter: Tel. 03491-498610 oder per E-Mail an info@lutherstadt-wittenberg.de \nTipp: Genießen Sie vor der Führung ein thematisch passendes Essen im Restaurant „Niederlassung“. Preis p. P. inkl. Führung und Essen: € 38\,- /€ 36\,- ermäßigt\, Start 19:00 Uhr \nWenn Sie die Kombination aus Führung und Abendessen wünschen\, ist eine vorherige Anmeldung zwingend erforderlich.
URL:https://www.landkreis-wittenberg.de/event/wittenberger-nachtgeschichten/2025-09-06/
LOCATION:Tourist-Information\, Schlossplatz 2\, Lutherstadt Wittenberg\, 06886\, Germany
CATEGORIES:Allgemein,Feste
ATTACH;FMTTYPE=image/jpeg:https://www.landkreis-wittenberg.de/wp-content/uploads/2025/04/1000065012.jpg
ORGANIZER;CN="Tourist-Information Lutherstadt-Wittenberg":MAILTO:info@lutherstadt-wittenberg.de
END:VEVENT
BEGIN:VEVENT
DTSTART;TZID=Europe/Berlin:20250823T210000
DTEND;TZID=Europe/Berlin:20250823T220000
DTSTAMP:20260424T183851
CREATED:20250401T112556Z
LAST-MODIFIED:20250407T072035Z
UID:10000701-1755982800-1755986400@www.landkreis-wittenberg.de
SUMMARY:Wittenberger Nachtgeschichten
DESCRIPTION:Im Fackelschein begleitet Sie ein historisch gewandeter Stadtführer\, der Ihnen allerlei Interessantes und Unterhaltsames aus dem Wittenberg des 16. Jahrhunderts zu berichten weiß. Vor Wegelagerern und Beutelabschneidern werden Sie von den Wittenberger Wächtern beschützt. \nDauer: 60 Minuten\nTreffpunkt: Tourist-Information Lutherstadt Wittenberg\, Schlossplatz 2\nErwachsene: 12\,00 €\nermäßigt: 10\,00 €\nBeginn: 21.00 Uhr\nTermin: 19.04.2025\, 31.05.2025\, 07.06.2025\, 21.06.2025\, 12.07.2025\, 23.08.2025\, 06.09.2025 und 11.10.2025 \nDie Teilnehmerzahl ist begrenzt. Um Anmeldung wird gebeten unter: Tel. 03491-498610 oder per E-Mail an info@lutherstadt-wittenberg.de \nTipp: Genießen Sie vor der Führung ein thematisch passendes Essen im Restaurant „Niederlassung“. Preis p. P. inkl. Führung und Essen: € 38\,- /€ 36\,- ermäßigt\, Start 19:00 Uhr \nWenn Sie die Kombination aus Führung und Abendessen wünschen\, ist eine vorherige Anmeldung zwingend erforderlich.
URL:https://www.landkreis-wittenberg.de/event/wittenberger-nachtgeschichten/2025-08-23/
LOCATION:Tourist-Information\, Schlossplatz 2\, Lutherstadt Wittenberg\, 06886\, Germany
CATEGORIES:Allgemein,Feste
ATTACH;FMTTYPE=image/jpeg:https://www.landkreis-wittenberg.de/wp-content/uploads/2025/04/1000065012.jpg
ORGANIZER;CN="Tourist-Information Lutherstadt-Wittenberg":MAILTO:info@lutherstadt-wittenberg.de
END:VEVENT
BEGIN:VEVENT
DTSTART;TZID=Europe/Berlin:20250712T210000
DTEND;TZID=Europe/Berlin:20250712T220000
DTSTAMP:20260424T183851
CREATED:20250401T112556Z
LAST-MODIFIED:20250407T072035Z
UID:10000700-1752354000-1752357600@www.landkreis-wittenberg.de
SUMMARY:Wittenberger Nachtgeschichten
DESCRIPTION:Im Fackelschein begleitet Sie ein historisch gewandeter Stadtführer\, der Ihnen allerlei Interessantes und Unterhaltsames aus dem Wittenberg des 16. Jahrhunderts zu berichten weiß. Vor Wegelagerern und Beutelabschneidern werden Sie von den Wittenberger Wächtern beschützt. \nDauer: 60 Minuten\nTreffpunkt: Tourist-Information Lutherstadt Wittenberg\, Schlossplatz 2\nErwachsene: 12\,00 €\nermäßigt: 10\,00 €\nBeginn: 21.00 Uhr\nTermin: 19.04.2025\, 31.05.2025\, 07.06.2025\, 21.06.2025\, 12.07.2025\, 23.08.2025\, 06.09.2025 und 11.10.2025 \nDie Teilnehmerzahl ist begrenzt. Um Anmeldung wird gebeten unter: Tel. 03491-498610 oder per E-Mail an info@lutherstadt-wittenberg.de \nTipp: Genießen Sie vor der Führung ein thematisch passendes Essen im Restaurant „Niederlassung“. Preis p. P. inkl. Führung und Essen: € 38\,- /€ 36\,- ermäßigt\, Start 19:00 Uhr \nWenn Sie die Kombination aus Führung und Abendessen wünschen\, ist eine vorherige Anmeldung zwingend erforderlich.
URL:https://www.landkreis-wittenberg.de/event/wittenberger-nachtgeschichten/2025-07-12/
LOCATION:Tourist-Information\, Schlossplatz 2\, Lutherstadt Wittenberg\, 06886\, Germany
CATEGORIES:Allgemein,Feste
ATTACH;FMTTYPE=image/jpeg:https://www.landkreis-wittenberg.de/wp-content/uploads/2025/04/1000065012.jpg
ORGANIZER;CN="Tourist-Information Lutherstadt-Wittenberg":MAILTO:info@lutherstadt-wittenberg.de
END:VEVENT
BEGIN:VEVENT
DTSTART;TZID=Europe/Berlin:20250621T210000
DTEND;TZID=Europe/Berlin:20250621T220000
DTSTAMP:20260424T183851
CREATED:20250401T112556Z
LAST-MODIFIED:20250407T072035Z
UID:10000699-1750539600-1750543200@www.landkreis-wittenberg.de
SUMMARY:Wittenberger Nachtgeschichten
DESCRIPTION:Im Fackelschein begleitet Sie ein historisch gewandeter Stadtführer\, der Ihnen allerlei Interessantes und Unterhaltsames aus dem Wittenberg des 16. Jahrhunderts zu berichten weiß. Vor Wegelagerern und Beutelabschneidern werden Sie von den Wittenberger Wächtern beschützt. \nDauer: 60 Minuten\nTreffpunkt: Tourist-Information Lutherstadt Wittenberg\, Schlossplatz 2\nErwachsene: 12\,00 €\nermäßigt: 10\,00 €\nBeginn: 21.00 Uhr\nTermin: 19.04.2025\, 31.05.2025\, 07.06.2025\, 21.06.2025\, 12.07.2025\, 23.08.2025\, 06.09.2025 und 11.10.2025 \nDie Teilnehmerzahl ist begrenzt. Um Anmeldung wird gebeten unter: Tel. 03491-498610 oder per E-Mail an info@lutherstadt-wittenberg.de \nTipp: Genießen Sie vor der Führung ein thematisch passendes Essen im Restaurant „Niederlassung“. Preis p. P. inkl. Führung und Essen: € 38\,- /€ 36\,- ermäßigt\, Start 19:00 Uhr \nWenn Sie die Kombination aus Führung und Abendessen wünschen\, ist eine vorherige Anmeldung zwingend erforderlich.
URL:https://www.landkreis-wittenberg.de/event/wittenberger-nachtgeschichten/2025-06-21/
LOCATION:Tourist-Information\, Schlossplatz 2\, Lutherstadt Wittenberg\, 06886\, Germany
CATEGORIES:Allgemein,Feste
ATTACH;FMTTYPE=image/jpeg:https://www.landkreis-wittenberg.de/wp-content/uploads/2025/04/1000065012.jpg
ORGANIZER;CN="Tourist-Information Lutherstadt-Wittenberg":MAILTO:info@lutherstadt-wittenberg.de
END:VEVENT
BEGIN:VEVENT
DTSTART;TZID=Europe/Berlin:20250607T210000
DTEND;TZID=Europe/Berlin:20250607T220000
DTSTAMP:20260424T183851
CREATED:20250401T112556Z
LAST-MODIFIED:20250407T072035Z
UID:10000698-1749330000-1749333600@www.landkreis-wittenberg.de
SUMMARY:Wittenberger Nachtgeschichten
DESCRIPTION:Im Fackelschein begleitet Sie ein historisch gewandeter Stadtführer\, der Ihnen allerlei Interessantes und Unterhaltsames aus dem Wittenberg des 16. Jahrhunderts zu berichten weiß. Vor Wegelagerern und Beutelabschneidern werden Sie von den Wittenberger Wächtern beschützt. \nDauer: 60 Minuten\nTreffpunkt: Tourist-Information Lutherstadt Wittenberg\, Schlossplatz 2\nErwachsene: 12\,00 €\nermäßigt: 10\,00 €\nBeginn: 21.00 Uhr\nTermin: 19.04.2025\, 31.05.2025\, 07.06.2025\, 21.06.2025\, 12.07.2025\, 23.08.2025\, 06.09.2025 und 11.10.2025 \nDie Teilnehmerzahl ist begrenzt. Um Anmeldung wird gebeten unter: Tel. 03491-498610 oder per E-Mail an info@lutherstadt-wittenberg.de \nTipp: Genießen Sie vor der Führung ein thematisch passendes Essen im Restaurant „Niederlassung“. Preis p. P. inkl. Führung und Essen: € 38\,- /€ 36\,- ermäßigt\, Start 19:00 Uhr \nWenn Sie die Kombination aus Führung und Abendessen wünschen\, ist eine vorherige Anmeldung zwingend erforderlich.
URL:https://www.landkreis-wittenberg.de/event/wittenberger-nachtgeschichten/2025-06-07/
LOCATION:Tourist-Information\, Schlossplatz 2\, Lutherstadt Wittenberg\, 06886\, Germany
CATEGORIES:Allgemein,Feste
ATTACH;FMTTYPE=image/jpeg:https://www.landkreis-wittenberg.de/wp-content/uploads/2025/04/1000065012.jpg
ORGANIZER;CN="Tourist-Information Lutherstadt-Wittenberg":MAILTO:info@lutherstadt-wittenberg.de
END:VEVENT
BEGIN:VEVENT
DTSTART;TZID=Europe/Berlin:20250531T210000
DTEND;TZID=Europe/Berlin:20250531T220000
DTSTAMP:20260424T183851
CREATED:20250401T112556Z
LAST-MODIFIED:20250407T072035Z
UID:10000697-1748725200-1748728800@www.landkreis-wittenberg.de
SUMMARY:Wittenberger Nachtgeschichten
DESCRIPTION:Im Fackelschein begleitet Sie ein historisch gewandeter Stadtführer\, der Ihnen allerlei Interessantes und Unterhaltsames aus dem Wittenberg des 16. Jahrhunderts zu berichten weiß. Vor Wegelagerern und Beutelabschneidern werden Sie von den Wittenberger Wächtern beschützt. \nDauer: 60 Minuten\nTreffpunkt: Tourist-Information Lutherstadt Wittenberg\, Schlossplatz 2\nErwachsene: 12\,00 €\nermäßigt: 10\,00 €\nBeginn: 21.00 Uhr\nTermin: 19.04.2025\, 31.05.2025\, 07.06.2025\, 21.06.2025\, 12.07.2025\, 23.08.2025\, 06.09.2025 und 11.10.2025 \nDie Teilnehmerzahl ist begrenzt. Um Anmeldung wird gebeten unter: Tel. 03491-498610 oder per E-Mail an info@lutherstadt-wittenberg.de \nTipp: Genießen Sie vor der Führung ein thematisch passendes Essen im Restaurant „Niederlassung“. Preis p. P. inkl. Führung und Essen: € 38\,- /€ 36\,- ermäßigt\, Start 19:00 Uhr \nWenn Sie die Kombination aus Führung und Abendessen wünschen\, ist eine vorherige Anmeldung zwingend erforderlich.
URL:https://www.landkreis-wittenberg.de/event/wittenberger-nachtgeschichten/2025-05-31/
LOCATION:Tourist-Information\, Schlossplatz 2\, Lutherstadt Wittenberg\, 06886\, Germany
CATEGORIES:Allgemein,Feste
ATTACH;FMTTYPE=image/jpeg:https://www.landkreis-wittenberg.de/wp-content/uploads/2025/04/1000065012.jpg
ORGANIZER;CN="Tourist-Information Lutherstadt-Wittenberg":MAILTO:info@lutherstadt-wittenberg.de
END:VEVENT
BEGIN:VEVENT
DTSTART;TZID=Europe/Berlin:20250419T210000
DTEND;TZID=Europe/Berlin:20250419T220000
DTSTAMP:20260424T183851
CREATED:20250401T112556Z
LAST-MODIFIED:20250407T072035Z
UID:10000696-1745096400-1745100000@www.landkreis-wittenberg.de
SUMMARY:Wittenberger Nachtgeschichten
DESCRIPTION:Im Fackelschein begleitet Sie ein historisch gewandeter Stadtführer\, der Ihnen allerlei Interessantes und Unterhaltsames aus dem Wittenberg des 16. Jahrhunderts zu berichten weiß. Vor Wegelagerern und Beutelabschneidern werden Sie von den Wittenberger Wächtern beschützt. \nDauer: 60 Minuten\nTreffpunkt: Tourist-Information Lutherstadt Wittenberg\, Schlossplatz 2\nErwachsene: 12\,00 €\nermäßigt: 10\,00 €\nBeginn: 21.00 Uhr\nTermin: 19.04.2025\, 31.05.2025\, 07.06.2025\, 21.06.2025\, 12.07.2025\, 23.08.2025\, 06.09.2025 und 11.10.2025 \nDie Teilnehmerzahl ist begrenzt. Um Anmeldung wird gebeten unter: Tel. 03491-498610 oder per E-Mail an info@lutherstadt-wittenberg.de \nTipp: Genießen Sie vor der Führung ein thematisch passendes Essen im Restaurant „Niederlassung“. Preis p. P. inkl. Führung und Essen: € 38\,- /€ 36\,- ermäßigt\, Start 19:00 Uhr \nWenn Sie die Kombination aus Führung und Abendessen wünschen\, ist eine vorherige Anmeldung zwingend erforderlich.
URL:https://www.landkreis-wittenberg.de/event/wittenberger-nachtgeschichten/2025-04-19/
LOCATION:Tourist-Information\, Schlossplatz 2\, Lutherstadt Wittenberg\, 06886\, Germany
CATEGORIES:Allgemein,Feste
ATTACH;FMTTYPE=image/jpeg:https://www.landkreis-wittenberg.de/wp-content/uploads/2025/04/1000065012.jpg
ORGANIZER;CN="Tourist-Information Lutherstadt-Wittenberg":MAILTO:info@lutherstadt-wittenberg.de
END:VEVENT
END:VCALENDAR