BEGIN:VCALENDAR
VERSION:2.0
PRODID:-//Landkreis Wittenberg - ECPv6.15.20//NONSGML v1.0//EN
CALSCALE:GREGORIAN
METHOD:PUBLISH
X-ORIGINAL-URL:https://www.landkreis-wittenberg.de
X-WR-CALDESC:Veranstaltungen für Landkreis Wittenberg
REFRESH-INTERVAL;VALUE=DURATION:PT1H
X-Robots-Tag:noindex
X-PUBLISHED-TTL:PT1H
BEGIN:VTIMEZONE
TZID:Europe/Berlin
BEGIN:DAYLIGHT
TZOFFSETFROM:+0100
TZOFFSETTO:+0200
TZNAME:CEST
DTSTART:20250330T010000
END:DAYLIGHT
BEGIN:STANDARD
TZOFFSETFROM:+0200
TZOFFSETTO:+0100
TZNAME:CET
DTSTART:20251026T010000
END:STANDARD
BEGIN:DAYLIGHT
TZOFFSETFROM:+0100
TZOFFSETTO:+0200
TZNAME:CEST
DTSTART:20260329T010000
END:DAYLIGHT
BEGIN:STANDARD
TZOFFSETFROM:+0200
TZOFFSETTO:+0100
TZNAME:CET
DTSTART:20261025T010000
END:STANDARD
BEGIN:DAYLIGHT
TZOFFSETFROM:+0100
TZOFFSETTO:+0200
TZNAME:CEST
DTSTART:20270328T010000
END:DAYLIGHT
BEGIN:STANDARD
TZOFFSETFROM:+0200
TZOFFSETTO:+0100
TZNAME:CET
DTSTART:20271031T010000
END:STANDARD
END:VTIMEZONE
BEGIN:VEVENT
DTSTART;TZID=Europe/Berlin:20260429T183000
DTEND;TZID=Europe/Berlin:20260429T203000
DTSTAMP:20260423T134410
CREATED:20260423T054559Z
LAST-MODIFIED:20260423T054559Z
UID:10001224-1777487400-1777494600@www.landkreis-wittenberg.de
SUMMARY:Themenabend in Wittenberg: Armenien – Land von Schönheit und Not
DESCRIPTION:Armenien – Land von Schönheit und Not: Themenabend in Wittenberg\n\nWittenberg\, April 2026 – Die Stadtkirchengemeinde lädt am Mittwoch\, den 29. April 2026\, um 18:30 Uhr zu einem besonderen Themenabend über Armenien ein. Die Veranstaltung findet im Gemeindehaus Sankt Martin\, Schulstraße 105\, in Wittenberg statt.\nArmenien gilt als eines der ältesten christlichen Länder der Welt und beeindruckt mit einer reichen kulturellen und religiösen Tradition. Gleichzeitig ist das Land von großen sozialen und wirtschaftlichen Herausforderungen geprägt. Insbesondere seit dem Krieg um die Region Bergkarabach hat sich die Lage vieler Menschen weiter verschärft.\nIm Rahmen des Abends berichtet die Entwicklungshilfeorganisation „Open Eyes Armenia“ über die aktuelle Situation vor Ort. Elke und Manfred Seifert\, Leiter der Organisation\, geben gemeinsam mit zwei armenischen Mitarbeiterinnen persönliche Einblicke in das Leben der Menschen. Anhand eindrucksvoller Bilder und bewegender Geschichten zeigen sie Perspektiven von Hoffnung und Neuanfang in schwierigen Zeiten auf.\nDie Stadtkirchengemeinde lädt alle Interessierten herzlich ein\, mehr über Armenien\, seine Menschen und die Herausforderungen des Landes zu erfahren.
URL:https://www.landkreis-wittenberg.de/event/themenabend-in-wittenberg-armenien-land-von-schoenheit-und-not/
LOCATION:Gemeindehaus Sankt Martin\, Schulstraße 105\, Wittenberg\, Sachsen-Anhalt\, 06886\, Germany
CATEGORIES:Allgemein
ATTACH;FMTTYPE=image/jpeg:https://www.landkreis-wittenberg.de/wp-content/uploads/2026/04/AdobeStock_65125319.jpeg
END:VEVENT
BEGIN:VEVENT
DTSTART;TZID=Europe/Berlin:20260502T210000
DTEND;TZID=Europe/Berlin:20260502T210000
DTSTAMP:20260423T134410
CREATED:20260423T060443Z
LAST-MODIFIED:20260423T060443Z
UID:10001225-1777755600-1777755600@www.landkreis-wittenberg.de
SUMMARY:Hiphop und Reggae Party "Heart Beatz No.2"
DESCRIPTION:In Wittenberg wird es wieder heiß: Bei Heart Beatz Vol. 2 erwartet euch eine mitreißende Partynacht voller energiegeladener Sounds und karibischer Vibes. Freut euch auf einen abwechslungsreichen Mix aus Reggae\, Dancehall\, Hip-Hop\, RnB\, Reggaeton\, Soca und Afrobeats. \nAn den Turntables sorgt DJ Luca1777 für die passenden Beats und bringt die Tanzfläche zum Beben. Los geht’s um 21:00 Uhr – perfekte Voraussetzungen für eine lange Nacht. \nNeben der Musik gibt es auch kulinarisch einiges zu entdecken:Ein besonderer Rum Punch mit jamaikanischem Wray & Nephew (63 %) sorgt für echtes Insel-Feeling. Dazu erwarten euch leckere Streetfood-Angebote – auch vegan – sowie frisch gebrühter Espresso. \nEintritt:12 € im Vorverkauf (u. a. im Café Röstbursche\, Markt 17 und bei Fresh Stylez\, Jüdenstr.14 sowie online unter https://luca1777.com/heart-beatz.html)15 € an der Abendkasse \nErlebt eine unvergessliche Nacht mit heißen Rhythmen\, guter Stimmung und besonderen Specials – Heart Beatz Vol. 2 bringt euch den Sound der Karibik direkt nach Wittenberg!
URL:https://www.landkreis-wittenberg.de/event/hiphop-und-reggae-party-heart-beatz-no-2/
LOCATION:Josephine\, Bachstraße 19\, Wittenberg\, 06886
CATEGORIES:Allgemein
ATTACH;FMTTYPE=image/jpeg:https://www.landkreis-wittenberg.de/wp-content/uploads/2026/04/Heart-Beatz-No.2-Horizontal.jpg
END:VEVENT
END:VCALENDAR