BEGIN:VCALENDAR
VERSION:2.0
PRODID:-//Landkreis Wittenberg - ECPv6.15.20//NONSGML v1.0//EN
CALSCALE:GREGORIAN
METHOD:PUBLISH
X-WR-CALNAME:Landkreis Wittenberg
X-ORIGINAL-URL:https://www.landkreis-wittenberg.de
X-WR-CALDESC:Veranstaltungen für Landkreis Wittenberg
REFRESH-INTERVAL;VALUE=DURATION:PT1H
X-Robots-Tag:noindex
X-PUBLISHED-TTL:PT1H
BEGIN:VTIMEZONE
TZID:Europe/Brussels
BEGIN:DAYLIGHT
TZOFFSETFROM:+0100
TZOFFSETTO:+0200
TZNAME:CEST
DTSTART:20250330T010000
END:DAYLIGHT
BEGIN:STANDARD
TZOFFSETFROM:+0200
TZOFFSETTO:+0100
TZNAME:CET
DTSTART:20251026T010000
END:STANDARD
BEGIN:DAYLIGHT
TZOFFSETFROM:+0100
TZOFFSETTO:+0200
TZNAME:CEST
DTSTART:20260329T010000
END:DAYLIGHT
BEGIN:STANDARD
TZOFFSETFROM:+0200
TZOFFSETTO:+0100
TZNAME:CET
DTSTART:20261025T010000
END:STANDARD
BEGIN:DAYLIGHT
TZOFFSETFROM:+0100
TZOFFSETTO:+0200
TZNAME:CEST
DTSTART:20270328T010000
END:DAYLIGHT
BEGIN:STANDARD
TZOFFSETFROM:+0200
TZOFFSETTO:+0100
TZNAME:CET
DTSTART:20271031T010000
END:STANDARD
END:VTIMEZONE
BEGIN:VTIMEZONE
TZID:Europe/Berlin
BEGIN:DAYLIGHT
TZOFFSETFROM:+0100
TZOFFSETTO:+0200
TZNAME:CEST
DTSTART:20250330T010000
END:DAYLIGHT
BEGIN:STANDARD
TZOFFSETFROM:+0200
TZOFFSETTO:+0100
TZNAME:CET
DTSTART:20251026T010000
END:STANDARD
BEGIN:DAYLIGHT
TZOFFSETFROM:+0100
TZOFFSETTO:+0200
TZNAME:CEST
DTSTART:20260329T010000
END:DAYLIGHT
BEGIN:STANDARD
TZOFFSETFROM:+0200
TZOFFSETTO:+0100
TZNAME:CET
DTSTART:20261025T010000
END:STANDARD
BEGIN:DAYLIGHT
TZOFFSETFROM:+0100
TZOFFSETTO:+0200
TZNAME:CEST
DTSTART:20270328T010000
END:DAYLIGHT
BEGIN:STANDARD
TZOFFSETFROM:+0200
TZOFFSETTO:+0100
TZNAME:CET
DTSTART:20271031T010000
END:STANDARD
END:VTIMEZONE
BEGIN:VEVENT
DTSTART;TZID=Europe/Brussels:20260404T210000
DTEND;TZID=Europe/Brussels:20260405T040000
DTSTAMP:20260423T145413
CREATED:20260331T152122Z
LAST-MODIFIED:20260331T152122Z
UID:10001218-1775336400-1775361600@www.landkreis-wittenberg.de
SUMMARY:Heart Beatz – HipHop & Reggae Night im Josephine
DESCRIPTION:Am Samstag\, 4. April 2026\, wird das Josephine zur Bühne für eine lange Clubnacht: DJ LUCA1777 bringt bei „Heart Beatz“ HipHop- und Reggae-Sounds von 21:00 Uhr bis in die frühen Morgenstunden zusammen. \nAuf dem Programm stehen Roots Reggae\, Dancehall und Rubadub aus Jamaika\, kombiniert mit HipHop-Klassikern\, aktuellen Tracks und einer Prise Soca. Das Konzept ist bewusst reduziert: ein DJ\, ein durchgehendes Set\, sieben Stunden Musik ohne Unterbrechung. Dabei entsteht ein fließender Mix\, der verschiedene Stile miteinander verbindet und für eine durchgehende Dynamik auf der Tanzfläche sorgt. \nDer Einlass beginnt um 21:00 Uhr. Der Zutritt ist erst ab 18 Jahren möglich. Tickets sind im Vorverkauf für 12 Euro erhältlich\, an der Abendkasse kostet der Eintritt 15 Euro. Im Preis enthalten ist ein Freigetränk nach Wahl. \nBereits vor dem Club sorgen Burger und Kaffee für einen passenden Einstieg in den Abend. Wer möchte\, kann also gestärkt auf die Tanzfläche starten – und dort bis zum Morgen bleiben. Auch für eine kurze Pause zwischendurch bietet der Außenbereich eine Möglichkeit\, Luft zu holen und neue Energie zu tanken. \n„Heart Beatz“ richtet sich an alle\, die HipHop und Reggae nicht nur hören\, sondern erleben wollen. Die Kombination aus klassischen Tracks und aktuellen Sounds sorgt für Abwechslung\, ohne den roten Faden zu verlieren. So entsteht eine Nacht\, die musikalisch klar ausgerichtet ist und gleichzeitig Raum für spontane Momente auf der Tanzfläche lässt. \nWer früh kommt\, kann sich entspannt eingrooven – wer später dazustößt\, steigt direkt mitten ins Set ein. Das durchgehende DJ-Set sorgt dafür\, dass der Abend ohne Unterbrechung weiterläuft und die Energie konstant bleibt. Damit bietet die Veranstaltung beste Voraussetzungen für alle\, die eine lange Clubnacht planen – mit guter Musik\, klarer Linie und verlässlicher Clubatmosphäre bis in den Morgen hinein.
URL:https://www.landkreis-wittenberg.de/event/heart-beatz-hiphop-reggae-night-im-josephine/
LOCATION:Josefine\, Bachstraße 19\, Lutherstadt Wittenberg\, Sachsen-Anhalt\, 06886\, Germany
END:VEVENT
BEGIN:VEVENT
DTSTART;TZID=Europe/Berlin:20260322T110000
DTEND;TZID=Europe/Berlin:20260322T190000
DTSTAMP:20260423T145413
CREATED:20260313T100243Z
LAST-MODIFIED:20260313T110055Z
UID:10001205-1774177200-1774206000@www.landkreis-wittenberg.de
SUMMARY:Benefizveranstaltung für die Kita "Klettermax"
DESCRIPTION:Am 22. März 2026 um 11:00 Uhr findet im Arthur-Lambert-Stadion in der Lutherstadt Wittenberg der Spendenlauf „Wirklich jeder zählt“ statt. Veranstalter ist Hybrid Titans. \nDie Veranstaltung setzt ein starkes Zeichen für Gemeinschaft\, Bewegung und soziales Engagement in unserer Region. Alle Interessierten sind herzlich eingeladen\, mitzulaufen oder die Aktion zu unterstützen. Rückmeldungen sind direkt an Hybrid Titans zu geben. \nDas Besondere: Jede Runde zählt. Es wird eine Startgebühr in Höhe von 2 Euro erhoben. Die Teilnahme steht allen offen – unabhängig davon\, wie viele Runden gelaufen werden. Jeder Beitrag trägt dazu bei\, den Spendenzweck zum Wiederaufbau der Kita Klettermax zu unterstützen. \nAuch für das leibliche Wohl ist gesorgt: Erfrischungen\, kleine Snacks sowie eine kleine Glücksrad-Tombola sorgen für eine angenehme Atmosphäre rund um die Veranstaltung. \nDas Team der AWO bedankt sich bereits im Voraus herzlich für die Initiative und die Unterstützung aller Beteiligten sowie bei allen\, die durch ihre Teilnahme oder ihr Engagement zum Gelingen dieser Aktion beitragen. \nWeitere Informationen zum Ablauf und zur Teilnahme erhalten Sie im folgenden Video: \nhttps://www.instagram.com/reel/DVjmqUDDVVr/?igsh=aWxhMDQ0MGllcGcz
URL:https://www.landkreis-wittenberg.de/event/benefizveranstaltung-fuer-die-kita-klettermax/
LOCATION:Arthur-Lambert-Stadion in Wittenberg\, Wallstraße 20\, Wittenberg\, 06886
CATEGORIES:Allgemein
END:VEVENT
BEGIN:VEVENT
DTSTART;VALUE=DATE:20260309
DTEND;VALUE=DATE:20260310
DTSTAMP:20260423T145413
CREATED:20260305T070833Z
LAST-MODIFIED:20260305T070833Z
UID:10001185-1773014400-1773100799@www.landkreis-wittenberg.de
SUMMARY:Schließtag Stadtbibliothek Wittenberg
DESCRIPTION:Aufgrund eines Weiterbildungstages bleibt die Stadtbibliothek Wittenberg am Montag\, den 09.03.2026\, geschlossen.
URL:https://www.landkreis-wittenberg.de/event/schliesstag-stadtbibliothek-wittenberg/
CATEGORIES:Allgemein
ATTACH;FMTTYPE=image/jpeg:https://www.landkreis-wittenberg.de/wp-content/uploads/2024/10/Fuehrung-Bibliothek.jpg
END:VEVENT
END:VCALENDAR