BEGIN:VCALENDAR
VERSION:2.0
PRODID:-//Landkreis Wittenberg - ECPv6.15.20//NONSGML v1.0//EN
CALSCALE:GREGORIAN
METHOD:PUBLISH
X-WR-CALNAME:Landkreis Wittenberg
X-ORIGINAL-URL:https://www.landkreis-wittenberg.de
X-WR-CALDESC:Veranstaltungen für Landkreis Wittenberg
REFRESH-INTERVAL;VALUE=DURATION:PT1H
X-Robots-Tag:noindex
X-PUBLISHED-TTL:PT1H
BEGIN:VTIMEZONE
TZID:Europe/Berlin
BEGIN:DAYLIGHT
TZOFFSETFROM:+0100
TZOFFSETTO:+0200
TZNAME:CEST
DTSTART:20230326T010000
END:DAYLIGHT
BEGIN:STANDARD
TZOFFSETFROM:+0200
TZOFFSETTO:+0100
TZNAME:CET
DTSTART:20231029T010000
END:STANDARD
BEGIN:DAYLIGHT
TZOFFSETFROM:+0100
TZOFFSETTO:+0200
TZNAME:CEST
DTSTART:20240331T010000
END:DAYLIGHT
BEGIN:STANDARD
TZOFFSETFROM:+0200
TZOFFSETTO:+0100
TZNAME:CET
DTSTART:20241027T010000
END:STANDARD
BEGIN:DAYLIGHT
TZOFFSETFROM:+0100
TZOFFSETTO:+0200
TZNAME:CEST
DTSTART:20250330T010000
END:DAYLIGHT
BEGIN:STANDARD
TZOFFSETFROM:+0200
TZOFFSETTO:+0100
TZNAME:CET
DTSTART:20251026T010000
END:STANDARD
BEGIN:DAYLIGHT
TZOFFSETFROM:+0100
TZOFFSETTO:+0200
TZNAME:CEST
DTSTART:20260329T010000
END:DAYLIGHT
BEGIN:STANDARD
TZOFFSETFROM:+0200
TZOFFSETTO:+0100
TZNAME:CET
DTSTART:20261025T010000
END:STANDARD
END:VTIMEZONE
BEGIN:VEVENT
DTSTART;TZID=Europe/Berlin:20251227T100000
DTEND;TZID=Europe/Berlin:20251227T140000
DTSTAMP:20260425T152734
CREATED:20251028T143618Z
LAST-MODIFIED:20251029T093601Z
UID:10000928-1766829600-1766844000@www.landkreis-wittenberg.de
SUMMARY:Rückkehrertag 2025
DESCRIPTION:Jobs und Perspektiven im Landkreis Wittenberg\n“Zurück in die Heimat”\, unter diesem Motto veranstaltet der Landkreis Wittenberg mit freundlicher Unterstützung der Agentur für Arbeit Sachsen-Anhalt Ost und der Lutherstadt Wittenberg am 27. Dezember 2025 von 10:00 bis 14:00 Uhr den RÜCKKEHRERTAG. \nDie jährlich stattfindende und etablierte Jobmesse richtet sich an all jene Personen\, die in den letzten Jahren die Region wegen der Arbeit verlassen haben und die zum Weihnachtsfest für ein paar Tage in die Heimat zurückkehren um Familie oder Freunde zu besuchen. Angesprochen sind aber auch Pendlerinnen und Pendler\, die weite Arbeitswege in Kauf nehmen sowie alle anderen interessierten Besucher und Besucherinnen\, die sich beruflich neu orientieren möchten. \nWenn Sie qualifiziertes Fachpersonal für Ihr Unternehmen suchen\, dann laden wir Sie herzlich ein als Aussteller beim Rückkehrertag dabei zu sein. Nutzen Sie die Möglichkeit und präsentieren Sie Ihr Unternehmen\, Ihre offenen Stellen sowie Ihre potentiellen Ausbildungsplätze im ARSENAL Wittenberg (1. OG.). Zusätzlich leiten wir über die Seite www.zurueck-in-die-heimat.de auf die Karriereseiten mit den vakanten Stellenangeboten der teilnehmenden Unternehmen. \nWir freuen uns\, Sie zum Rückkehrertag 2025 des Landkreises Wittenberg zu begrüßen und nehmen Ihre verbindliche Anmeldung bis spätestens 03.11.2025 entgegen. Dafür benutzen Sie bitte das Onlineformular unter: https://www.zurueck-in-die-heimat.de/standbuchung. \nIhre Ansprechpartnerin:\nFrau Krassimira Kranz\nStabsstelle Wirtschaft Landkreis Wittenberg\nTel.: +49 (0) 3491 8061023
URL:https://www.landkreis-wittenberg.de/event/rueckkehrertag-2025/
LOCATION:Arsenal Wittenberg\, Arsenalplatz 1\, Lutherstadt Wittenberg\, 06886\, Germany
CATEGORIES:Wirtschaftsförderung
ATTACH;FMTTYPE=image/jpeg:https://www.landkreis-wittenberg.de/wp-content/uploads/2025/10/Rueckkehrertag-2025_web.jpg
END:VEVENT
BEGIN:VEVENT
DTSTART;TZID=Europe/Berlin:20251206T092500
DTEND;TZID=Europe/Berlin:20251206T204900
DTSTAMP:20260425T152734
CREATED:20251020T133124Z
LAST-MODIFIED:20251020T133124Z
UID:10000925-1765013100-1765054140@www.landkreis-wittenberg.de
SUMMARY:Sonderfahrt am 29.11. und 06.12.2025 zum Weihnachtsmarkt in Erfurt
DESCRIPTION:Sonderfahrt am 29.11. und 06.12. 2025\nLu.-Wittenberg / Magdeburg – Güsten – Sangerhausen – Erfurt \nAm 1. Adventswochenende eröffnet der überregional bekannte Weihnachtsmarkt in der Thüringer Landeshauptstadt Erfurt.\nDer Erfurter Weihnachtsmarkt gehört zu den schönsten Weihnachtsmärkten Deutschlands Die Altstadt Erfurts um den Domplatz sind eine Kulisse für eine stimmungsvolle Vorweihnachtszeit. Traditionelles Handwerk und Spezialitäten sind ebenso zu finden wie eine riesige\, kerzengeschmückte Weihnachtstanne\, sowie viele Geschäfte nach Schaustellerart. Die gesamte Innenstadt liegt im Lichterglanz.\nBemerkenswert ist die ca. 25 Meter hohe\, festlich beleuchtete Weihnachtstanne und die 12 Meter hohe Weihnachtspyramide.\nBesonders an den Adventswochenenden wird ein reiches Veranstaltungsprogramm geboten. \nDamit die Besucher auch eine besondere Anreise zum Weihnachtsmarkt haben\, führen die Vereine Eisenbahnfreunde Traditions-Bahnbetriebswerk Staßfurt e.V. und Förderverein Berlin-Anhaltische Eisenbahn e.V\, Sonderfahren auf den Strecken Lu.-Wittenberg -Erfurt und Magdeburg – Erfurt über Güsten\, Sangerhausen durch. \nAm 29. November verkehrt der Zug von Lu.-Wittenberg über Dessau – Köthen – Güsten – Sangerhausen nach Erfurt.\nAm 06. Dezember verkehrt der Zug von Magdeburg über Staßfurt – Güsten – Sangerhausen nach Erfurt. \nZum Einsatz gelangt am 29.11. die Museumslokomotive V 100 003\, welche vom Förderverein Berlin-Anhaltische Eisenbahn e.V. betreut wird\, technisches Denkmal des Landes Sachsen-Anhalt ist und der Museumszug der Eisenbahnfreunde Traditions-Bahnbetriebswerk Staßfurt e.V. Zusätzlich ist am 06.12. eine Bespannung mit einer Dampflokomotive geplant. \nVorverkauf und Buchung: www.lokschuppen-stassfurt.de/sonderfahrten \nKauf einer Fahrkarte im Zug: Zuschlag 2\,00 € für einfache Fahrt\, 3\,00 € für Hin- + Rückfahrt\nEin Anspruch auf Sitzplatz besteht nicht. Andere Fahrvergünstigungen können nicht anerkannt werden. Änderungen und Ergänzungen\, besonders zum Fahrplan vorbehalten.\nAktualisierte Fahrpläne sind im Internet und in Aushängen auf den Haltebahnhöfen zu finden. \nWeitere Informationen auf:\nwww.lokschuppen-stassfurt.de\nwww.eisenbahnverein-wittenberg.de \n 
URL:https://www.landkreis-wittenberg.de/event/sonderfahrt-am-29-11-und-06-12-2025-zum-weihnachtsmarkt-in-erfurt/2025-12-06/
LOCATION:Sachsen-Anhalt
CATEGORIES:Allgemein,Feste
ATTACH;FMTTYPE=image/jpeg:https://www.landkreis-wittenberg.de/wp-content/uploads/2025/10/Fahrplan.jpg
END:VEVENT
BEGIN:VEVENT
DTSTART;TZID=Europe/Berlin:20251205T150000
DTEND;TZID=Europe/Berlin:20251205T180000
DTSTAMP:20260425T152734
CREATED:20251127T062553Z
LAST-MODIFIED:20251127T062553Z
UID:10001077-1764946800-1764957600@www.landkreis-wittenberg.de
SUMMARY:Weihnachtsmarkt im Schlosshof Pretzsch
DESCRIPTION:Vielseitiges Programm vor dem Nikolaustag \nPretzsch. Im Salus-Kinder- und Jugendheim Pretzsch findet am Freitag\, dem 5. Dezember 2025\, von 15 bis 18 Uhr ein kleiner Weihnachtsmarkt statt. Dazu laden die Kinder\, Jugendlichen und Mitarbeitenden herzlich auf den Schlosshof ein.  \nDie Gäste erwartet ein vielseitiges Programm mit vorweihnachtlichem Markttreiben\, Musik und kulinarischen Überraschungen. An den Ständen werden beispielsweise handgefertigte Bastelarbeiten der Kinder und Jugendlichen aus Holz\, Wolle und anderen kreativen Materialien angeboten\, außerdem kann man bei einer Tombola sein Glück versuchen. Herzhafte Würstchen vom Grill sind im Schlosshof ebenso zu genießen wie Waffeln\, Muffins\, schokolierte Früchte und andere Köstlichkeiten. Eine Akkordeongruppe aus der Musikschule Fröhlich Wittenberg wird die Gäste mit ihren stimmungsvollen Klängen erfreuen. Auch der Weihnachtsmann hat sich angekündigt\, um die Kinder mit süßen Gaben zu bescheren. Als Überraschung ist dann gegen 17 Uhr noch ein besonderes künstlerisches Highlight zu erwarten. \nVeranstaltet wird das vorweihnachtliche Event durch den Salus-Verbund am Standort Pretzsch in Zusammenarbeit mit regionalen Partnern
URL:https://www.landkreis-wittenberg.de/event/weihnachtsmarkt-im-schlosshof-pretzsch/
LOCATION:Schlosshof Pretzsch\, Schloßbezirk 1\, Bad Schmiedeberg\, Sachsen-Anhalt\, 06909\, Germany
CATEGORIES:Allgemein,Feste,Weihnachtsmarkt
ATTACH;FMTTYPE=image/jpeg:https://www.landkreis-wittenberg.de/wp-content/uploads/2025/11/Weihnachtsmarkt_Schlosshof_Pretzsch.jpg
END:VEVENT
BEGIN:VEVENT
DTSTART;TZID=Europe/Berlin:20251129T085800
DTEND;TZID=Europe/Berlin:20251129T211400
DTSTAMP:20260425T152734
CREATED:20251020T133124Z
LAST-MODIFIED:20251020T133124Z
UID:10000924-1764406680-1764450840@www.landkreis-wittenberg.de
SUMMARY:Sonderfahrt am 29.11. und 06.12.2025 zum Weihnachtsmarkt in Erfurt
DESCRIPTION:Sonderfahrt am 29.11. und 06.12. 2025\nLu.-Wittenberg / Magdeburg – Güsten – Sangerhausen – Erfurt \nAm 1. Adventswochenende eröffnet der überregional bekannte Weihnachtsmarkt in der Thüringer Landeshauptstadt Erfurt.\nDer Erfurter Weihnachtsmarkt gehört zu den schönsten Weihnachtsmärkten Deutschlands Die Altstadt Erfurts um den Domplatz sind eine Kulisse für eine stimmungsvolle Vorweihnachtszeit. Traditionelles Handwerk und Spezialitäten sind ebenso zu finden wie eine riesige\, kerzengeschmückte Weihnachtstanne\, sowie viele Geschäfte nach Schaustellerart. Die gesamte Innenstadt liegt im Lichterglanz.\nBemerkenswert ist die ca. 25 Meter hohe\, festlich beleuchtete Weihnachtstanne und die 12 Meter hohe Weihnachtspyramide.\nBesonders an den Adventswochenenden wird ein reiches Veranstaltungsprogramm geboten. \nDamit die Besucher auch eine besondere Anreise zum Weihnachtsmarkt haben\, führen die Vereine Eisenbahnfreunde Traditions-Bahnbetriebswerk Staßfurt e.V. und Förderverein Berlin-Anhaltische Eisenbahn e.V\, Sonderfahren auf den Strecken Lu.-Wittenberg -Erfurt und Magdeburg – Erfurt über Güsten\, Sangerhausen durch. \nAm 29. November verkehrt der Zug von Lu.-Wittenberg über Dessau – Köthen – Güsten – Sangerhausen nach Erfurt.\nAm 06. Dezember verkehrt der Zug von Magdeburg über Staßfurt – Güsten – Sangerhausen nach Erfurt. \nZum Einsatz gelangt am 29.11. die Museumslokomotive V 100 003\, welche vom Förderverein Berlin-Anhaltische Eisenbahn e.V. betreut wird\, technisches Denkmal des Landes Sachsen-Anhalt ist und der Museumszug der Eisenbahnfreunde Traditions-Bahnbetriebswerk Staßfurt e.V. Zusätzlich ist am 06.12. eine Bespannung mit einer Dampflokomotive geplant. \nVorverkauf und Buchung: www.lokschuppen-stassfurt.de/sonderfahrten \nKauf einer Fahrkarte im Zug: Zuschlag 2\,00 € für einfache Fahrt\, 3\,00 € für Hin- + Rückfahrt\nEin Anspruch auf Sitzplatz besteht nicht. Andere Fahrvergünstigungen können nicht anerkannt werden. Änderungen und Ergänzungen\, besonders zum Fahrplan vorbehalten.\nAktualisierte Fahrpläne sind im Internet und in Aushängen auf den Haltebahnhöfen zu finden. \nWeitere Informationen auf:\nwww.lokschuppen-stassfurt.de\nwww.eisenbahnverein-wittenberg.de \n 
URL:https://www.landkreis-wittenberg.de/event/sonderfahrt-am-29-11-und-06-12-2025-zum-weihnachtsmarkt-in-erfurt/2025-11-29/
LOCATION:Sachsen-Anhalt
CATEGORIES:Allgemein,Feste
ATTACH;FMTTYPE=image/jpeg:https://www.landkreis-wittenberg.de/wp-content/uploads/2025/10/Fahrplan.jpg
END:VEVENT
BEGIN:VEVENT
DTSTART;TZID=Europe/Berlin:20241208T130000
DTEND;TZID=Europe/Berlin:20241208T180000
DTSTAMP:20260425T152734
CREATED:20231127T080006Z
LAST-MODIFIED:20241113T090557Z
UID:10000591-1733662800-1733680800@www.landkreis-wittenberg.de
SUMMARY:Weihnachtsmarkt der Vereine
DESCRIPTION:Öffnungszeiten \n06.12. I 16:00-20:00 Uhr \n07.12. I 13:00-20:00 Uhr \n08.12. I 13:00-18:00 Uhr \nOrt\nKirchplatz der Stadtkirche St. Marien\n06886 Lutherstadt Wittenberg
URL:https://www.landkreis-wittenberg.de/event/weihnachtsmarkt-der-vereine/2024-12-08/
LOCATION:Weihnachtsmarkt der Vereine\, Kirchplatz der Stadtkirche St. Marien\, Lutherstadt Wittenberg\, 06886\, Germany
CATEGORIES:Weihnachtsmarkt
ATTACH;FMTTYPE=image/jpeg:https://www.landkreis-wittenberg.de/wp-content/uploads/2023/12/Weihnachtsmarkt-Baumbach.jpg
END:VEVENT
BEGIN:VEVENT
DTSTART;TZID=Europe/Berlin:20241208T120000
DTEND;TZID=Europe/Berlin:20241209T190000
DTSTAMP:20260425T152734
CREATED:20231129T142053Z
LAST-MODIFIED:20241113T101340Z
UID:10000595-1733659200-1733770800@www.landkreis-wittenberg.de
SUMMARY:Möllensdorfer Wald-Weihnachtsmarkt
DESCRIPTION:Öffnungszeiten\nan den Adventswochenenden\nJeden Samstag und Sonntag: 12.00 – 19.00 Uhr \nOrt\nZum Sägewerk 6\n06869 Coswig (Anhalt) OT Möllensdorf
URL:https://www.landkreis-wittenberg.de/event/moellensdorfer-wald-weihnachtsmarkt/2024-12-08/
LOCATION:Möllensdorfer Wald-Weihnachtsmarkt\, Zum Sägewerk 6\, Coswig (Anhalt) OT Möllensdorf\, 06869\, Germany
CATEGORIES:Weihnachtsmarkt
ATTACH;FMTTYPE=image/jpeg:https://www.landkreis-wittenberg.de/wp-content/uploads/2023/11/moellensdorfer-weihnachtsmarkt.jpg
END:VEVENT
BEGIN:VEVENT
DTSTART;TZID=Europe/Berlin:20241207T140000
DTEND;TZID=Europe/Berlin:20241208T190000
DTSTAMP:20260425T152734
CREATED:20241113T104056Z
LAST-MODIFIED:20241113T104056Z
UID:10000597-1733580000-1733684400@www.landkreis-wittenberg.de
SUMMARY:Familienweihnacht Gräfenhainichen
DESCRIPTION:Auf dem Marktplatz \n\nbarrierefrei
URL:https://www.landkreis-wittenberg.de/event/familienweihnacht-graefenhainichen/
LOCATION:Marktplatz Gräfenhainichen\, Marktplatz\, Gräfenhainichen\, 06773
CATEGORIES:Weihnachtsmarkt
END:VEVENT
BEGIN:VEVENT
DTSTART;TZID=Europe/Berlin:20241207T140000
DTEND;TZID=Europe/Berlin:20241207T180000
DTSTAMP:20260425T152734
CREATED:20231129T142433Z
LAST-MODIFIED:20241113T104448Z
UID:10000274-1733580000-1733594400@www.landkreis-wittenberg.de
SUMMARY:Weihnachtsmarkt Kemberg
DESCRIPTION:Weihnachtsmarkt rund um die Kirche \n 
URL:https://www.landkreis-wittenberg.de/event/weihnachtsmarkt-kemberg/
LOCATION:Weihnachtsmarkt Kemberg\, Markt\, Kemberg\, 06901
CATEGORIES:Weihnachtsmarkt
END:VEVENT
BEGIN:VEVENT
DTSTART;TZID=Europe/Berlin:20241207T130000
DTEND;TZID=Europe/Berlin:20241207T200000
DTSTAMP:20260425T152734
CREATED:20231127T080006Z
LAST-MODIFIED:20241113T090557Z
UID:10000590-1733576400-1733601600@www.landkreis-wittenberg.de
SUMMARY:Weihnachtsmarkt der Vereine
DESCRIPTION:Öffnungszeiten \n06.12. I 16:00-20:00 Uhr \n07.12. I 13:00-20:00 Uhr \n08.12. I 13:00-18:00 Uhr \nOrt\nKirchplatz der Stadtkirche St. Marien\n06886 Lutherstadt Wittenberg
URL:https://www.landkreis-wittenberg.de/event/weihnachtsmarkt-der-vereine/2024-12-07/
LOCATION:Weihnachtsmarkt der Vereine\, Kirchplatz der Stadtkirche St. Marien\, Lutherstadt Wittenberg\, 06886\, Germany
CATEGORIES:Weihnachtsmarkt
ATTACH;FMTTYPE=image/jpeg:https://www.landkreis-wittenberg.de/wp-content/uploads/2023/12/Weihnachtsmarkt-Baumbach.jpg
END:VEVENT
BEGIN:VEVENT
DTSTART;TZID=Europe/Berlin:20241207T120000
DTEND;TZID=Europe/Berlin:20241208T190000
DTSTAMP:20260425T152734
CREATED:20231129T142053Z
LAST-MODIFIED:20241113T101340Z
UID:10000594-1733572800-1733684400@www.landkreis-wittenberg.de
SUMMARY:Möllensdorfer Wald-Weihnachtsmarkt
DESCRIPTION:Öffnungszeiten\nan den Adventswochenenden\nJeden Samstag und Sonntag: 12.00 – 19.00 Uhr \nOrt\nZum Sägewerk 6\n06869 Coswig (Anhalt) OT Möllensdorf
URL:https://www.landkreis-wittenberg.de/event/moellensdorfer-wald-weihnachtsmarkt/2024-12-07/
LOCATION:Möllensdorfer Wald-Weihnachtsmarkt\, Zum Sägewerk 6\, Coswig (Anhalt) OT Möllensdorf\, 06869\, Germany
CATEGORIES:Weihnachtsmarkt
ATTACH;FMTTYPE=image/jpeg:https://www.landkreis-wittenberg.de/wp-content/uploads/2023/11/moellensdorfer-weihnachtsmarkt.jpg
END:VEVENT
BEGIN:VEVENT
DTSTART;TZID=Europe/Berlin:20241206T160000
DTEND;TZID=Europe/Berlin:20241206T200000
DTSTAMP:20260425T152734
CREATED:20231127T080006Z
LAST-MODIFIED:20241113T090557Z
UID:10000589-1733500800-1733515200@www.landkreis-wittenberg.de
SUMMARY:Weihnachtsmarkt der Vereine
DESCRIPTION:Öffnungszeiten \n06.12. I 16:00-20:00 Uhr \n07.12. I 13:00-20:00 Uhr \n08.12. I 13:00-18:00 Uhr \nOrt\nKirchplatz der Stadtkirche St. Marien\n06886 Lutherstadt Wittenberg
URL:https://www.landkreis-wittenberg.de/event/weihnachtsmarkt-der-vereine/2024-12-06/
LOCATION:Weihnachtsmarkt der Vereine\, Kirchplatz der Stadtkirche St. Marien\, Lutherstadt Wittenberg\, 06886\, Germany
CATEGORIES:Weihnachtsmarkt
ATTACH;FMTTYPE=image/jpeg:https://www.landkreis-wittenberg.de/wp-content/uploads/2023/12/Weihnachtsmarkt-Baumbach.jpg
END:VEVENT
BEGIN:VEVENT
DTSTART;TZID=Europe/Berlin:20241206T150000
DTEND;TZID=Europe/Berlin:20241206T180000
DTSTAMP:20260425T152734
CREATED:20241204T084546Z
LAST-MODIFIED:20241204T084546Z
UID:10000605-1733497200-1733508000@www.landkreis-wittenberg.de
SUMMARY:Weihnachtszauber in Pretzsch
DESCRIPTION:Einladung zum kleinen Weihnachtsmarkt und traditionellem Weihnachtsspiel\nAm Freitag\, dem 6. Dezember 2024\, laden die Kinder\, Jugendlichen und Mitarbeitenden des Salus-Kinder- und Jugendheims Pretzsch herzlich zu einem kleinen\, stimmungsvollen Weihnachtsmarkt auf den Schlosshof ein. Von 15 bis 18 Uhr erwartet die Gäste ein buntes Programm\, das die Vorfreude auf die Weihnachtszeit weckt. \nFreuen Sie sich auf ein vorweihnachtliches Markttreiben mit handgefertigten Produkten aus Holz und Wolle\, eine Tombola mit tollen Gewinnen sowie kulinarische Leckereien wie herzhafte Würstchen vom Grill\, Waffeln\, Muffins und gebrannte Mandeln. Musikalisch wird der Nachmittag von jungen Künstler*innen der Musikschule Wittenberg begleitet\, die mit stimmungsvollen Klängen begeistern. Ein Highlight für die Kleinen: Der Weihnachtsmann kommt persönlich vorbei und überrascht die Kinder mit süßen Geschenken zum Nikolaustag. \nDer Weihnachtsmarkt wird vom Salus-Verbund am Standort Pretzsch in Zusammenarbeit mit regionalen Partnern organisiert. \nMerken Sie sich auch den Heiligabend vor: \nAm 24. Dezember 2024 findet im Bürgerhaus Pretzsch das traditionelle Weihnachtsspiel statt. Um 15:30 Uhr wird das Märchen „Herr Holle rettet den Winter“ aufgeführt. Eine Anmeldung ist nicht erforderlich\, der Eintritt ist frei – eine wunderbare Gelegenheit\, den Heiligabend mit Familie und Freunden zu genießen. \n 
URL:https://www.landkreis-wittenberg.de/event/weihnachtszauber-in-pretzsch/
LOCATION:Schlosshof Pretzsch\, Schloßbezirk 1\, Bad Schmiedeberg\, Sachsen-Anhalt\, 06909\, Germany
CATEGORIES:Weihnachtsmarkt
ATTACH;FMTTYPE=image/jpeg:https://www.landkreis-wittenberg.de/wp-content/uploads/2024/12/Weihnachtsmarkt-Plakat_FIN.jpg
END:VEVENT
BEGIN:VEVENT
DTSTART;TZID=Europe/Berlin:20241201T120000
DTEND;TZID=Europe/Berlin:20241202T190000
DTSTAMP:20260425T152734
CREATED:20231129T142053Z
LAST-MODIFIED:20241113T101340Z
UID:10000593-1733054400-1733166000@www.landkreis-wittenberg.de
SUMMARY:Möllensdorfer Wald-Weihnachtsmarkt
DESCRIPTION:Öffnungszeiten\nan den Adventswochenenden\nJeden Samstag und Sonntag: 12.00 – 19.00 Uhr \nOrt\nZum Sägewerk 6\n06869 Coswig (Anhalt) OT Möllensdorf
URL:https://www.landkreis-wittenberg.de/event/moellensdorfer-wald-weihnachtsmarkt/2024-12-01/
LOCATION:Möllensdorfer Wald-Weihnachtsmarkt\, Zum Sägewerk 6\, Coswig (Anhalt) OT Möllensdorf\, 06869\, Germany
CATEGORIES:Weihnachtsmarkt
ATTACH;FMTTYPE=image/jpeg:https://www.landkreis-wittenberg.de/wp-content/uploads/2023/11/moellensdorfer-weihnachtsmarkt.jpg
END:VEVENT
BEGIN:VEVENT
DTSTART;TZID=Europe/Berlin:20241201T110000
DTEND;TZID=Europe/Berlin:20241201T190000
DTSTAMP:20260425T152734
CREATED:20241120T095717Z
LAST-MODIFIED:20241120T095717Z
UID:10000601-1733050800-1733079600@www.landkreis-wittenberg.de
SUMMARY:Erster Advent in Wörlitz
DESCRIPTION:Seit vielen Jahren ist er Tradition: der Wörlitzer Adventsmarkt. \nGenießen Sie die herzliche Atmosphäre\, schlendern Sie über den Markt\, lauschen Sie der hausgemachten Musik und versüßen Sie sich den ersten Advent mit allerlei Leckerbissen.
URL:https://www.landkreis-wittenberg.de/event/erster-advent-in-woerlitz/2024-12-01/
LOCATION:Parkstadt Wörlitz\, Kirchgasse\, Wörlitz\, 06768\, Germany
CATEGORIES:Allgemein,Weihnachtsmarkt
ATTACH;FMTTYPE=image/jpeg:https://www.landkreis-wittenberg.de/wp-content/uploads/2024/11/Weihnachtsmarkt.jpg
END:VEVENT
BEGIN:VEVENT
DTSTART;TZID=Europe/Berlin:20241201T110000
DTEND;TZID=Europe/Berlin:20241201T190000
DTSTAMP:20260425T152734
CREATED:20241113T072644Z
LAST-MODIFIED:20241113T085502Z
UID:10000588-1733050800-1733079600@www.landkreis-wittenberg.de
SUMMARY:Markt der schönen Dinge
DESCRIPTION:Öffnungszeiten: \n29.11. I 15:00-20:00 Uhr \n30.11. I 11:00-20:00 Uhr \n01.12. I 11:00-19:00 Uhr \nOrt:\nCranach-Höfe\nSchlosstraße 1\n06886 Lutherstadt Wittenberg
URL:https://www.landkreis-wittenberg.de/event/markt-der-schoenen-dinge/2024-12-01/
LOCATION:Cranach-Höfe\, Schlosstraße 1\, Lutherstadt Wittenberg\, 06886\, Germany
CATEGORIES:Feste,Weihnachtsmarkt
END:VEVENT
BEGIN:VEVENT
DTSTART;TZID=Europe/Berlin:20241130T160000
DTEND;TZID=Europe/Berlin:20241130T200000
DTSTAMP:20260425T152734
CREATED:20241113T103415Z
LAST-MODIFIED:20241113T103415Z
UID:10000596-1732982400-1732996800@www.landkreis-wittenberg.de
SUMMARY:Winterfeuer
DESCRIPTION:Ort: Freilichtbühne\, Schloßstraße 27\, Gräfenhainichen \nEs gibt Knüppelteig mit leckerem Dipp\, Bratwurst\, Glühwein und Kinderpunsch – das alles kostenfrei und mit schöner Musik aus der Dose. Natürlich freuen wir uns über Spenden.
URL:https://www.landkreis-wittenberg.de/event/winterfeuer/
LOCATION:Freilichtbühne Gräfenhainichen\, Schloßstraße 27\, Gräfenhainichen\, Germany
CATEGORIES:Weihnachtsmarkt
END:VEVENT
BEGIN:VEVENT
DTSTART;TZID=Europe/Berlin:20241130T120000
DTEND;TZID=Europe/Berlin:20241201T190000
DTSTAMP:20260425T152734
CREATED:20231129T142053Z
LAST-MODIFIED:20241113T101340Z
UID:10000592-1732968000-1733079600@www.landkreis-wittenberg.de
SUMMARY:Möllensdorfer Wald-Weihnachtsmarkt
DESCRIPTION:Öffnungszeiten\nan den Adventswochenenden\nJeden Samstag und Sonntag: 12.00 – 19.00 Uhr \nOrt\nZum Sägewerk 6\n06869 Coswig (Anhalt) OT Möllensdorf
URL:https://www.landkreis-wittenberg.de/event/moellensdorfer-wald-weihnachtsmarkt/2024-11-30/
LOCATION:Möllensdorfer Wald-Weihnachtsmarkt\, Zum Sägewerk 6\, Coswig (Anhalt) OT Möllensdorf\, 06869\, Germany
CATEGORIES:Weihnachtsmarkt
ATTACH;FMTTYPE=image/jpeg:https://www.landkreis-wittenberg.de/wp-content/uploads/2023/11/moellensdorfer-weihnachtsmarkt.jpg
END:VEVENT
BEGIN:VEVENT
DTSTART;TZID=Europe/Berlin:20241130T110000
DTEND;TZID=Europe/Berlin:20241130T200000
DTSTAMP:20260425T152734
CREATED:20241113T072644Z
LAST-MODIFIED:20241113T085502Z
UID:10000587-1732964400-1732996800@www.landkreis-wittenberg.de
SUMMARY:Markt der schönen Dinge
DESCRIPTION:Öffnungszeiten: \n29.11. I 15:00-20:00 Uhr \n30.11. I 11:00-20:00 Uhr \n01.12. I 11:00-19:00 Uhr \nOrt:\nCranach-Höfe\nSchlosstraße 1\n06886 Lutherstadt Wittenberg
URL:https://www.landkreis-wittenberg.de/event/markt-der-schoenen-dinge/2024-11-30/
LOCATION:Cranach-Höfe\, Schlosstraße 1\, Lutherstadt Wittenberg\, 06886\, Germany
CATEGORIES:Feste,Weihnachtsmarkt
END:VEVENT
BEGIN:VEVENT
DTSTART;TZID=Europe/Berlin:20241130T110000
DTEND;TZID=Europe/Berlin:20241130T190000
DTSTAMP:20260425T152734
CREATED:20241120T095717Z
LAST-MODIFIED:20241120T095717Z
UID:10000600-1732964400-1732993200@www.landkreis-wittenberg.de
SUMMARY:Erster Advent in Wörlitz
DESCRIPTION:Seit vielen Jahren ist er Tradition: der Wörlitzer Adventsmarkt. \nGenießen Sie die herzliche Atmosphäre\, schlendern Sie über den Markt\, lauschen Sie der hausgemachten Musik und versüßen Sie sich den ersten Advent mit allerlei Leckerbissen.
URL:https://www.landkreis-wittenberg.de/event/erster-advent-in-woerlitz/2024-11-30/
LOCATION:Parkstadt Wörlitz\, Kirchgasse\, Wörlitz\, 06768\, Germany
CATEGORIES:Allgemein,Weihnachtsmarkt
ATTACH;FMTTYPE=image/jpeg:https://www.landkreis-wittenberg.de/wp-content/uploads/2024/11/Weihnachtsmarkt.jpg
END:VEVENT
BEGIN:VEVENT
DTSTART;TZID=Europe/Berlin:20241129T150000
DTEND;TZID=Europe/Berlin:20241129T200000
DTSTAMP:20260425T152734
CREATED:20241113T072644Z
LAST-MODIFIED:20241113T085502Z
UID:10000586-1732892400-1732910400@www.landkreis-wittenberg.de
SUMMARY:Markt der schönen Dinge
DESCRIPTION:Öffnungszeiten: \n29.11. I 15:00-20:00 Uhr \n30.11. I 11:00-20:00 Uhr \n01.12. I 11:00-19:00 Uhr \nOrt:\nCranach-Höfe\nSchlosstraße 1\n06886 Lutherstadt Wittenberg
URL:https://www.landkreis-wittenberg.de/event/markt-der-schoenen-dinge/2024-11-29/
LOCATION:Cranach-Höfe\, Schlosstraße 1\, Lutherstadt Wittenberg\, 06886\, Germany
CATEGORIES:Feste,Weihnachtsmarkt
END:VEVENT
BEGIN:VEVENT
DTSTART;TZID=Europe/Berlin:20241129T150000
DTEND;TZID=Europe/Berlin:20241129T190000
DTSTAMP:20260425T152734
CREATED:20241120T095717Z
LAST-MODIFIED:20241120T095717Z
UID:10000599-1732892400-1732906800@www.landkreis-wittenberg.de
SUMMARY:Erster Advent in Wörlitz
DESCRIPTION:Seit vielen Jahren ist er Tradition: der Wörlitzer Adventsmarkt. \nGenießen Sie die herzliche Atmosphäre\, schlendern Sie über den Markt\, lauschen Sie der hausgemachten Musik und versüßen Sie sich den ersten Advent mit allerlei Leckerbissen.
URL:https://www.landkreis-wittenberg.de/event/erster-advent-in-woerlitz/2024-11-29/
LOCATION:Parkstadt Wörlitz\, Kirchgasse\, Wörlitz\, 06768\, Germany
CATEGORIES:Allgemein,Weihnachtsmarkt
ATTACH;FMTTYPE=image/jpeg:https://www.landkreis-wittenberg.de/wp-content/uploads/2024/11/Weihnachtsmarkt.jpg
END:VEVENT
BEGIN:VEVENT
DTSTART;TZID=Europe/Berlin:20241125T110000
DTEND;TZID=Europe/Berlin:20241229T200000
DTSTAMP:20260425T152734
CREATED:20231127T074757Z
LAST-MODIFIED:20241113T071907Z
UID:10000263-1732532400-1735502400@www.landkreis-wittenberg.de
SUMMARY:Wittenberger Weihnachtsmarkt
DESCRIPTION:Öffnungszeiten: \n25. November bis 29. Dezember 2024\nam 24. & 25.12. geschlossen \nDer Weihnachtsmarkt ist täglich von 11:00 Uhr bis 20:00 Uhr\, Gastronomie bis 21:00 Uhr geöffnet.
URL:https://www.landkreis-wittenberg.de/event/wittenberger-weihnachtsmarkt/
LOCATION:Wittenberger Marktplatz\, Marktplatz\, Lutherstadt Wittenberg\, 06886\, Germany
CATEGORIES:Weihnachtsmarkt
ATTACH;FMTTYPE=image/jpeg:https://www.landkreis-wittenberg.de/wp-content/uploads/2023/11/Weihnachtsmarkt-Wittenberg.jpg
END:VEVENT
BEGIN:VEVENT
DTSTART;TZID=Europe/Berlin:20241113T000000
DTEND;TZID=Europe/Berlin:20241113T000000
DTSTAMP:20260425T152734
CREATED:20241113T104549Z
LAST-MODIFIED:20241113T104557Z
UID:10000598-1731456000-1731456000@www.landkreis-wittenberg.de
SUMMARY:Hohenlubaster Weihnachtsmarkt
DESCRIPTION:
URL:https://www.landkreis-wittenberg.de/event/hohenlubaster-weihnachtsmarkt/
LOCATION:Sachsen-Anhalt
END:VEVENT
END:VCALENDAR