BEGIN:VCALENDAR
VERSION:2.0
PRODID:-//Landkreis Wittenberg - ECPv6.15.20//NONSGML v1.0//EN
CALSCALE:GREGORIAN
METHOD:PUBLISH
X-WR-CALNAME:Landkreis Wittenberg
X-ORIGINAL-URL:https://www.landkreis-wittenberg.de
X-WR-CALDESC:Veranstaltungen für Landkreis Wittenberg
REFRESH-INTERVAL;VALUE=DURATION:PT1H
X-Robots-Tag:noindex
X-PUBLISHED-TTL:PT1H
BEGIN:VTIMEZONE
TZID:Europe/Berlin
BEGIN:DAYLIGHT
TZOFFSETFROM:+0100
TZOFFSETTO:+0200
TZNAME:CEST
DTSTART:20230326T010000
END:DAYLIGHT
BEGIN:STANDARD
TZOFFSETFROM:+0200
TZOFFSETTO:+0100
TZNAME:CET
DTSTART:20231029T010000
END:STANDARD
BEGIN:DAYLIGHT
TZOFFSETFROM:+0100
TZOFFSETTO:+0200
TZNAME:CEST
DTSTART:20240331T010000
END:DAYLIGHT
BEGIN:STANDARD
TZOFFSETFROM:+0200
TZOFFSETTO:+0100
TZNAME:CET
DTSTART:20241027T010000
END:STANDARD
BEGIN:DAYLIGHT
TZOFFSETFROM:+0100
TZOFFSETTO:+0200
TZNAME:CEST
DTSTART:20250330T010000
END:DAYLIGHT
BEGIN:STANDARD
TZOFFSETFROM:+0200
TZOFFSETTO:+0100
TZNAME:CET
DTSTART:20251026T010000
END:STANDARD
BEGIN:DAYLIGHT
TZOFFSETFROM:+0100
TZOFFSETTO:+0200
TZNAME:CEST
DTSTART:20260329T010000
END:DAYLIGHT
BEGIN:STANDARD
TZOFFSETFROM:+0200
TZOFFSETTO:+0100
TZNAME:CET
DTSTART:20261025T010000
END:STANDARD
END:VTIMEZONE
BEGIN:VEVENT
DTSTART;TZID=Europe/Berlin:20250920T140000
DTEND;TZID=Europe/Berlin:20250920T180000
DTSTAMP:20260422T164058
CREATED:20250904T121526Z
LAST-MODIFIED:20250904T121526Z
UID:10000872-1758376800-1758391200@www.landkreis-wittenberg.de
SUMMARY:Kreativangebote und Kinderschminken am Familienfest auf dem Sportplatz Kemberg (JC´s Kemberg\, Rackith\, Rotta und Wartenburg)
DESCRIPTION:„Bundesweiter Tag der offenen Kinder- und Jugendarbeit 19.-26.09.2025 – Beteiligung des Reso-Witt e.V. sowie Kreiskinder- und Jugendring Wittenberg e.V. in unserem Landkreis \nAuch 2025 beteiligen sich Reso-Witt und der Kreiskinder- und Jugendring Wittenberg e.V. am „Bundesweiten Tag der offenen Kinder- und Jugendarbeit (OKJA)“ mit Angeboten\, an denen einerseits Kinder und Jugendliche aktiv mitgestalten können und andererseits um ein gemeinsames Zeichen für ihre Einrichtungen und deren wertvolle Arbeit zu setzen. \nWährend der Kampagne sind die Einrichtungen dazu aufgerufen\, ihre wichtige Arbeit durch öffentliche Aktionen zu präsentieren\, mit Politik und Gesellschaft ins Gespräch zu kommen und zu demonstrieren\, dass die OKJA einen unverzichtbaren Beitrag für junge Menschen und die Gesellschaft leistet. Freie und öffentliche Träger sowie Verbände wirken mit\, koordinieren Aktionen und vernetzen sich. Darüber hinaus werden bundesweite\, zentrale Aktionen stattfinden. \nMit über 1.000 Aktionen im letzten Jahr hat der Bundesweite Tag der OKJA 2024 eindrucksvoll gezeigt\, wie kreativ und engagiert die Akteur*innen der OKJA sind. \nIn den derzeit 14 Jugendclubs des Reso-Witt e.V. und des KKJR Wittenberg e.V. in unserem Landkreis finden folgende\, teils gemeinsame Veranstaltungen der örtlichen Jugendpfleger*innen und Bildungsreferentin des KKJR statt\, zu denen alle Kinder\, Jugendlichen und Interessierten recht herzlich eingeladen sind und bei denen auch ein Teil der täglichen Arbeit präsentiert wird: \n19.9.\, 14-18 Uhr: Tag der offenen Tür im JC Bad Schmiedeberg der Jugendpflegerin Frau Mathis (JC Bad Schmiedeberg: Leipziger Str. 72\, 06905 Bad Schmiedeberg und JC Meuro: Meuro 49a\, 06905 Bad Schmiedeberg) \n19.09.\, 15-19 Uhr: Spätsommerparty mit Spiel-\, Sport- und Kreativangeboten der Jugendclubs Reinsdorf\, Nudersdorf\, Boßdorf\, Pratau\, Seegrehna und Straach der Jugendpflegerinnen Frau Wendland und Frau Unger\, an diesem Tag im Heimat- und Kulturverein Seegrehna \n20.09.\, 14-18 Uhr: Beteiligung der Jugendpflegerin Frau Kaiser mit Kreativangeboten und Kinderschminken am Familienfest auf dem Sportplatz Kemberg (JC´s Kemberg\, Rackith\, Rotta und Wartenburg) \n26.09.\, 15-18 Uhr: Spieltag & Erfrischung im Jugendclub Vockerode der Jugendpflegerin Frau Riebau mit Tischtennisturnier\, Diamond Painting und alkoholfreien Cocktails \n26.09.\, 15-18 Uhr: Spiele & Tag der offenen Tür im Jugendclub Zschornewitz des Jugendpflegers Herrn Müller mit Spieltischen\, Leckereien vom Grill\, Ausprobiermöglichkeiten und Einblicken in die Arbeit
URL:https://www.landkreis-wittenberg.de/event/kreativangebote-und-kinderschminken-am-familienfest-auf-dem-sportplatz-kemberg-jcs-kemberg-rackith-rotta-und-wartenburg/
LOCATION:Sportplatz Kemberg\, Am Sportplatz\, Kemberg\, 06901
CATEGORIES:Allgemein,Feste
ATTACH;FMTTYPE=image/jpeg:https://www.landkreis-wittenberg.de/wp-content/uploads/2025/09/Kopie-von-Flohmarkt-Wuestemark-1.jpg
END:VEVENT
BEGIN:VEVENT
DTSTART;TZID=Europe/Berlin:20250126T100000
DTEND;TZID=Europe/Berlin:20250126T140000
DTSTAMP:20260422T164058
CREATED:20250109T102515Z
LAST-MODIFIED:20250109T102852Z
UID:10000624-1737885600-1737900000@www.landkreis-wittenberg.de
SUMMARY:Flohmarkt für Jedermann
DESCRIPTION:Stöbern und Gutes tun – das ist in Wartenburg möglich.\n\nAm Sonntag\, 26. Januar 2025\, wird von 10:00 bis 14:00 Uhr in die Mehrzweckhalle Wartenburg zum Flohmarkt für Jedermann eingeladen.\n\nBei freiem Eintritt können Besucher ausgiebig nach gebrauchten Schätzen und kleiner Handwerkskunst suchen.\nWer selbst etwas verkaufen möchte\, der kann sich noch bis zum 24. Januar unter Wartenburger-Flohmarkt@gmx.de anmelden.\nDer Erlös aus den Standgebühren kommt der kleinen Prinzengarde zugute.
URL:https://www.landkreis-wittenberg.de/event/flohmarkt-fuer-jedermann/
LOCATION:Mehrzweckhalle Wartenburg\, Sportlerweg 4\, Kemberg OT Wartenburg\, 06901\, Germany
CATEGORIES:Allgemein,Feste
ATTACH;FMTTYPE=image/jpeg:https://www.landkreis-wittenberg.de/wp-content/uploads/2025/01/Flohmarkt-Jedermann.jpeg
END:VEVENT
BEGIN:VEVENT
DTSTART;TZID=Europe/Berlin:20241116T200000
DTEND;TZID=Europe/Berlin:20241116T235900
DTSTAMP:20260422T164058
CREATED:20241112T135225Z
LAST-MODIFIED:20241112T135323Z
UID:10000585-1731787200-1731801540@www.landkreis-wittenberg.de
SUMMARY:"60 Jahre Narretei und Jubel\, der CCW reist auf die Südhalbkugel!"
DESCRIPTION:„60 Jahre Narretei und Jubel\, der CCW reist auf die Südhalbkugel!“ \nheißt es zur 60. Session des CCW. Seit nun bald 60 Jahren feiern wir in Wartenburg Carneval. 60 Jahre Narretei und Jubel\, 60 Jahre Narrhallamarsch\, 60 Jahre voller bezaubernder Garde- und Showtänze\, 60 Jahre mit unzähligen bunten Programmpunkten von Groß und Klein. \nDies gilt es gebührend zu feiern. Den Auftakt macht ganz klassisch die \nProklamation der 60. Session am 16.11.2024 in der Mehrzweckhalle. \nBeginn 20.00 Uhr\, Einlass ab 19:00 Uhr \nWieder einmal sind nicht nur alle Wartenburger neugierig und gespannt\, wer das Prinzenpaar der vergangenen 59. Session ablösen wird. Die Gerüchteküche brodelt und in vielen Ecken wird getuschelt und beobachtet\, wer sich in den letzten Tagen besonders auffällig oder unauffällig verhält. Doch bis das große Geheimnis gelüftet wird\, freuen sich Prinzessin Juliane I. und Prinz Torsten I. noch ein letztes Mal bei der Eröffnung der Proklamation auf viele Gäste und ein tolles Publikum. \nEin kleines Geheimnis haben unsere beiden scheidenden Tollitäten bereits verraten: „Die Proklamation der 60. Session wird etwas besonders. Alle Gäste aus Nah und Fern dürfen sich auf zwei ganz besondere Überraschung freuen. Und diese gibt es in Wartenburg nicht alle Tage!“ \nNach einer kurzen Verschnaufpause für die Weihnachtszeit und den Jahreswechsel\, geht es dann auch bald weiter. Hinter den Kulissen arbeitet der gesamte CCW heute schon an den weiteren Höhepunkten der 60. Session: \n  \n21.02.2025      Galaabend der Garden und Karnevalsvereine  \nEin Galaabend für befreundete Karnevalsvereine und Ihre Garden            \n22.02.2025      Großveranstaltung der 60. Session  \nDie Großveranstaltung für alle liebgewonnen Gäste aus Nah und Fern \n23.02.2025      Carneval der Senioren \nDer Nachmittag für alle erfahrenen Carnevalisten \n01.03.2025      „Wartenburger Abend“ der 60. Session  \nEin Abend nur für Wartenburg und seine Vereine mit Programmpunkten aus vergangenen Tagen \n02.03.2025      Kinderfasching der 60. Session \nNun sind endlich alle kleinen Gäste mit ihren tollen Kostümen an der Reihe! \n  \nDie Spannung ist groß und wir freuen uns auf viele lustige Abende mit Narretei und Jubel auf unserer Südhalbkugel. \nKarten gibt es wie immer zu den bekannten Vorverkaufszeiten oder anschließend beim CCW. \n  \nMit einem dreifach donnerndem \nWartenburg Lu-Wa \n  \nDie Narren des CCW
URL:https://www.landkreis-wittenberg.de/event/60-jahre-narretei-und-jubel-der-ccw-reist-auf-die-suedhalbkugel/
LOCATION:Mehrzweckhalle Wartenburg\, Sportlerweg 4\, Kemberg OT Wartenburg\, 06901\, Germany
CATEGORIES:Allgemein,Feste
ATTACH;FMTTYPE=image/jpeg:https://www.landkreis-wittenberg.de/wp-content/uploads/2024/11/Proklamation-60.-Session-11.jpg
END:VEVENT
END:VCALENDAR