BEGIN:VCALENDAR
VERSION:2.0
PRODID:-//Landkreis Wittenberg - ECPv6.15.20//NONSGML v1.0//EN
CALSCALE:GREGORIAN
METHOD:PUBLISH
X-WR-CALNAME:Landkreis Wittenberg
X-ORIGINAL-URL:https://www.landkreis-wittenberg.de
X-WR-CALDESC:Veranstaltungen für Landkreis Wittenberg
REFRESH-INTERVAL;VALUE=DURATION:PT1H
X-Robots-Tag:noindex
X-PUBLISHED-TTL:PT1H
BEGIN:VTIMEZONE
TZID:Europe/Berlin
BEGIN:DAYLIGHT
TZOFFSETFROM:+0100
TZOFFSETTO:+0200
TZNAME:CEST
DTSTART:20240331T010000
END:DAYLIGHT
BEGIN:STANDARD
TZOFFSETFROM:+0200
TZOFFSETTO:+0100
TZNAME:CET
DTSTART:20241027T010000
END:STANDARD
BEGIN:DAYLIGHT
TZOFFSETFROM:+0100
TZOFFSETTO:+0200
TZNAME:CEST
DTSTART:20250330T010000
END:DAYLIGHT
BEGIN:STANDARD
TZOFFSETFROM:+0200
TZOFFSETTO:+0100
TZNAME:CET
DTSTART:20251026T010000
END:STANDARD
BEGIN:DAYLIGHT
TZOFFSETFROM:+0100
TZOFFSETTO:+0200
TZNAME:CEST
DTSTART:20260329T010000
END:DAYLIGHT
BEGIN:STANDARD
TZOFFSETFROM:+0200
TZOFFSETTO:+0100
TZNAME:CET
DTSTART:20261025T010000
END:STANDARD
END:VTIMEZONE
BEGIN:VEVENT
DTSTART;TZID=Europe/Berlin:20250912T190000
DTEND;TZID=Europe/Berlin:20250913T210000
DTSTAMP:20260425T001629
CREATED:20250905T064148Z
LAST-MODIFIED:20250905T064148Z
UID:10000875-1757703600-1757797200@www.landkreis-wittenberg.de
SUMMARY:KINO TO GO - kostenloses Freiluft-Filmfestival für alle!
DESCRIPTION:Im September wird die Wittenberger Innenstadt zum Freiluftkino. Mit Kindern aus Wittenberg haben wir in den Sommerferien einen mobilen Kinowagen gebaut und gemeinsam Filme ausgewählt. \nEs wird einen roten Teppich und jede Menge Popcorn geben. Kommt vorbei! \n  \nTreffpunkt: jeweils um 19 Uhr am Stadtlabor (Markt 3\, Lutherstadt Wittenberg). Von dort gehen wir gemeinsam mit dem Kinowagen los. \nBringt euch wenn möglich Decken und Kissen zum Sitzen mit! Es gibt eine begrenzte Anzahl an Klappstühlen. Die Filme werden in einer deutschen Version gezeigt. \n  \nPROGRAMM: \n12. September 2025 Kurzfilmspaziergang Innenstadt \n\nYuck! (Igitt!) Loïc Espuche\, 2024\, 13 min\, FSK 0\nDer Besuch  Conrad Tambour\, 2011\, 9 min\, FSK 0\nIce Merchants (Eishändler) Joao Gonzalez\, 2022\, 14 min\, FSK 12\n\n  \n13. September 2025 Kino auf der Schlosswiese \n\nRaya und der letzte Drache Carlos Lopez Estrada\, Don Hall 2021\, 103 min\, FSK 0/JMK 6\n\nKINO TO GO ist ein Projekt mit dem Stadtlabor Wittenberg Im Mai 2025 haben die Kinder und Jugendlichen in Wittenberg das KINO TO GO auf den ersten Platz der Dritten Runde im Verfügungsfond ausgewählt.
URL:https://www.landkreis-wittenberg.de/event/kino-to-go-kostenloses-freiluft-filmfestival-fuer-alle/
LOCATION:Im Stadtlabor\, Am Markt 3\, Lutherstadt Wittenberg\, 06886\, Germany
CATEGORIES:Allgemein,Feste
ATTACH;FMTTYPE=image/jpeg:https://www.landkreis-wittenberg.de/wp-content/uploads/2025/09/Kino-To-Go_urban-fragment-observatory.jpg
ORGANIZER;CN="Stadtlabor Wittenberg%2C endboss GmbH%2C Bundesministerium f%C3%BCr Wohnen%2C Stadtentwicklung und Bauwesen%2C urban fragment observatory (ufo ufo)":MAILTO:info@ufoufo.eu
END:VEVENT
END:VCALENDAR