BEGIN:VCALENDAR
VERSION:2.0
PRODID:-//Landkreis Wittenberg - ECPv6.15.20//NONSGML v1.0//EN
CALSCALE:GREGORIAN
METHOD:PUBLISH
X-ORIGINAL-URL:https://www.landkreis-wittenberg.de
X-WR-CALDESC:Veranstaltungen für Landkreis Wittenberg
REFRESH-INTERVAL;VALUE=DURATION:PT1H
X-Robots-Tag:noindex
X-PUBLISHED-TTL:PT1H
BEGIN:VTIMEZONE
TZID:Europe/Berlin
BEGIN:DAYLIGHT
TZOFFSETFROM:+0100
TZOFFSETTO:+0200
TZNAME:CEST
DTSTART:20240331T010000
END:DAYLIGHT
BEGIN:STANDARD
TZOFFSETFROM:+0200
TZOFFSETTO:+0100
TZNAME:CET
DTSTART:20241027T010000
END:STANDARD
BEGIN:DAYLIGHT
TZOFFSETFROM:+0100
TZOFFSETTO:+0200
TZNAME:CEST
DTSTART:20250330T010000
END:DAYLIGHT
BEGIN:STANDARD
TZOFFSETFROM:+0200
TZOFFSETTO:+0100
TZNAME:CET
DTSTART:20251026T010000
END:STANDARD
BEGIN:DAYLIGHT
TZOFFSETFROM:+0100
TZOFFSETTO:+0200
TZNAME:CEST
DTSTART:20260329T010000
END:DAYLIGHT
BEGIN:STANDARD
TZOFFSETFROM:+0200
TZOFFSETTO:+0100
TZNAME:CET
DTSTART:20261025T010000
END:STANDARD
END:VTIMEZONE
BEGIN:VEVENT
DTSTART;TZID=Europe/Berlin:20251102T080000
DTEND;TZID=Europe/Berlin:20251102T110000
DTSTAMP:20260425T183709
CREATED:20251009T112039Z
LAST-MODIFIED:20251009T113107Z
UID:10000923-1762070400-1762081200@www.landkreis-wittenberg.de
SUMMARY:HUBERTUSMESSE in der Stadtkirche in Wittenberg
DESCRIPTION:Die “Jägerschaft Wittenberg 2020 e.V.” lädt ein zur Hubertusmesse am 2. November 2025 ab 11.00 Uhr in der Stadtkirche. \n10:45 Uhr: Blasen von Jagdsignalen vor der Kirche \n11.00 Uhr: Beginn des Gottesdienstes \nPredigt: Pfarrer Fabian Mederacke \nFestrede: Gunnar Schaaf \nMusikalische Gestaltung: Jagdhornbläser “Freunde der Jagd”\, Linthe
URL:https://www.landkreis-wittenberg.de/event/hubertusmesse-in-der-stadtkirche-in-wittenberg/
LOCATION:Stadtkirche St. Marien Wittenberg\, Am Kirchplatz 20\, Lutherstadt Wittenberg\, 06886\, Germany
CATEGORIES:Allgemein,Feste
ATTACH;FMTTYPE=image/jpeg:https://www.landkreis-wittenberg.de/wp-content/uploads/2025/10/hubertusmesse_dina4.jpg
END:VEVENT
END:VCALENDAR