BEGIN:VCALENDAR
VERSION:2.0
PRODID:-//Landkreis Wittenberg - ECPv6.15.20//NONSGML v1.0//EN
CALSCALE:GREGORIAN
METHOD:PUBLISH
X-ORIGINAL-URL:https://www.landkreis-wittenberg.de
X-WR-CALDESC:Veranstaltungen für Landkreis Wittenberg
REFRESH-INTERVAL;VALUE=DURATION:PT1H
X-Robots-Tag:noindex
X-PUBLISHED-TTL:PT1H
BEGIN:VTIMEZONE
TZID:Europe/Berlin
BEGIN:DAYLIGHT
TZOFFSETFROM:+0100
TZOFFSETTO:+0200
TZNAME:CEST
DTSTART:20240331T010000
END:DAYLIGHT
BEGIN:STANDARD
TZOFFSETFROM:+0200
TZOFFSETTO:+0100
TZNAME:CET
DTSTART:20241027T010000
END:STANDARD
BEGIN:DAYLIGHT
TZOFFSETFROM:+0100
TZOFFSETTO:+0200
TZNAME:CEST
DTSTART:20250330T010000
END:DAYLIGHT
BEGIN:STANDARD
TZOFFSETFROM:+0200
TZOFFSETTO:+0100
TZNAME:CET
DTSTART:20251026T010000
END:STANDARD
BEGIN:DAYLIGHT
TZOFFSETFROM:+0100
TZOFFSETTO:+0200
TZNAME:CEST
DTSTART:20260329T010000
END:DAYLIGHT
BEGIN:STANDARD
TZOFFSETFROM:+0200
TZOFFSETTO:+0100
TZNAME:CET
DTSTART:20261025T010000
END:STANDARD
BEGIN:DAYLIGHT
TZOFFSETFROM:+0100
TZOFFSETTO:+0200
TZNAME:CEST
DTSTART:20270328T010000
END:DAYLIGHT
BEGIN:STANDARD
TZOFFSETFROM:+0200
TZOFFSETTO:+0100
TZNAME:CET
DTSTART:20271031T010000
END:STANDARD
END:VTIMEZONE
BEGIN:VEVENT
DTSTART;TZID=Europe/Berlin:20260321T103000
DTEND;TZID=Europe/Berlin:20260321T120000
DTSTAMP:20260423T164135
CREATED:20260305T073014Z
LAST-MODIFIED:20260305T084715Z
UID:10001186-1774089000-1774094400@www.landkreis-wittenberg.de
SUMMARY:Veranstaltung für Kinder zum Welttag der Poesie
DESCRIPTION:Gedichte sind nicht nur für Erwachsene ein Lesevergnügen: Zum Welttag der Poesie\, der am\nSamstag\, den 21. März\, gefeiert wird\, lädt die Stadtbibliothek Kinder als Wortforscher und -entdecker\nein. Es werden Frühlingsgedichte gelesen und der Kreativität freien Lauf gelassen. Gemeinsam\nwerden eigene kleine Gedichte erfunden – ob mit oder ohne Reim. Anschließend wird eine Kleinigkeit\ngebastelt. \nTermin: Samstag\, 21.03.2026\, 10:30-12:00 Uhr\nOrt: Auditorium der Stadtbibliothek \nEmpfohlen für Kinder ab 4 Jahren. \nUm Anmeldung wird gebeten:\n+49 3491 40 21 60\ninfo@bibliothek-wittenberg.de
URL:https://www.landkreis-wittenberg.de/event/veranstaltung-fuer-kinder-zum-welttag-der-poesie/
LOCATION:Stadtbibliothek Wittenberg\, Schlossstraße 7\, Lutherstadt Wittenberg\, 06886\, Germany
CATEGORIES:Allgemein
ATTACH;FMTTYPE=image/jpeg:https://www.landkreis-wittenberg.de/wp-content/uploads/2024/06/AdobeStock_164704044.jpeg
END:VEVENT
BEGIN:VEVENT
DTSTART;TZID=Europe/Berlin:20250404T190000
DTEND;TZID=Europe/Berlin:20250404T230000
DTSTAMP:20260423T164135
CREATED:20250304T103847Z
LAST-MODIFIED:20250304T104023Z
UID:10000686-1743793200-1743807600@www.landkreis-wittenberg.de
SUMMARY:Nacht der Bibliotheken in der Stadtbibliothek
DESCRIPTION:Am 4. April 2025 findet erstmalig bundesweit die „Nacht der Bibliotheken“ statt. In den Fokus gerückt werden an diesem Aktionstag die Vielfalt bibliothekarischer Angebote und Services – denn Bibliotheken sind weitaus mehr als Orte für die Medienausleihe. \nAuch die Stadtbibliothek Wittenberg greift das diesjährige Motto „Wissen. Teilen. Entdecken“ mit einem bunten Programm auf und öffnet ihre Türen bis in die Nacht hinein. Eröffnet wird der Abend mit Oberbürgermeister Torsten Zugehör. Begleitet wird das Programm vom Förderverein Wittenberger Bücherfreunde e. V. \nProgramm ab 19:00 Uhr: eine Loriot-Hommage mit dem Theaterjugendclub Chamäleon e. V.\, Bläsermusik mit dem Gymnasium Leucorea\, Lesung mit Kuscheltierübernachtung und spaßigem Roboter-Parcours\, Speed-Datings zum Kennenlernen spannender Medien sowie Happy Hour für kostenlose Neuanmeldung in der Stadtbibliothek\, Sticken und Nachtbasteln. \nTermin: 4. April 2025\, 19:00-23:00 Uhr \nOrt: Stadtbibliothek Wittenberg \nDie Veranstaltung ist kostenlos. \n  \nErgänzend findet am 27. März 2025\, 16:00-18:00 Uhr\, die Veranstaltung „Kuscheltierbett basteln“ als Vorbereitung auf die Lesung mit Kuscheltierübernachtung statt\, bei der gemeinsam kleine Betten für die Kuscheltiere hergestellt werden. Material wird bereitgestellt. \nEine Anmeldung ist erwünscht. \nDas vollständige Programm finden Sie unter: www.wittenberg.de/bildung-wissenschaft/bibliotheken \nKontakt: Stadtbibliothek Wittenberg\, Schlossstraße 7\, 06886 Lutherstadt Wittenberg\, Telefon: 03491/402160\, E-Mail: info@bibliothek-wittenberg.de
URL:https://www.landkreis-wittenberg.de/event/nacht-der-bibliotheken-in-der-stadtbibliothek/
LOCATION:Stadtbibliothek Wittenberg\, Schlossstraße 7\, Lutherstadt Wittenberg\, 06886\, Germany
CATEGORIES:Allgemein,Feste
ATTACH;FMTTYPE=image/jpeg:https://www.landkreis-wittenberg.de/wp-content/uploads/2025/03/Nacht-der-Bibliotheken.jpg
END:VEVENT
END:VCALENDAR