BEGIN:VCALENDAR
VERSION:2.0
PRODID:-//Landkreis Wittenberg - ECPv6.15.20//NONSGML v1.0//EN
CALSCALE:GREGORIAN
METHOD:PUBLISH
X-WR-CALNAME:Landkreis Wittenberg
X-ORIGINAL-URL:https://www.landkreis-wittenberg.de
X-WR-CALDESC:Veranstaltungen für Landkreis Wittenberg
REFRESH-INTERVAL;VALUE=DURATION:PT1H
X-Robots-Tag:noindex
X-PUBLISHED-TTL:PT1H
BEGIN:VTIMEZONE
TZID:Europe/Berlin
BEGIN:DAYLIGHT
TZOFFSETFROM:+0100
TZOFFSETTO:+0200
TZNAME:CEST
DTSTART:20240331T010000
END:DAYLIGHT
BEGIN:STANDARD
TZOFFSETFROM:+0200
TZOFFSETTO:+0100
TZNAME:CET
DTSTART:20241027T010000
END:STANDARD
BEGIN:DAYLIGHT
TZOFFSETFROM:+0100
TZOFFSETTO:+0200
TZNAME:CEST
DTSTART:20250330T010000
END:DAYLIGHT
BEGIN:STANDARD
TZOFFSETFROM:+0200
TZOFFSETTO:+0100
TZNAME:CET
DTSTART:20251026T010000
END:STANDARD
BEGIN:DAYLIGHT
TZOFFSETFROM:+0100
TZOFFSETTO:+0200
TZNAME:CEST
DTSTART:20260329T010000
END:DAYLIGHT
BEGIN:STANDARD
TZOFFSETFROM:+0200
TZOFFSETTO:+0100
TZNAME:CET
DTSTART:20261025T010000
END:STANDARD
END:VTIMEZONE
BEGIN:VEVENT
DTSTART;TZID=Europe/Berlin:20251205T150000
DTEND;TZID=Europe/Berlin:20251205T180000
DTSTAMP:20260425T153234
CREATED:20251127T062553Z
LAST-MODIFIED:20251127T062553Z
UID:10001077-1764946800-1764957600@www.landkreis-wittenberg.de
SUMMARY:Weihnachtsmarkt im Schlosshof Pretzsch
DESCRIPTION:Vielseitiges Programm vor dem Nikolaustag \nPretzsch. Im Salus-Kinder- und Jugendheim Pretzsch findet am Freitag\, dem 5. Dezember 2025\, von 15 bis 18 Uhr ein kleiner Weihnachtsmarkt statt. Dazu laden die Kinder\, Jugendlichen und Mitarbeitenden herzlich auf den Schlosshof ein.  \nDie Gäste erwartet ein vielseitiges Programm mit vorweihnachtlichem Markttreiben\, Musik und kulinarischen Überraschungen. An den Ständen werden beispielsweise handgefertigte Bastelarbeiten der Kinder und Jugendlichen aus Holz\, Wolle und anderen kreativen Materialien angeboten\, außerdem kann man bei einer Tombola sein Glück versuchen. Herzhafte Würstchen vom Grill sind im Schlosshof ebenso zu genießen wie Waffeln\, Muffins\, schokolierte Früchte und andere Köstlichkeiten. Eine Akkordeongruppe aus der Musikschule Fröhlich Wittenberg wird die Gäste mit ihren stimmungsvollen Klängen erfreuen. Auch der Weihnachtsmann hat sich angekündigt\, um die Kinder mit süßen Gaben zu bescheren. Als Überraschung ist dann gegen 17 Uhr noch ein besonderes künstlerisches Highlight zu erwarten. \nVeranstaltet wird das vorweihnachtliche Event durch den Salus-Verbund am Standort Pretzsch in Zusammenarbeit mit regionalen Partnern
URL:https://www.landkreis-wittenberg.de/event/weihnachtsmarkt-im-schlosshof-pretzsch/
LOCATION:Schlosshof Pretzsch\, Schloßbezirk 1\, Bad Schmiedeberg\, Sachsen-Anhalt\, 06909\, Germany
CATEGORIES:Allgemein,Feste,Weihnachtsmarkt
ATTACH;FMTTYPE=image/jpeg:https://www.landkreis-wittenberg.de/wp-content/uploads/2025/11/Weihnachtsmarkt_Schlosshof_Pretzsch.jpg
END:VEVENT
END:VCALENDAR