BEGIN:VCALENDAR
VERSION:2.0
PRODID:-//Landkreis Wittenberg - ECPv6.15.20//NONSGML v1.0//EN
CALSCALE:GREGORIAN
METHOD:PUBLISH
X-WR-CALNAME:Landkreis Wittenberg
X-ORIGINAL-URL:https://www.landkreis-wittenberg.de
X-WR-CALDESC:Veranstaltungen für Landkreis Wittenberg
REFRESH-INTERVAL;VALUE=DURATION:PT1H
X-Robots-Tag:noindex
X-PUBLISHED-TTL:PT1H
BEGIN:VTIMEZONE
TZID:Europe/Berlin
BEGIN:DAYLIGHT
TZOFFSETFROM:+0100
TZOFFSETTO:+0200
TZNAME:CEST
DTSTART:20240331T010000
END:DAYLIGHT
BEGIN:STANDARD
TZOFFSETFROM:+0200
TZOFFSETTO:+0100
TZNAME:CET
DTSTART:20241027T010000
END:STANDARD
BEGIN:DAYLIGHT
TZOFFSETFROM:+0100
TZOFFSETTO:+0200
TZNAME:CEST
DTSTART:20250330T010000
END:DAYLIGHT
BEGIN:STANDARD
TZOFFSETFROM:+0200
TZOFFSETTO:+0100
TZNAME:CET
DTSTART:20251026T010000
END:STANDARD
BEGIN:DAYLIGHT
TZOFFSETFROM:+0100
TZOFFSETTO:+0200
TZNAME:CEST
DTSTART:20260329T010000
END:DAYLIGHT
BEGIN:STANDARD
TZOFFSETFROM:+0200
TZOFFSETTO:+0100
TZNAME:CET
DTSTART:20261025T010000
END:STANDARD
END:VTIMEZONE
BEGIN:VEVENT
DTSTART;TZID=Europe/Berlin:20250903T090000
DTEND;TZID=Europe/Berlin:20250903T140000
DTSTAMP:20260425T161214
CREATED:20250818T100730Z
LAST-MODIFIED:20250818T100730Z
UID:10000866-1756890000-1756908000@www.landkreis-wittenberg.de
SUMMARY:Spielpädagogik-Stammtisch XXL
DESCRIPTION:Wir laden zum Spielpädagogik-Stammtisch XXL für Fachkräfte und Ehrenamtliche der Offenen Kinder- und Jugendarbeit und andere Interessierte \nam Mittwoch\, d. 3. September 2025 in der Zeit von 9.00 – 14.00 Uhr \nin das Kinder- und Jugendzentrum “Pferdestall”\, Mauerstraße 24\, Luth. Wittenberg ein. \nThema “Aktionsspiele” \nNach der Mittagspause möchten wir Euch bitten\, Spiele (gern auch Brett- oder Kartenspiele) mitzubringen\, die bei Euch in den Einrichtungen gern gespielt werden und die Ihr allen vorstellen möchtet. \nWir bitten um Eure Anmeldung bis spätestens 27.08.25 unter der e-Mail-Adresse: mueller@kkjr-wittenberg.de \nJugendpflegerin Jule Mathis und Bildungsreferentin Nadine Müller des Kreiskinder- und Jugendring Wittenberg e.V.
URL:https://www.landkreis-wittenberg.de/event/spielpaedagogik-stammtisch-xxl/
LOCATION:Kinder- und Jugendzentrum “Pferdestall”\, Mauerstraße 24\, Lutherstadt Wittenberg\, 06886\, Germany
CATEGORIES:Allgemein,Feste
ATTACH;FMTTYPE=image/jpeg:https://www.landkreis-wittenberg.de/wp-content/uploads/2025/08/Spielpaedagogik-Stammtisch-XXL.jpg
END:VEVENT
END:VCALENDAR