BEGIN:VCALENDAR
VERSION:2.0
PRODID:-//Landkreis Wittenberg - ECPv6.15.20//NONSGML v1.0//EN
CALSCALE:GREGORIAN
METHOD:PUBLISH
X-WR-CALNAME:Landkreis Wittenberg
X-ORIGINAL-URL:https://www.landkreis-wittenberg.de
X-WR-CALDESC:Veranstaltungen für Landkreis Wittenberg
REFRESH-INTERVAL;VALUE=DURATION:PT1H
X-Robots-Tag:noindex
X-PUBLISHED-TTL:PT1H
BEGIN:VTIMEZONE
TZID:Europe/Berlin
BEGIN:DAYLIGHT
TZOFFSETFROM:+0100
TZOFFSETTO:+0200
TZNAME:CEST
DTSTART:20240331T010000
END:DAYLIGHT
BEGIN:STANDARD
TZOFFSETFROM:+0200
TZOFFSETTO:+0100
TZNAME:CET
DTSTART:20241027T010000
END:STANDARD
BEGIN:DAYLIGHT
TZOFFSETFROM:+0100
TZOFFSETTO:+0200
TZNAME:CEST
DTSTART:20250330T010000
END:DAYLIGHT
BEGIN:STANDARD
TZOFFSETFROM:+0200
TZOFFSETTO:+0100
TZNAME:CET
DTSTART:20251026T010000
END:STANDARD
BEGIN:DAYLIGHT
TZOFFSETFROM:+0100
TZOFFSETTO:+0200
TZNAME:CEST
DTSTART:20260329T010000
END:DAYLIGHT
BEGIN:STANDARD
TZOFFSETFROM:+0200
TZOFFSETTO:+0100
TZNAME:CET
DTSTART:20261025T010000
END:STANDARD
END:VTIMEZONE
BEGIN:VEVENT
DTSTART;VALUE=DATE:20250813
DTEND;VALUE=DATE:20250818
DTSTAMP:20260425T124739
CREATED:20250707T062808Z
LAST-MODIFIED:20250707T062808Z
UID:10000784-1755043200-1755475199@www.landkreis-wittenberg.de
SUMMARY:Schlossgarten- und Heimatfest Prettin
DESCRIPTION:Die Stadt Prettin lädt auch in diesem Jahr herzlich zum traditionellen Schlossgarten- und Heimatfest ein! Vom 13. bis 17. August erwartet Besucherinnen und Besucher ein abwechslungsreiches Programm mit Musik\, Kultur\, Kulinarik und vielen Aktionen für Groß und Klein – eingebettet in die historische Kulisse des Schlossgartens. \nDas Festprogramm im Überblick:\nMittwoch\, 13. August📸 14:00 Uhr – Eröffnung der Fotoausstellung☕ 14:30 Uhr – Kaffeetafel für Seniorinnen und Senioren \nDonnerstag\, 14. August🧀🍷 19:00 Uhr – Käse- und Weinabend in geselliger Atmosphäre \nFreitag\, 15. August🎟️ ab 16:00 Uhr – Einlass zum Festabend🎤 18:00–20:30 Uhr – Heimatabend mit Beiträgen aus der Region🎶 20:30 Uhr – Live-Musik mit der Band „Jojo Zeit“🎧 22:00 Uhr – Party im Elektrozelt \nSamstag\, 16. August🎡 10:00 Uhr – Eröffnung des Festplatzes🛍️ 10:00–18:00 Uhr – Regionalmarkt mit Produkten aus der Region🎉 13:00 Uhr – Festumzug durch Prettin🎨 ab 15:00 Uhr – Kinder-Kreativzelt🤹 16:30 Uhr – Clown Trixi begeistert Groß und Klein🕺 18:30 Uhr – Kinderdisco🎸 20:00–2:00 Uhr – Großer Bandabend mit Live-Musik bis in die Nacht \nSonntag\, 17. August🚪 9:00 Uhr – Einlass und Eröffnung🍻 10:00–13:00 Uhr – Frühschoppen mit musikalischer Begleitung🎈 ab 10:00 Uhr – Hüpfburgenpark für die kleinen Gäste \nEintrittspreise:\n\n\nFreitag & Samstag: je 5 € \n\n\nSonntag: 3 € \n\n\nWochenendticket: 10 €
URL:https://www.landkreis-wittenberg.de/event/schlossgarten-und-heimatfest-prettin/
LOCATION:Schlossgarten\, Prettiner Landstraße 4\, Prettin\, 06925
CATEGORIES:Allgemein,Feste
ATTACH;FMTTYPE=image/jpeg:https://www.landkreis-wittenberg.de/wp-content/uploads/2025/07/Heimat-und-Kultur-ev.jpg
END:VEVENT
END:VCALENDAR