BEGIN:VCALENDAR
VERSION:2.0
PRODID:-//Landkreis Wittenberg - ECPv6.15.20//NONSGML v1.0//EN
CALSCALE:GREGORIAN
METHOD:PUBLISH
X-ORIGINAL-URL:https://www.landkreis-wittenberg.de
X-WR-CALDESC:Veranstaltungen für Landkreis Wittenberg
REFRESH-INTERVAL;VALUE=DURATION:PT1H
X-Robots-Tag:noindex
X-PUBLISHED-TTL:PT1H
BEGIN:VTIMEZONE
TZID:Europe/Berlin
BEGIN:DAYLIGHT
TZOFFSETFROM:+0100
TZOFFSETTO:+0200
TZNAME:CEST
DTSTART:20240331T010000
END:DAYLIGHT
BEGIN:STANDARD
TZOFFSETFROM:+0200
TZOFFSETTO:+0100
TZNAME:CET
DTSTART:20241027T010000
END:STANDARD
BEGIN:DAYLIGHT
TZOFFSETFROM:+0100
TZOFFSETTO:+0200
TZNAME:CEST
DTSTART:20250330T010000
END:DAYLIGHT
BEGIN:STANDARD
TZOFFSETFROM:+0200
TZOFFSETTO:+0100
TZNAME:CET
DTSTART:20251026T010000
END:STANDARD
BEGIN:DAYLIGHT
TZOFFSETFROM:+0100
TZOFFSETTO:+0200
TZNAME:CEST
DTSTART:20260329T010000
END:DAYLIGHT
BEGIN:STANDARD
TZOFFSETFROM:+0200
TZOFFSETTO:+0100
TZNAME:CET
DTSTART:20261025T010000
END:STANDARD
END:VTIMEZONE
BEGIN:VEVENT
DTSTART;TZID=Europe/Berlin:20251206T092500
DTEND;TZID=Europe/Berlin:20251206T204900
DTSTAMP:20260425T153055
CREATED:20251020T133124Z
LAST-MODIFIED:20251020T133124Z
UID:10000925-1765013100-1765054140@www.landkreis-wittenberg.de
SUMMARY:Sonderfahrt am 29.11. und 06.12.2025 zum Weihnachtsmarkt in Erfurt
DESCRIPTION:Sonderfahrt am 29.11. und 06.12. 2025\nLu.-Wittenberg / Magdeburg – Güsten – Sangerhausen – Erfurt \nAm 1. Adventswochenende eröffnet der überregional bekannte Weihnachtsmarkt in der Thüringer Landeshauptstadt Erfurt.\nDer Erfurter Weihnachtsmarkt gehört zu den schönsten Weihnachtsmärkten Deutschlands Die Altstadt Erfurts um den Domplatz sind eine Kulisse für eine stimmungsvolle Vorweihnachtszeit. Traditionelles Handwerk und Spezialitäten sind ebenso zu finden wie eine riesige\, kerzengeschmückte Weihnachtstanne\, sowie viele Geschäfte nach Schaustellerart. Die gesamte Innenstadt liegt im Lichterglanz.\nBemerkenswert ist die ca. 25 Meter hohe\, festlich beleuchtete Weihnachtstanne und die 12 Meter hohe Weihnachtspyramide.\nBesonders an den Adventswochenenden wird ein reiches Veranstaltungsprogramm geboten. \nDamit die Besucher auch eine besondere Anreise zum Weihnachtsmarkt haben\, führen die Vereine Eisenbahnfreunde Traditions-Bahnbetriebswerk Staßfurt e.V. und Förderverein Berlin-Anhaltische Eisenbahn e.V\, Sonderfahren auf den Strecken Lu.-Wittenberg -Erfurt und Magdeburg – Erfurt über Güsten\, Sangerhausen durch. \nAm 29. November verkehrt der Zug von Lu.-Wittenberg über Dessau – Köthen – Güsten – Sangerhausen nach Erfurt.\nAm 06. Dezember verkehrt der Zug von Magdeburg über Staßfurt – Güsten – Sangerhausen nach Erfurt. \nZum Einsatz gelangt am 29.11. die Museumslokomotive V 100 003\, welche vom Förderverein Berlin-Anhaltische Eisenbahn e.V. betreut wird\, technisches Denkmal des Landes Sachsen-Anhalt ist und der Museumszug der Eisenbahnfreunde Traditions-Bahnbetriebswerk Staßfurt e.V. Zusätzlich ist am 06.12. eine Bespannung mit einer Dampflokomotive geplant. \nVorverkauf und Buchung: www.lokschuppen-stassfurt.de/sonderfahrten \nKauf einer Fahrkarte im Zug: Zuschlag 2\,00 € für einfache Fahrt\, 3\,00 € für Hin- + Rückfahrt\nEin Anspruch auf Sitzplatz besteht nicht. Andere Fahrvergünstigungen können nicht anerkannt werden. Änderungen und Ergänzungen\, besonders zum Fahrplan vorbehalten.\nAktualisierte Fahrpläne sind im Internet und in Aushängen auf den Haltebahnhöfen zu finden. \nWeitere Informationen auf:\nwww.lokschuppen-stassfurt.de\nwww.eisenbahnverein-wittenberg.de \n 
URL:https://www.landkreis-wittenberg.de/event/sonderfahrt-am-29-11-und-06-12-2025-zum-weihnachtsmarkt-in-erfurt/2025-12-06/
CATEGORIES:Allgemein,Feste
ATTACH;FMTTYPE=image/jpeg:https://www.landkreis-wittenberg.de/wp-content/uploads/2025/10/Fahrplan.jpg
END:VEVENT
BEGIN:VEVENT
DTSTART;TZID=Europe/Berlin:20251129T085800
DTEND;TZID=Europe/Berlin:20251129T211400
DTSTAMP:20260425T153055
CREATED:20251020T133124Z
LAST-MODIFIED:20251020T133124Z
UID:10000924-1764406680-1764450840@www.landkreis-wittenberg.de
SUMMARY:Sonderfahrt am 29.11. und 06.12.2025 zum Weihnachtsmarkt in Erfurt
DESCRIPTION:Sonderfahrt am 29.11. und 06.12. 2025\nLu.-Wittenberg / Magdeburg – Güsten – Sangerhausen – Erfurt \nAm 1. Adventswochenende eröffnet der überregional bekannte Weihnachtsmarkt in der Thüringer Landeshauptstadt Erfurt.\nDer Erfurter Weihnachtsmarkt gehört zu den schönsten Weihnachtsmärkten Deutschlands Die Altstadt Erfurts um den Domplatz sind eine Kulisse für eine stimmungsvolle Vorweihnachtszeit. Traditionelles Handwerk und Spezialitäten sind ebenso zu finden wie eine riesige\, kerzengeschmückte Weihnachtstanne\, sowie viele Geschäfte nach Schaustellerart. Die gesamte Innenstadt liegt im Lichterglanz.\nBemerkenswert ist die ca. 25 Meter hohe\, festlich beleuchtete Weihnachtstanne und die 12 Meter hohe Weihnachtspyramide.\nBesonders an den Adventswochenenden wird ein reiches Veranstaltungsprogramm geboten. \nDamit die Besucher auch eine besondere Anreise zum Weihnachtsmarkt haben\, führen die Vereine Eisenbahnfreunde Traditions-Bahnbetriebswerk Staßfurt e.V. und Förderverein Berlin-Anhaltische Eisenbahn e.V\, Sonderfahren auf den Strecken Lu.-Wittenberg -Erfurt und Magdeburg – Erfurt über Güsten\, Sangerhausen durch. \nAm 29. November verkehrt der Zug von Lu.-Wittenberg über Dessau – Köthen – Güsten – Sangerhausen nach Erfurt.\nAm 06. Dezember verkehrt der Zug von Magdeburg über Staßfurt – Güsten – Sangerhausen nach Erfurt. \nZum Einsatz gelangt am 29.11. die Museumslokomotive V 100 003\, welche vom Förderverein Berlin-Anhaltische Eisenbahn e.V. betreut wird\, technisches Denkmal des Landes Sachsen-Anhalt ist und der Museumszug der Eisenbahnfreunde Traditions-Bahnbetriebswerk Staßfurt e.V. Zusätzlich ist am 06.12. eine Bespannung mit einer Dampflokomotive geplant. \nVorverkauf und Buchung: www.lokschuppen-stassfurt.de/sonderfahrten \nKauf einer Fahrkarte im Zug: Zuschlag 2\,00 € für einfache Fahrt\, 3\,00 € für Hin- + Rückfahrt\nEin Anspruch auf Sitzplatz besteht nicht. Andere Fahrvergünstigungen können nicht anerkannt werden. Änderungen und Ergänzungen\, besonders zum Fahrplan vorbehalten.\nAktualisierte Fahrpläne sind im Internet und in Aushängen auf den Haltebahnhöfen zu finden. \nWeitere Informationen auf:\nwww.lokschuppen-stassfurt.de\nwww.eisenbahnverein-wittenberg.de \n 
URL:https://www.landkreis-wittenberg.de/event/sonderfahrt-am-29-11-und-06-12-2025-zum-weihnachtsmarkt-in-erfurt/2025-11-29/
CATEGORIES:Allgemein,Feste
ATTACH;FMTTYPE=image/jpeg:https://www.landkreis-wittenberg.de/wp-content/uploads/2025/10/Fahrplan.jpg
END:VEVENT
BEGIN:VEVENT
DTSTART;TZID=Europe/Berlin:20250830T100000
DTEND;TZID=Europe/Berlin:20250830T180000
DTSTAMP:20260425T153055
CREATED:20250725T053602Z
LAST-MODIFIED:20250725T053602Z
UID:10000789-1756548000-1756576800@www.landkreis-wittenberg.de
SUMMARY:Tag der offenen Tür des Bahnbetriebswerkes Erfurt und Sonderfahrt am 30.08.2025
DESCRIPTION:Am 30.08.2025 wird das 100 jährige Jubiläum des Bahnbetriebswerkes Erfurt gefeiert. \nAus diesem Grund wird im Werk Erfurt der DB ein Tag der offenen Tür durchgeführt.\nGeboten werden u.a. Ausstellung von Fahrzeugen\, Besichtigung der Werkstätten\, vielfältige Informationen rund um die Bahn\, buntes Rahmenprogramm\, u.a. \nAus diesem Grund führen die Vereine “Eisenbahnfreunde Traditions-Bahnbetriebswerk Staßfurt e.V” und der “Förderverein Berlin-Anhaltische Eisenbahn e.V” eine Sonderfahrt auf der Strecke \nMagdeburg – Erfurt über Güsten\, Sangerhausen durch. \nMit dieser Fahrt gibt es eine interessante\, abwechslungsreiche Verbindung zwischen den Landeshauptstätten Magdeburg und Erfurt.\nNeben dem Besuch der Veranstaltung 100 Jahre Bw Erfurt gibt es die Möglichkeit\, auch die Thüringer Landeshauptstadt zu besuchen. \nZwischen dem DB Werk und dem Hauptbahnhof Erfurt bietet die DB Regio einen Pendelverkehr an. \nZum Einsatz bei der Sonderfahrt gelangt die Museumslokomotive V 100 003\, welche vom Förderverein Berlin-Anhaltische Eisenbahn e.V. betreut wird\, technisches Denkmal des Landes Sachsen-Anhalt ist und der Museumszug der “Eisenbahnfreunde Traditions-Bahnbetriebswerk Staßfurt e.V.”. \nVorverkauf und Buchung:  \nhttps://www.lokschuppen-stassfurt.de/sonderfahrten \nKauf einer Fahrkarte im Zug:\nZuschlag 2\,00 € für einfache Fahrt\n3\,00 € für Hin- + Rückfahrt \nEin Anspruch auf Sitzplatz besteht nicht.\nAndere Fahrvergünstigungen können nicht anerkannt werden.\nÄnderungen und Ergänzungen\, besonders zum Fahrplan vorbehalten. Aktualisierte Fahrpläne sind im Internet und in Aushängen auf den Haltebahnhöfen zu finden. \nWeitere Informationen auf:\nhttps://www.lokschuppen-stassfurt.de\nhttps://www.eisenbahnverein-wittenberg.de \nMaßgebliche Unterstützung erhalten wir vom Aufgabenträger des Nahverkehrsservice Sachsen – Anhalt GmbH. Des Weiteren arbeiten wir bei der Vorbereitung und Durchführung eng mit der Leipzig Dampf Kultour und Thomas Speich Eisenbahndienstleistungen zusammen.
URL:https://www.landkreis-wittenberg.de/event/tag-der-offenen-tuer-des-bahnbetriebswerkes-erfurt-und-sonderfahrt-am-30-08-2025/
LOCATION:DB Regio Werk\, Am Wasserturm 3\, Erfurt\, 99085
CATEGORIES:Allgemein,Feste
ATTACH;FMTTYPE=image/png:https://www.landkreis-wittenberg.de/wp-content/uploads/2025/07/25.plakat.3008.png
END:VEVENT
END:VCALENDAR