BEGIN:VCALENDAR
VERSION:2.0
PRODID:-//Landkreis Wittenberg - ECPv6.15.20//NONSGML v1.0//EN
CALSCALE:GREGORIAN
METHOD:PUBLISH
X-ORIGINAL-URL:https://www.landkreis-wittenberg.de
X-WR-CALDESC:Veranstaltungen für Landkreis Wittenberg
REFRESH-INTERVAL;VALUE=DURATION:PT1H
X-Robots-Tag:noindex
X-PUBLISHED-TTL:PT1H
BEGIN:VTIMEZONE
TZID:Europe/Berlin
BEGIN:DAYLIGHT
TZOFFSETFROM:+0100
TZOFFSETTO:+0200
TZNAME:CEST
DTSTART:20240331T010000
END:DAYLIGHT
BEGIN:STANDARD
TZOFFSETFROM:+0200
TZOFFSETTO:+0100
TZNAME:CET
DTSTART:20241027T010000
END:STANDARD
BEGIN:DAYLIGHT
TZOFFSETFROM:+0100
TZOFFSETTO:+0200
TZNAME:CEST
DTSTART:20250330T010000
END:DAYLIGHT
BEGIN:STANDARD
TZOFFSETFROM:+0200
TZOFFSETTO:+0100
TZNAME:CET
DTSTART:20251026T010000
END:STANDARD
BEGIN:DAYLIGHT
TZOFFSETFROM:+0100
TZOFFSETTO:+0200
TZNAME:CEST
DTSTART:20260329T010000
END:DAYLIGHT
BEGIN:STANDARD
TZOFFSETFROM:+0200
TZOFFSETTO:+0100
TZNAME:CET
DTSTART:20261025T010000
END:STANDARD
END:VTIMEZONE
BEGIN:VEVENT
DTSTART;TZID=Europe/Berlin:20250905T203000
DTEND;TZID=Europe/Berlin:20250905T213000
DTSTAMP:20260425T160944
CREATED:20250807T094539Z
LAST-MODIFIED:20250825T124051Z
UID:10000793-1757104200-1757107800@www.landkreis-wittenberg.de
SUMMARY:Skandinavien – eine Radreise in die Arktis
DESCRIPTION:Im Rahmen des Wittenberger Stadtradelns lädt der Abenteurer und Radreisende Thomas Meixner zu einer besonderen Dia-Show ein: \n📅 Freitag\, 5. September 2025🕢 Beginn: 20:30 Uhr📍 Stadtlabor (Markt 3)\, Wittenberg🎟 Eintritt: Spende in den Hut \nThomas Meixner fuhr mit seinem Fahrrad 11000 Kilometer von Bitterfeld bis in die Arktis. \nViele Naturerlebnisse und geschichtliche Einblicke prägten diese fünfmonatige Reise. \nHöhepunkte der Tour waren die einsamen Weiten Finnlands\, das Erreichen des Nordkaps und der Besuch der Lofoten; aber auch moderne Städte wie Kopenhagen und Stockholm. \nIn einem spannenden Vortrag vermittelt der Weltenradler seine Erlebnisse und Abenteuer\, die man so sicher nur vom Fahrrad aus erleben kann. \nDie Veranstaltung ist Teil der Aktion STADTRADELN Wittenberg:🔗 www.stadtradeln.de/wittenberg \nWir freuen uns auf Ihr Kommen!
URL:https://www.landkreis-wittenberg.de/event/skandinavien-eine-radreise-in-die-arktis/
LOCATION:Im Stadtlabor\, Am Markt 3\, Lutherstadt Wittenberg\, 06886\, Germany
CATEGORIES:Allgemein,Feste
ATTACH;FMTTYPE=image/jpeg:https://www.landkreis-wittenberg.de/wp-content/uploads/2025/08/Auf-den-schoenen-Lofoten-in-Norwegen.jpg
END:VEVENT
END:VCALENDAR