BEGIN:VCALENDAR
VERSION:2.0
PRODID:-//Landkreis Wittenberg - ECPv6.15.20//NONSGML v1.0//EN
CALSCALE:GREGORIAN
METHOD:PUBLISH
X-ORIGINAL-URL:https://www.landkreis-wittenberg.de
X-WR-CALDESC:Veranstaltungen für Landkreis Wittenberg
REFRESH-INTERVAL;VALUE=DURATION:PT1H
X-Robots-Tag:noindex
X-PUBLISHED-TTL:PT1H
BEGIN:VTIMEZONE
TZID:Europe/Berlin
BEGIN:DAYLIGHT
TZOFFSETFROM:+0100
TZOFFSETTO:+0200
TZNAME:CEST
DTSTART:20240331T010000
END:DAYLIGHT
BEGIN:STANDARD
TZOFFSETFROM:+0200
TZOFFSETTO:+0100
TZNAME:CET
DTSTART:20241027T010000
END:STANDARD
BEGIN:DAYLIGHT
TZOFFSETFROM:+0100
TZOFFSETTO:+0200
TZNAME:CEST
DTSTART:20250330T010000
END:DAYLIGHT
BEGIN:STANDARD
TZOFFSETFROM:+0200
TZOFFSETTO:+0100
TZNAME:CET
DTSTART:20251026T010000
END:STANDARD
BEGIN:DAYLIGHT
TZOFFSETFROM:+0100
TZOFFSETTO:+0200
TZNAME:CEST
DTSTART:20260329T010000
END:DAYLIGHT
BEGIN:STANDARD
TZOFFSETFROM:+0200
TZOFFSETTO:+0100
TZNAME:CET
DTSTART:20261025T010000
END:STANDARD
END:VTIMEZONE
BEGIN:VEVENT
DTSTART;TZID=Europe/Berlin:20251008T160000
DTEND;TZID=Europe/Berlin:20251008T180000
DTSTAMP:20260425T143718
CREATED:20251002T095739Z
LAST-MODIFIED:20251002T095739Z
UID:10000918-1759939200-1759946400@www.landkreis-wittenberg.de
SUMMARY:LEHRKRAFT WERDEN - Weltenretter sein! Infoveranstaltung am 8. Oktober 2025 in Gräfenhainichen
DESCRIPTION:Speeddating am 8. Oktober 2025 in der Förderschule “Peter Petersen” im Poetenweg 45\, 06773 Gräfenhainichen \nTelefon: 034953/22091 \nE-Mail: kontakt@sos-graefenhainichen-g.bildung-lsa.de \nTreffpunkt: in der Schule\, 16 – 18 Uhr \nAnsprechpartner: Frau Kilian (komm. Schulleiterin) \n  \nIm Fokus stehen bei dieser Veranstaltung vor allem die Förderschulen in der Region\, die vor Ort von den Förderschulen aus Jessen\, Wittenberg und eben Gräfenhainichen repräsentiert sein werden. Ebenfalls bei der Veranstaltung vertreten ist das Landesschulamt u.a. mit Kolleginnen und Kollegen aus dem Bereich Personalgewinnung. \nInteressierte können sich in der Zeit von 16 bis 18 Uhr in einem ungezwungenen Rahmen umfassend\, authentisch und vielseitig zur Arbeit als Lehrkraft im Seiteneinstieg und den Weg in den Schuldienst informieren. Natürlich werden auch Fragen zu anderen Schulformen beantwortet. \n  \nWas Sie unbedingt mitbringen sollten: \n■ Einen Hochschulabschluss an einer Universität oder gleichwertigen Hochschule mit einem Diplom\, Master\, Magister oder an einer Universität\, Fachhochschule oder Berufsakademie mit einem Bachelor-Abschluss. \n■ Mindestens ein Realschulabschluss und eine abgeschlossene Berufsausbildung und geeignete Fachschulausbildung\, die dem Niveau 6 des Deutschen Qualifizierungsrahmens (DQR) entspricht und mindestens zwei Jahre einer beruflichen Tätigkeit\, die fachlich an die berufliche Vorbildung anknüpft Die Zulassung ist nur für als „M-Stellen“ gekennzeichnete Stellen nachrangig nach Bewerberinnen und Bewerbern vorgesehen. \n■ Bei ausländischen Abschlüssen: mit einem ausländischen Hochschulabschluss ist ein Seiteneinstieg ebenfalls möglich. Deutschkenntnisse auf dem Niveau C1 des GER gelten dabei als Voraussetzung.
URL:https://www.landkreis-wittenberg.de/event/lehrkraft-werden-weltenretter-sein-infoveranstaltung-am-8-oktober-2025-in-graefenhainichen/
LOCATION:Förderschule “Peter Petersen”\, Poetenweg 45\, Gräfenhainichen\, 06773
CATEGORIES:Allgemein,Feste
ATTACH;FMTTYPE=image/jpeg:https://www.landkreis-wittenberg.de/wp-content/uploads/2025/10/Flyer-FOeS-Graefenhainichen.jpg
END:VEVENT
END:VCALENDAR