BEGIN:VCALENDAR
VERSION:2.0
PRODID:-//Landkreis Wittenberg - ECPv6.15.20//NONSGML v1.0//EN
CALSCALE:GREGORIAN
METHOD:PUBLISH
X-ORIGINAL-URL:https://www.landkreis-wittenberg.de
X-WR-CALDESC:Veranstaltungen für Landkreis Wittenberg
REFRESH-INTERVAL;VALUE=DURATION:PT1H
X-Robots-Tag:noindex
X-PUBLISHED-TTL:PT1H
BEGIN:VTIMEZONE
TZID:Europe/Berlin
BEGIN:DAYLIGHT
TZOFFSETFROM:+0100
TZOFFSETTO:+0200
TZNAME:CEST
DTSTART:20240331T010000
END:DAYLIGHT
BEGIN:STANDARD
TZOFFSETFROM:+0200
TZOFFSETTO:+0100
TZNAME:CET
DTSTART:20241027T010000
END:STANDARD
BEGIN:DAYLIGHT
TZOFFSETFROM:+0100
TZOFFSETTO:+0200
TZNAME:CEST
DTSTART:20250330T010000
END:DAYLIGHT
BEGIN:STANDARD
TZOFFSETFROM:+0200
TZOFFSETTO:+0100
TZNAME:CET
DTSTART:20251026T010000
END:STANDARD
BEGIN:DAYLIGHT
TZOFFSETFROM:+0100
TZOFFSETTO:+0200
TZNAME:CEST
DTSTART:20260329T010000
END:DAYLIGHT
BEGIN:STANDARD
TZOFFSETFROM:+0200
TZOFFSETTO:+0100
TZNAME:CET
DTSTART:20261025T010000
END:STANDARD
END:VTIMEZONE
BEGIN:VEVENT
DTSTART;TZID=Europe/Berlin:20250524T160000
DTEND;TZID=Europe/Berlin:20250524T173000
DTSTAMP:20260424T144230
CREATED:20250402T074949Z
LAST-MODIFIED:20250407T074050Z
UID:10000721-1748102400-1748107800@www.landkreis-wittenberg.de
SUMMARY:Führung über den historischen Friedhof
DESCRIPTION:Ein Spaziergang über den altehrwürdigen Friedhof mit seinen historischen Denkmälern und alten Grabinschriften.\nStattliche Grabmale\, vermooste Kreuze und Stelen erzählen allesamt Geschichten von denen\, die dort für immer schweigen. \nTermin: 24.05.2025 um 16:00 Uhr\nDauer: 1\,5 Stunden\nPreis: 12\,00 € p.P.\nTreffpunkt: Eingang Friedhof Dresdener Str. 3-5 \nMaximale Teilnehmerzahl: 30 Personen. \nEine Anmeldung für diese Führungen ist zwingend notwendig unter: Tel. 03491-498610 oder per E- Mail an info@lutherstadt-wittenberg.de
URL:https://www.landkreis-wittenberg.de/event/fuehrung-ueber-den-historischen-friedhof/
LOCATION:Friedhof Dresdener Straße\, Dresdener Str. 3-5\, Lutherstadt Wittenberg\, 06886\, Germany
CATEGORIES:Allgemein,Feste
ORGANIZER;CN="Tourist-Information Lutherstadt-Wittenberg":MAILTO:info@lutherstadt-wittenberg.de
END:VEVENT
END:VCALENDAR