BEGIN:VCALENDAR
VERSION:2.0
PRODID:-//Landkreis Wittenberg - ECPv6.15.20//NONSGML v1.0//EN
CALSCALE:GREGORIAN
METHOD:PUBLISH
X-ORIGINAL-URL:https://www.landkreis-wittenberg.de
X-WR-CALDESC:Veranstaltungen für Landkreis Wittenberg
REFRESH-INTERVAL;VALUE=DURATION:PT1H
X-Robots-Tag:noindex
X-PUBLISHED-TTL:PT1H
BEGIN:VTIMEZONE
TZID:Europe/Berlin
BEGIN:DAYLIGHT
TZOFFSETFROM:+0100
TZOFFSETTO:+0200
TZNAME:CEST
DTSTART:20230326T010000
END:DAYLIGHT
BEGIN:STANDARD
TZOFFSETFROM:+0200
TZOFFSETTO:+0100
TZNAME:CET
DTSTART:20231029T010000
END:STANDARD
BEGIN:DAYLIGHT
TZOFFSETFROM:+0100
TZOFFSETTO:+0200
TZNAME:CEST
DTSTART:20240331T010000
END:DAYLIGHT
BEGIN:STANDARD
TZOFFSETFROM:+0200
TZOFFSETTO:+0100
TZNAME:CET
DTSTART:20241027T010000
END:STANDARD
BEGIN:DAYLIGHT
TZOFFSETFROM:+0100
TZOFFSETTO:+0200
TZNAME:CEST
DTSTART:20250330T010000
END:DAYLIGHT
BEGIN:STANDARD
TZOFFSETFROM:+0200
TZOFFSETTO:+0100
TZNAME:CET
DTSTART:20251026T010000
END:STANDARD
END:VTIMEZONE
BEGIN:VEVENT
DTSTART;TZID=Europe/Berlin:20240309T130000
DTEND;TZID=Europe/Berlin:20240309T163000
DTSTAMP:20260425T123821
CREATED:20240301T085249Z
LAST-MODIFIED:20240306T141854Z
UID:10000369-1709989200-1710001800@www.landkreis-wittenberg.de
SUMMARY:Vergessene Orte: „WASAG“ - Große Führung durch das Werksgelände mit informellem Vortrag
DESCRIPTION:Nach der Gründung der WASAG (Westfälisch-Anhaltische Sprengstoff-Aktiengesellschaft) durch Dr. Max Bielefeldt und ein Konsortium von Unternehmern und Aktionären im Jahre 1891 erfolgte bereits ab 1893 der Aufbau des Werkes in Reinsdorf. Bereits 1894 waren erste Produktionsanlagen fertiggestellt.\nSehen und erleben Sie diese einst bedeutungsvolle Stätte. Hören Sie die Geschichte zum Werk und die Geschichten zu den Menschen\, die dort einst gearbeitet und so dem Ort seine Lebendigkeit verliehen haben.\nFür diese Führung ist eine Mindestteilnehmerzahl von 10 Personen notwendig. \nDauer ca. 3\,5 h insgesamt (Länge ca. 3\,5 km) \nTreffpunkt: Pförtnerhäuschen des ehemaligen Krankenhauses Apollensdorf\, Kreuzung Heuweg/Kastanienweg\, 06886 Lutherstadt Wittenberg \nEine Anmeldung ist zwingend erforderlich. \nTickets können Sie unter diesem Link erwerben: https://wittenberg-booking.inet-mainz.de/
URL:https://www.landkreis-wittenberg.de/event/vergessene-orte-wasag/2024-03-09/
LOCATION:Ehemaliges Krankenhaus Apollensdorf\, Kreuzung Heuweg/Kastanienweg am Pförtnerhaus\, Lutherstadt Wittenberg\, 06886
CATEGORIES:Allgemein
ATTACH;FMTTYPE=image/jpeg:https://www.landkreis-wittenberg.de/wp-content/uploads/2024/03/Vergessene-Orte-WASAG.jpg
ORGANIZER;CN="Tourist-Information Lutherstadt-Wittenberg":MAILTO:info@lutherstadt-wittenberg.de
END:VEVENT
BEGIN:VEVENT
DTSTART;TZID=Europe/Berlin:20240323T130000
DTEND;TZID=Europe/Berlin:20240323T163000
DTSTAMP:20260425T123821
CREATED:20240301T085249Z
LAST-MODIFIED:20240306T141854Z
UID:10000370-1711198800-1711211400@www.landkreis-wittenberg.de
SUMMARY:Vergessene Orte: „WASAG“ - Große Führung durch das Werksgelände mit informellem Vortrag
DESCRIPTION:Nach der Gründung der WASAG (Westfälisch-Anhaltische Sprengstoff-Aktiengesellschaft) durch Dr. Max Bielefeldt und ein Konsortium von Unternehmern und Aktionären im Jahre 1891 erfolgte bereits ab 1893 der Aufbau des Werkes in Reinsdorf. Bereits 1894 waren erste Produktionsanlagen fertiggestellt.\nSehen und erleben Sie diese einst bedeutungsvolle Stätte. Hören Sie die Geschichte zum Werk und die Geschichten zu den Menschen\, die dort einst gearbeitet und so dem Ort seine Lebendigkeit verliehen haben.\nFür diese Führung ist eine Mindestteilnehmerzahl von 10 Personen notwendig. \nDauer ca. 3\,5 h insgesamt (Länge ca. 3\,5 km) \nTreffpunkt: Pförtnerhäuschen des ehemaligen Krankenhauses Apollensdorf\, Kreuzung Heuweg/Kastanienweg\, 06886 Lutherstadt Wittenberg \nEine Anmeldung ist zwingend erforderlich. \nTickets können Sie unter diesem Link erwerben: https://wittenberg-booking.inet-mainz.de/
URL:https://www.landkreis-wittenberg.de/event/vergessene-orte-wasag/2024-03-23/
LOCATION:Ehemaliges Krankenhaus Apollensdorf\, Kreuzung Heuweg/Kastanienweg am Pförtnerhaus\, Lutherstadt Wittenberg\, 06886
CATEGORIES:Allgemein
ATTACH;FMTTYPE=image/jpeg:https://www.landkreis-wittenberg.de/wp-content/uploads/2024/03/Vergessene-Orte-WASAG.jpg
ORGANIZER;CN="Tourist-Information Lutherstadt-Wittenberg":MAILTO:info@lutherstadt-wittenberg.de
END:VEVENT
BEGIN:VEVENT
DTSTART;TZID=Europe/Berlin:20240330T140000
DTEND;TZID=Europe/Berlin:20240330T153000
DTSTAMP:20260425T123821
CREATED:20240301T092156Z
LAST-MODIFIED:20240306T141808Z
UID:10000389-1711807200-1711812600@www.landkreis-wittenberg.de
SUMMARY:Vergessene Orte: Führung „CAMP NEUMÜHLE" im Stadtwald
DESCRIPTION:Wir nehmen Sie mit auf eine Spurensuche zum ehemaligen Zivilarbeitslager\, in dem zur Zeit des 2. Weltkrieges Franzosen untergebracht wurden\, um in dem 2 km entfernten ehemaligen Sprengstoffwerk\, der WASAG\, zu arbeiten. \nVom Moos verhüllte Fundamente und Überreste des Lagers sind noch zu sehen. \nFür diese Führung ist eine Mindestteilnehmerzahl von 20 Personen notwendig. \nEine Anmeldung ist zwingend erforderlich. \nTickets können Sie unter diesem Link erwerben: https://wittenberg-booking.inet-mainz.de/
URL:https://www.landkreis-wittenberg.de/event/vergessene-orte-fuehrung-camp-neumuehle-im-stadtwald/2024-03-30/
LOCATION:NABU-Zentrum im Stadtwald\, Reinsdorfer Weg 46\, Lutherstadt Wittenberg\, 06886\, Germany
CATEGORIES:Allgemein
ATTACH;FMTTYPE=image/jpeg:https://www.landkreis-wittenberg.de/wp-content/uploads/2024/03/Vergessene-Orte-WASAG.jpg
ORGANIZER;CN="Tourist-Information Lutherstadt-Wittenberg":MAILTO:info@lutherstadt-wittenberg.de
END:VEVENT
BEGIN:VEVENT
DTSTART;TZID=Europe/Berlin:20240330T190000
DTEND;TZID=Europe/Berlin:20240330T190000
DTSTAMP:20260425T123821
CREATED:20240301T091005Z
LAST-MODIFIED:20240708T075127Z
UID:10000378-1711825200-1711825200@www.landkreis-wittenberg.de
SUMMARY:Wittenberger Nachtgeschichten - Führung und Essen
DESCRIPTION:Im Fackelschein begleitet Sie ein historisch gewandeter Stadtführer\, der Ihnen allerlei Interessantes und Unterhaltsames aus dem Wittenberg des 16. Jahrhunderts zu berichten weiß. \nVor Wegelagerern und Beutelabschneidern werden Sie von den Wittenberger Wächtern beschützt. \n\n\n\nBeginn:\n21:00 Uhr\n\n\nDauer:\n1 Stunde\n\n\nPreis:\n12\,-€/ erm. 10\,-€\n\n\nTreffpunkt:\nTourist-Information\, Schlossplatz 2\n\n\n\nTickets können Sie unter diesem Link erwerben: https://wittenberg-booking.inet-mainz.de/ \nFührung & Essen \nGern heißen wir Sie vor der Führung im Restaurant “Die Niederlassung” herzlich willkommen. Hier servieren wir Ihnen thematisch passende Küche. Alternativ bieten wir Ihnen auch ein vegetarisches Essen an. \n\nBeginn: 19:00 Uhr\nPreis: 37\,-€/ Person\nTreffpunkt:  Restaurant “Die Niederlassung”\, Pfaffengasse 28A\n\nWenn Sie die Kombination aus Führung und Abendessen wünschen\, ist eine vorherige Anmeldung zwingend erforderlich. \nTickets können Sie unter diesem Link erwerben: https://wittenberg-booking.inet-mainz.de/
URL:https://www.landkreis-wittenberg.de/event/wittenberger-nachtgeschichten-fuehrung-und-essen/2024-03-30/
LOCATION:Restaurant “Die Niederlassung”\, Pfaffengasse 28A\, Lutherstadt Wittenberg\, 06886\, Germany
CATEGORIES:Allgemein
ATTACH;FMTTYPE=image/jpeg:https://www.landkreis-wittenberg.de/wp-content/uploads/2024/03/Wittenberger-Nachtgeschichten.jpg
ORGANIZER;CN="Tourist-Information Lutherstadt-Wittenberg":MAILTO:info@lutherstadt-wittenberg.de
END:VEVENT
END:VCALENDAR