BEGIN:VCALENDAR
VERSION:2.0
PRODID:-//Landkreis Wittenberg - ECPv6.15.20//NONSGML v1.0//EN
CALSCALE:GREGORIAN
METHOD:PUBLISH
X-ORIGINAL-URL:https://www.landkreis-wittenberg.de
X-WR-CALDESC:Veranstaltungen für Landkreis Wittenberg
REFRESH-INTERVAL;VALUE=DURATION:PT1H
X-Robots-Tag:noindex
X-PUBLISHED-TTL:PT1H
BEGIN:VTIMEZONE
TZID:Europe/Berlin
BEGIN:DAYLIGHT
TZOFFSETFROM:+0100
TZOFFSETTO:+0200
TZNAME:CEST
DTSTART:20240331T010000
END:DAYLIGHT
BEGIN:STANDARD
TZOFFSETFROM:+0200
TZOFFSETTO:+0100
TZNAME:CET
DTSTART:20241027T010000
END:STANDARD
BEGIN:DAYLIGHT
TZOFFSETFROM:+0100
TZOFFSETTO:+0200
TZNAME:CEST
DTSTART:20250330T010000
END:DAYLIGHT
BEGIN:STANDARD
TZOFFSETFROM:+0200
TZOFFSETTO:+0100
TZNAME:CET
DTSTART:20251026T010000
END:STANDARD
BEGIN:DAYLIGHT
TZOFFSETFROM:+0100
TZOFFSETTO:+0200
TZNAME:CEST
DTSTART:20260329T010000
END:DAYLIGHT
BEGIN:STANDARD
TZOFFSETFROM:+0200
TZOFFSETTO:+0100
TZNAME:CET
DTSTART:20261025T010000
END:STANDARD
END:VTIMEZONE
BEGIN:VEVENT
DTSTART;TZID=Europe/Berlin:20250905T160000
DTEND;TZID=Europe/Berlin:20250905T190000
DTSTAMP:20260425T161225
CREATED:20250827T075810Z
LAST-MODIFIED:20250827T075932Z
UID:10000869-1757088000-1757098800@www.landkreis-wittenberg.de
SUMMARY:Engagement-Basar in Gräfenhainichen
DESCRIPTION:Der zweite Engagement-Basar im Landkreis Wittenberg lädt alle Interessierten zum Austausch\, Kennenlernen und Mitmachen ein. Vereine\, Initiativen und Projekte aus der Region stellen ihr Engagement in Bereichen wie Jugendbeteiligung\, Nachbarschaftshilfe\, Vielfalt und Integration vor. Besucherinnen und Besucher erwartet eine Gesprächsrunde sowie die Möglichkeit\, ins Gespräch zu kommen und Mitmachangebote kennenzulernen. \n\n\nDatum & Uhrzeit: Freitag\, 5. September 2025\, 16–19 Uhr \n\n\nOrt: LEB Anhalt-Wittenberg e.V.\, Gutenbergplatz 1b\, Gräfenhainichen \n\n\nDer Eintritt ist frei\, eine Anmeldung ist nicht erforderlich.Parkplätze stehen auf dem Gutenbergplatz gegenüber zur Verfügung (keine Parkmöglichkeit auf dem Gelände).
URL:https://www.landkreis-wittenberg.de/event/engagement-basar-in-graefenhainichen/
LOCATION:LEB Anhalt-Wittenberg e.V.\, Gutenbergplatz 1b\, Gräfenhainichen
CATEGORIES:Allgemein,Feste
ATTACH;FMTTYPE=image/jpeg:https://www.landkreis-wittenberg.de/wp-content/uploads/2025/08/Engagement-Basar.jpg
END:VEVENT
END:VCALENDAR