BEGIN:VCALENDAR
VERSION:2.0
PRODID:-//Landkreis Wittenberg - ECPv6.15.20//NONSGML v1.0//EN
CALSCALE:GREGORIAN
METHOD:PUBLISH
X-WR-CALNAME:Landkreis Wittenberg
X-ORIGINAL-URL:https://www.landkreis-wittenberg.de
X-WR-CALDESC:Veranstaltungen für Landkreis Wittenberg
REFRESH-INTERVAL;VALUE=DURATION:PT1H
X-Robots-Tag:noindex
X-PUBLISHED-TTL:PT1H
BEGIN:VTIMEZONE
TZID:Europe/Berlin
BEGIN:DAYLIGHT
TZOFFSETFROM:+0100
TZOFFSETTO:+0200
TZNAME:CEST
DTSTART:20240331T010000
END:DAYLIGHT
BEGIN:STANDARD
TZOFFSETFROM:+0200
TZOFFSETTO:+0100
TZNAME:CET
DTSTART:20241027T010000
END:STANDARD
BEGIN:DAYLIGHT
TZOFFSETFROM:+0100
TZOFFSETTO:+0200
TZNAME:CEST
DTSTART:20250330T010000
END:DAYLIGHT
BEGIN:STANDARD
TZOFFSETFROM:+0200
TZOFFSETTO:+0100
TZNAME:CET
DTSTART:20251026T010000
END:STANDARD
BEGIN:DAYLIGHT
TZOFFSETFROM:+0100
TZOFFSETTO:+0200
TZNAME:CEST
DTSTART:20260329T010000
END:DAYLIGHT
BEGIN:STANDARD
TZOFFSETFROM:+0200
TZOFFSETTO:+0100
TZNAME:CET
DTSTART:20261025T010000
END:STANDARD
END:VTIMEZONE
BEGIN:VEVENT
DTSTART;TZID=Europe/Berlin:20251024T160000
DTEND;TZID=Europe/Berlin:20251024T173000
DTSTAMP:20260425T181217
CREATED:20251009T110801Z
LAST-MODIFIED:20251009T110801Z
UID:10000921-1761321600-1761327000@www.landkreis-wittenberg.de
SUMMARY:Dia-Show “Abenteuer Seidenstraße - mit dem Fahrrad unterwegs nach China"
DESCRIPTION:Thomas Meixner begann seine Fahrradreise in Bitterfeld und kurbelte knapp 13.000 Kilometer bis in die alte Kaiserstadt Xian in Zentralchina. Gastfreundschaft\, Geschichte und Naturerlebnisse prägten diese sechsmonatige Reise.\nHöhepunkte der Tour waren die Türkei\, das gastfreundliche Usbekistan und der wüstige Westen Chinas. \nIn einem spannenden Vortrag vermittelt der Weltenradler seine Erlebnisse und Abenteuer\, die man so sicher nur vom Fahrrad aus erleben kann. \nAm 24. Oktober 2025 um 16.00 Uhr und noch einmal um 19:30 Uhr präsentiert Thomas Meixner seine Multivisionsshow über seine Reise mit dem Fahrrad auf der Seidenstraße. \nOrt: Simonetti-Haus in Coswig (Anhalt) \nKartenvorverkauf: Reisebüro Wricke Coswig T: 034903 – 62 577\nSimonetti-Haus Tel: 034903 – 499 223 (info@simonettihaus.de) \nInfos auch unter: www.thomasmeixner.de
URL:https://www.landkreis-wittenberg.de/event/dia-show-abenteuer-seidenstrasse-mit-dem-fahrrad-unterwegs-nach-china/2025-10-24/1/
LOCATION:Simonetti Haus Coswig (Anhalt)\, Zerbster Str. 40\, Coswig (Anhalt)\, 06869
CATEGORIES:Allgemein,Kulturelle Veranstaltungen
ATTACH;FMTTYPE=image/jpeg:https://www.landkreis-wittenberg.de/wp-content/uploads/2025/10/Buch-Seidenstrasse-cover.jpg
END:VEVENT
BEGIN:VEVENT
DTSTART;TZID=Europe/Berlin:20251024T193000
DTEND;TZID=Europe/Berlin:20251024T210000
DTSTAMP:20260425T181217
CREATED:20251009T110801Z
LAST-MODIFIED:20251009T110801Z
UID:10000922-1761334200-1761339600@www.landkreis-wittenberg.de
SUMMARY:Dia-Show “Abenteuer Seidenstraße - mit dem Fahrrad unterwegs nach China"
DESCRIPTION:Thomas Meixner begann seine Fahrradreise in Bitterfeld und kurbelte knapp 13.000 Kilometer bis in die alte Kaiserstadt Xian in Zentralchina. Gastfreundschaft\, Geschichte und Naturerlebnisse prägten diese sechsmonatige Reise.\nHöhepunkte der Tour waren die Türkei\, das gastfreundliche Usbekistan und der wüstige Westen Chinas. \nIn einem spannenden Vortrag vermittelt der Weltenradler seine Erlebnisse und Abenteuer\, die man so sicher nur vom Fahrrad aus erleben kann. \nAm 24. Oktober 2025 um 16.00 Uhr und noch einmal um 19:30 Uhr präsentiert Thomas Meixner seine Multivisionsshow über seine Reise mit dem Fahrrad auf der Seidenstraße. \nOrt: Simonetti-Haus in Coswig (Anhalt) \nKartenvorverkauf: Reisebüro Wricke Coswig T: 034903 – 62 577\nSimonetti-Haus Tel: 034903 – 499 223 (info@simonettihaus.de) \nInfos auch unter: www.thomasmeixner.de
URL:https://www.landkreis-wittenberg.de/event/dia-show-abenteuer-seidenstrasse-mit-dem-fahrrad-unterwegs-nach-china/2025-10-24/2/
LOCATION:Simonetti Haus Coswig (Anhalt)\, Zerbster Str. 40\, Coswig (Anhalt)\, 06869
CATEGORIES:Allgemein,Kulturelle Veranstaltungen
ATTACH;FMTTYPE=image/jpeg:https://www.landkreis-wittenberg.de/wp-content/uploads/2025/10/Buch-Seidenstrasse-cover.jpg
END:VEVENT
END:VCALENDAR