BEGIN:VCALENDAR
VERSION:2.0
PRODID:-//Landkreis Wittenberg - ECPv6.15.20//NONSGML v1.0//EN
CALSCALE:GREGORIAN
METHOD:PUBLISH
X-ORIGINAL-URL:https://www.landkreis-wittenberg.de
X-WR-CALDESC:Veranstaltungen für Landkreis Wittenberg
REFRESH-INTERVAL;VALUE=DURATION:PT1H
X-Robots-Tag:noindex
X-PUBLISHED-TTL:PT1H
BEGIN:VTIMEZONE
TZID:Europe/Berlin
BEGIN:DAYLIGHT
TZOFFSETFROM:+0100
TZOFFSETTO:+0200
TZNAME:CEST
DTSTART:20240331T010000
END:DAYLIGHT
BEGIN:STANDARD
TZOFFSETFROM:+0200
TZOFFSETTO:+0100
TZNAME:CET
DTSTART:20241027T010000
END:STANDARD
BEGIN:DAYLIGHT
TZOFFSETFROM:+0100
TZOFFSETTO:+0200
TZNAME:CEST
DTSTART:20250330T010000
END:DAYLIGHT
BEGIN:STANDARD
TZOFFSETFROM:+0200
TZOFFSETTO:+0100
TZNAME:CET
DTSTART:20251026T010000
END:STANDARD
BEGIN:DAYLIGHT
TZOFFSETFROM:+0100
TZOFFSETTO:+0200
TZNAME:CEST
DTSTART:20260329T010000
END:DAYLIGHT
BEGIN:STANDARD
TZOFFSETFROM:+0200
TZOFFSETTO:+0100
TZNAME:CET
DTSTART:20261025T010000
END:STANDARD
END:VTIMEZONE
BEGIN:VEVENT
DTSTART;TZID=Europe/Berlin:20251230T080000
DTEND;TZID=Europe/Berlin:20251230T170000
DTSTAMP:20260423T124226
CREATED:20251203T130220Z
LAST-MODIFIED:20251203T130220Z
UID:10001080-1767081600-1767114000@www.landkreis-wittenberg.de
SUMMARY:KOBRA WOLF WEITE - Exkursion und Picknick im Naturpark Fläming/Sachsen-Anhalt
DESCRIPTION:Der Naturpark Fläming e. V.\, öffnet Augen\, Ohren und Herzen für die Natur und alle Lebewesen\, die im Naturpark leben. Kleine und große Menschen werden in der Natur zusammengebracht\, um aus der Geschichte für die Zukunft zu lernen.  Mit diesem Projekt soll durch gemeinsame Wanderungen\, Exkursionen und Picknicks unsere einzigartige Kulturlandschaft erlebbar gemacht und Zeit zum Wissentransfer zwischen den Generationen geschaffen werden. \nKOBRA steht für das gleichnamige Projekt\, in dem wir Kontinuitäten\, Brüche und neue Ausblicke sichtbar machen. Der Wolf verweist auf den Naturpark Fläming/Sachsen-Anhalt: auf Wildnis\, Rückkehr\, aber auch auf Fragen\, Konflikte und gemeinsame Verantwortung\, über die man bei der Wanderung offen sprechen möchte. Die Weite schließlich beschreibt die besondere Landschaft des Flämings – ein Raum voller Horizonte\, Stille und Licht\, der nicht nur Naturerlebnisse ermöglicht\, sondern seit jeher Künstler*innen\, Kulturschaffende und Geschichten hervorgebracht hat. \nAm Dienstag\, den 30.12.2025 lädt der Naturpark Fläming um 10 Uhr ab der Jagdhütte Göritz zu einer besonderen 12 km langen Winterwanderung ein\, die Naturbeobachtung\, Wissensvermittlung und gemeinschaftliches Erleben miteinander verbindet. \nThemenschwerpunkte: \n\nWiderstandsfähige Baumarten\, Pflegekonzepte und die Frage\, wie unsere Wälder der Zukunft aussehen können\,\nDie Rückkehr der Wölfe in den Fläming: Wie lebt ein Wolfsrudel? Was bedeutet Wolfsmonitoring? Welche Chancen und Herausforderungen bringt die Art für unsere Kulturlandschaft mit sich?\n\nGemeinsam möchten wir Kontinuitäten und Brüche im Zusammenspiel von Natur\, Nutzung und gesellschaftlichen Erwartungen erkennen – und darüber sprechen\, wie sich regionale Verantwortung\, Naturschutz und Nachhaltigkeit miteinander verbinden. \nIm Anschluss an die Wanderung gibt es ein leckeres regionales Nachweihnachtsessen mit warmen Getränken\, bei dem wir die Eindrücke des Tages teilen und miteinander ins Gespräch kommen können. \nDie Teilnehmendenzahl ist auf 20 Personen begrenzt.  \nDie Veranstaltung findet auf Spendenbasis statt.  \nAnmeldung bitte per E-Mail an: annekatrin.els@naturpark-flaeming.de \n„Aller.Land – zusammen gestalten. Strukturen stärken.“ ist ein Programm für Kultur\, Beteiligung und Demokratie. Es richtet sich an ländliche\, insbesondere strukturschwache ländliche Regionen in ganz Deutschland. Gefördert wird „Aller.Land“ durch den Beauftragten der Bundesregierung für Kultur und Medien (BKM) und das Bundesministerium für Landwirtschaft\, Ernährung und Heimat (BMLEH) sowie durch die Bundeszentrale für politische Bildung (bpb). Programmpartner ist das Bundesministerium des Innern (BMI). Der Bund stellt für das Programm von 2023 bis 2030 insgesamt 69\,4 Millionen Euro aus dem Bundesprogramm Ländliche Entwicklung und Regionale Wertschöpfung (BULEplus) sowie aus Mitteln der bpb zur Verfügung. www.allerland-programm.de \n 
URL:https://www.landkreis-wittenberg.de/event/kobra-wolf-weite-exkursion-und-picknick-im-naturpark-flaeming-sachsen-anhalt-2/
LOCATION:Jagdhütte Göritz\, Coswig; OT Göritz\, 06862\, Germany
CATEGORIES:Allgemein
ATTACH;FMTTYPE=image/jpeg:https://www.landkreis-wittenberg.de/wp-content/uploads/2025/12/KOBRA-Social-Media-Post-30.12.2025.jpg
ORGANIZER;CN="Naturpark Fl%C3%A4ming e.V.":MAILTO:info@naturpark-flaeming.de
END:VEVENT
END:VCALENDAR