BEGIN:VCALENDAR
VERSION:2.0
PRODID:-//Landkreis Wittenberg - ECPv6.15.20//NONSGML v1.0//EN
CALSCALE:GREGORIAN
METHOD:PUBLISH
X-WR-CALNAME:Landkreis Wittenberg
X-ORIGINAL-URL:https://www.landkreis-wittenberg.de
X-WR-CALDESC:Veranstaltungen für Landkreis Wittenberg
REFRESH-INTERVAL;VALUE=DURATION:PT1H
X-Robots-Tag:noindex
X-PUBLISHED-TTL:PT1H
BEGIN:VTIMEZONE
TZID:Europe/Berlin
BEGIN:DAYLIGHT
TZOFFSETFROM:+0100
TZOFFSETTO:+0200
TZNAME:CEST
DTSTART:20240331T010000
END:DAYLIGHT
BEGIN:STANDARD
TZOFFSETFROM:+0200
TZOFFSETTO:+0100
TZNAME:CET
DTSTART:20241027T010000
END:STANDARD
BEGIN:DAYLIGHT
TZOFFSETFROM:+0100
TZOFFSETTO:+0200
TZNAME:CEST
DTSTART:20250330T010000
END:DAYLIGHT
BEGIN:STANDARD
TZOFFSETFROM:+0200
TZOFFSETTO:+0100
TZNAME:CET
DTSTART:20251026T010000
END:STANDARD
BEGIN:DAYLIGHT
TZOFFSETFROM:+0100
TZOFFSETTO:+0200
TZNAME:CEST
DTSTART:20260329T010000
END:DAYLIGHT
BEGIN:STANDARD
TZOFFSETFROM:+0200
TZOFFSETTO:+0100
TZNAME:CET
DTSTART:20261025T010000
END:STANDARD
END:VTIMEZONE
BEGIN:VEVENT
DTSTART;TZID=Europe/Berlin:20250813T170000
DTEND;TZID=Europe/Berlin:20250813T210000
DTSTAMP:20260425T170554
CREATED:20250304T093923Z
LAST-MODIFIED:20250813T074247Z
UID:10000795-1755104400-1755118800@www.landkreis-wittenberg.de
SUMMARY:After Work im Weinberg
DESCRIPTION:Lust auf einen entspannten Sommerabend mit einem kühlen Glas Wein und netter Gesellschaft? \nDann kommt zu unserem AFTER WORK zwischen den Reben – locker\, ungezwungen und voller Sommerfeeling. \nAuf euch wartet:🍷 Erfrischende Weine direkt im Weinberg🎶 Chillige Musik und Urlaubsstimmung🧺 Picknick-Flair mit eigener Decke oder gemütlichen Sitzplätzen vor Ort (begrenzte Anzahl) \nBringt gern eure Lieblingsdecke mit oder macht es euch auf unseren Plätzen bequem. \nKeine Anmeldung\, keine Formalitäten – einfach vorbeischauen\, abschalten und den Abend genießen! 🍷☀️
URL:https://www.landkreis-wittenberg.de/event/after-work-im-weinberg/2025-08-13/
LOCATION:Weinmanufaktur Zwicker\, Am Gorrenberg 30\, Jessen\, 06917\, Germany
CATEGORIES:Allgemein,Feste
ATTACH;FMTTYPE=image/png:https://www.landkreis-wittenberg.de/wp-content/uploads/2025/03/AfterWork.png
END:VEVENT
BEGIN:VEVENT
DTSTART;TZID=Europe/Berlin:20250820T170000
DTEND;TZID=Europe/Berlin:20250820T210000
DTSTAMP:20260425T170554
CREATED:20250304T093923Z
LAST-MODIFIED:20250813T074247Z
UID:10000796-1755709200-1755723600@www.landkreis-wittenberg.de
SUMMARY:After Work im Weinberg
DESCRIPTION:Lust auf einen entspannten Sommerabend mit einem kühlen Glas Wein und netter Gesellschaft? \nDann kommt zu unserem AFTER WORK zwischen den Reben – locker\, ungezwungen und voller Sommerfeeling. \nAuf euch wartet:🍷 Erfrischende Weine direkt im Weinberg🎶 Chillige Musik und Urlaubsstimmung🧺 Picknick-Flair mit eigener Decke oder gemütlichen Sitzplätzen vor Ort (begrenzte Anzahl) \nBringt gern eure Lieblingsdecke mit oder macht es euch auf unseren Plätzen bequem. \nKeine Anmeldung\, keine Formalitäten – einfach vorbeischauen\, abschalten und den Abend genießen! 🍷☀️
URL:https://www.landkreis-wittenberg.de/event/after-work-im-weinberg/2025-08-20/
LOCATION:Weinmanufaktur Zwicker\, Am Gorrenberg 30\, Jessen\, 06917\, Germany
CATEGORIES:Allgemein,Feste
ATTACH;FMTTYPE=image/png:https://www.landkreis-wittenberg.de/wp-content/uploads/2025/03/AfterWork.png
END:VEVENT
BEGIN:VEVENT
DTSTART;TZID=Europe/Berlin:20250827T170000
DTEND;TZID=Europe/Berlin:20250827T210000
DTSTAMP:20260425T170554
CREATED:20250304T093923Z
LAST-MODIFIED:20250813T074247Z
UID:10000797-1756314000-1756328400@www.landkreis-wittenberg.de
SUMMARY:After Work im Weinberg
DESCRIPTION:Lust auf einen entspannten Sommerabend mit einem kühlen Glas Wein und netter Gesellschaft? \nDann kommt zu unserem AFTER WORK zwischen den Reben – locker\, ungezwungen und voller Sommerfeeling. \nAuf euch wartet:🍷 Erfrischende Weine direkt im Weinberg🎶 Chillige Musik und Urlaubsstimmung🧺 Picknick-Flair mit eigener Decke oder gemütlichen Sitzplätzen vor Ort (begrenzte Anzahl) \nBringt gern eure Lieblingsdecke mit oder macht es euch auf unseren Plätzen bequem. \nKeine Anmeldung\, keine Formalitäten – einfach vorbeischauen\, abschalten und den Abend genießen! 🍷☀️
URL:https://www.landkreis-wittenberg.de/event/after-work-im-weinberg/2025-08-27/
LOCATION:Weinmanufaktur Zwicker\, Am Gorrenberg 30\, Jessen\, 06917\, Germany
CATEGORIES:Allgemein,Feste
ATTACH;FMTTYPE=image/png:https://www.landkreis-wittenberg.de/wp-content/uploads/2025/03/AfterWork.png
END:VEVENT
BEGIN:VEVENT
DTSTART;TZID=Europe/Berlin:20250828T210000
DTEND;TZID=Europe/Berlin:20250828T210000
DTSTAMP:20260425T170554
CREATED:20250813T065116Z
LAST-MODIFIED:20250822T080726Z
UID:10000867-1756414800-1756414800@www.landkreis-wittenberg.de
SUMMARY:After Work im Weinberg
DESCRIPTION:Sie können gern an unserem Wein-Yoga (jeweils 18 Uhr für 20€ inkl. ein Glas Wein) teilnehmen.\n\n\nACHTUNG: After Work findet statt von 17 bis 21 Uhr!!!
URL:https://www.landkreis-wittenberg.de/event/after-work-im-weinberg-2/
LOCATION:Weinmanufaktur Zwicker\, Am Gorrenberg 30\, Jessen\, 06917\, Germany
CATEGORIES:Allgemein,Feste
ATTACH;FMTTYPE=image/png:https://www.landkreis-wittenberg.de/wp-content/uploads/2025/03/AfterWork.png
END:VEVENT
END:VCALENDAR