BEGIN:VCALENDAR
VERSION:2.0
PRODID:-//Landkreis Wittenberg - ECPv6.15.20//NONSGML v1.0//EN
CALSCALE:GREGORIAN
METHOD:PUBLISH
X-ORIGINAL-URL:https://www.landkreis-wittenberg.de
X-WR-CALDESC:Veranstaltungen für Landkreis Wittenberg
REFRESH-INTERVAL;VALUE=DURATION:PT1H
X-Robots-Tag:noindex
X-PUBLISHED-TTL:PT1H
BEGIN:VTIMEZONE
TZID:Europe/Berlin
BEGIN:DAYLIGHT
TZOFFSETFROM:+0100
TZOFFSETTO:+0200
TZNAME:CEST
DTSTART:20230326T010000
END:DAYLIGHT
BEGIN:STANDARD
TZOFFSETFROM:+0200
TZOFFSETTO:+0100
TZNAME:CET
DTSTART:20231029T010000
END:STANDARD
BEGIN:DAYLIGHT
TZOFFSETFROM:+0100
TZOFFSETTO:+0200
TZNAME:CEST
DTSTART:20240331T010000
END:DAYLIGHT
BEGIN:STANDARD
TZOFFSETFROM:+0200
TZOFFSETTO:+0100
TZNAME:CET
DTSTART:20241027T010000
END:STANDARD
BEGIN:DAYLIGHT
TZOFFSETFROM:+0100
TZOFFSETTO:+0200
TZNAME:CEST
DTSTART:20250330T010000
END:DAYLIGHT
BEGIN:STANDARD
TZOFFSETFROM:+0200
TZOFFSETTO:+0100
TZNAME:CET
DTSTART:20251026T010000
END:STANDARD
END:VTIMEZONE
BEGIN:VEVENT
DTSTART;TZID=Europe/Berlin:20240317T120000
DTEND;TZID=Europe/Berlin:20240630T170000
DTSTAMP:20260421T205318
CREATED:20240311T110221Z
LAST-MODIFIED:20240311T110758Z
UID:10000394-1710676800-1719766800@www.landkreis-wittenberg.de
SUMMARY:Ausstellung “Andreas Werner - Malerei” in der Stadtkirche St. Marien in Wittenberg
DESCRIPTION:Ab Mitte März sind in der Stadtkirche St. Marien in Wittenberg etwa 25 malerische Arbeiten von Andreas Werner zu sehen. \nDie Kirche ist im März täglich von 12 bis 16 Uhr geöffnet\, ab April täglich von 11 bis 17 Uhr. \nDer Bildermacher aus de Nähe von Zwickau war im Hauptberuf als Bildbearbeiter bei der “Freien Presse” tätig\, wo er am Rechnerbildschirm saß. Dort war Schnelligkeit gefragt. Seine an der Staffelei entstehenden Arbeiten – Landschaften\, Portraits\, Gedankenbilder und anderes  – wachsen dagegen seit jeher über längere Zeiten (mindestens Wochen) heran. \nSeit seiner Kindheit haben Werner neben der Musik die bildenden Künste – und ganz besonders die Malerei – interessiert und fasziniert\, wobei er anmerkt\, dass ihm Zeichnen „kein tägliches Bedürfnis“ sei.  Er begann in einer Druckerei zu arbeiten\, war etliche Jahre als Offsetdrucker tätig und mischte in den 80er Jahren auch mehrere Jahre im Förderstudio Grafik am Zwickauer Domhof mit\, wo er sich mit Lithografie beschäftigte. Hinzu kam eigene Foto-Laborarbeit; autodidaktisch erarbeitete er sich einige fotografische Sonderverfahren; auch gebrauchsgrafische Arbeiten (Plakate und Faltblätter) führte er in der Zeit gelegentlich aus. In der Folge gab es mehrere Ausstellungen mit Fotografien und Fotografiken; seit den 90er Jahren schob sich aber das Bildermalen wieder nach vorn. \nSeit jungen Jahren beobachtete Werner aufmerksam die Leistungen großer zeitgenössischer Bildermacher\, von denen er Wolfgang Mattheuer seinen wichtigsten Anreger nennt.   Mit dem Ausstellen von Malereien tat er sich zunächst lange schwer\, aber 2011 gab es dann doch die erste Präsentation\, und seitdem folgten etwa im Jahrestakt weitere. \n“Was will der Maler mit diesem oder jenem Bild sagen?”  – Werner weist diese „Frage des Lehrers“ immer zurück\, weil sie in die falsche Richtung ziele bzw. ein Bild auf seinen erzählbaren Inhalt oder eine „Aussageabsicht“ reduziere. Auch mit einer wortreichen Antwort ließe sich\, so der Maler\, doch die Malerei nicht ersetzen. Mit einem Bild soll dem Betrachter erst einmal etwas gezeigt werden. Will jemand nur etwas „sagen“\, dann hat er dafür hoffentlich Worte!  Gemäß dem Satz „Ein Bild wiegt 1000 Worte auf“ sieht W. in malerischen Bildern einigen Raum für Nicht-Sagbares. Zusätzlich gibt er mit kurzen aushängenden Anmerkungs-Worten in seinen Ausstellungen aber auch Hinweise oder Erläuterungen zu einigen Themenpunkten. \nBiografisches: \nAndreas Werner wurde 1958 in Zeulenroda/Thür. geboren. Musikalisches Elternhaus. 1977 Abitur in Wilkau-Haßlau. Von 1979 bis 2022 war er im Druckereiwesen tätig. Ausstellungen von Fotografie und Fotografik (im Zwickauer Raum\, in den 1980er Jahren) und von Malerei (seit 2011\, in Sachsen und Thüringen). Wiederholt bei „Pleinair“-Treffen auf Schloß Wildenfels im Erzgebirge dabei.
URL:https://www.landkreis-wittenberg.de/event/ausstellung-andreas-werner-malerei-in-der-stadtkirche-st-marien-in-wittenberg/
LOCATION:Stadtkirche St. Marien Wittenberg\, Am Kirchplatz 20\, Lutherstadt Wittenberg\, 06886\, Germany
CATEGORIES:Allgemein,Feste
ATTACH;FMTTYPE=image/jpeg:https://www.landkreis-wittenberg.de/wp-content/uploads/2024/03/WittenbergPlakat-scaled.jpg
END:VEVENT
BEGIN:VEVENT
DTSTART;VALUE=DATE:20240601
DTEND;VALUE=DATE:20240603
DTSTAMP:20260421T205318
CREATED:20240405T080833Z
LAST-MODIFIED:20240405T080833Z
UID:10000427-1717200000-1717372799@www.landkreis-wittenberg.de
SUMMARY:NEUSEENMANN TRIATHLON
DESCRIPTION:
URL:https://www.landkreis-wittenberg.de/event/neuseenmann-triathlon/
LOCATION:Ferropolis\, Ferropolisstraße 1\, Gräfenhainichen\, 06773
CATEGORIES:Allgemein
END:VEVENT
BEGIN:VEVENT
DTSTART;TZID=Europe/Berlin:20240601T190000
DTEND;TZID=Europe/Berlin:20240601T220000
DTSTAMP:20260421T205318
CREATED:20240301T091005Z
LAST-MODIFIED:20240708T075127Z
UID:10000382-1717268400-1717279200@www.landkreis-wittenberg.de
SUMMARY:Wittenberger Nachtgeschichten - Führung und Essen
DESCRIPTION:Im Fackelschein begleitet Sie ein historisch gewandeter Stadtführer\, der Ihnen allerlei Interessantes und Unterhaltsames aus dem Wittenberg des 16. Jahrhunderts zu berichten weiß. \nVor Wegelagerern und Beutelabschneidern werden Sie von den Wittenberger Wächtern beschützt. \n\n\n\nBeginn:\n21:00 Uhr\n\n\nDauer:\n1 Stunde\n\n\nPreis:\n12\,-€/ erm. 10\,-€\n\n\nTreffpunkt:\nTourist-Information\, Schlossplatz 2\n\n\n\nTickets können Sie unter diesem Link erwerben: https://wittenberg-booking.inet-mainz.de/ \nFührung & Essen \nGern heißen wir Sie vor der Führung im Restaurant “Die Niederlassung” herzlich willkommen. Hier servieren wir Ihnen thematisch passende Küche. Alternativ bieten wir Ihnen auch ein vegetarisches Essen an. \n\nBeginn: 19:00 Uhr\nPreis: 37\,-€/ Person\nTreffpunkt:  Restaurant “Die Niederlassung”\, Pfaffengasse 28A\n\nWenn Sie die Kombination aus Führung und Abendessen wünschen\, ist eine vorherige Anmeldung zwingend erforderlich. \nTickets können Sie unter diesem Link erwerben: https://wittenberg-booking.inet-mainz.de/
URL:https://www.landkreis-wittenberg.de/event/wittenberger-nachtgeschichten-fuehrung-und-essen/2024-06-01/
LOCATION:Restaurant “Die Niederlassung”\, Pfaffengasse 28A\, Lutherstadt Wittenberg\, 06886\, Germany
CATEGORIES:Allgemein
ATTACH;FMTTYPE=image/jpeg:https://www.landkreis-wittenberg.de/wp-content/uploads/2024/03/Wittenberger-Nachtgeschichten.jpg
ORGANIZER;CN="Tourist-Information Lutherstadt-Wittenberg":MAILTO:info@lutherstadt-wittenberg.de
END:VEVENT
BEGIN:VEVENT
DTSTART;TZID=Europe/Berlin:20240602T100000
DTEND;TZID=Europe/Berlin:20240602T110000
DTSTAMP:20260421T205318
CREATED:20240405T063633Z
LAST-MODIFIED:20240405T063633Z
UID:10000418-1717322400-1717326000@www.landkreis-wittenberg.de
SUMMARY:Führung durch die Klosterkirche zum UNESCO-Welterbetag
DESCRIPTION:Ohne Askanier keine Welterbestätten in Wittenberg und auch kein Sachsen-Anhalt!? Ob das so stimmt und warum das Kurfürstengeschlecht so bedeutend für die Geschichte der Stadt und des Bundeslandes ist\, erfahren Sie bei einer Führung durch die Klosterkirche. \n\nDauer: 1 Stunde\nTreffpunkt: Klosterkirche im Stadthaus\, Mauerstraße 18\nKosten: kostenlos\nEine vorherige Anmeldung ist zwingend erforderlich!
URL:https://www.landkreis-wittenberg.de/event/fuehrung-durch-die-klosterkirche-zum-unesco-welterbetag/
LOCATION:Klosterkirche im Stadthaus\, Mauerstraße 18\, Lutherstadt Wittenberg\, 06886\, Germany
CATEGORIES:Allgemein
ATTACH;FMTTYPE=image/jpeg:https://www.landkreis-wittenberg.de/wp-content/uploads/2024/04/Fuehrung-durch-die-Klosterkirche.jpg
ORGANIZER;CN="Tourist-Information Lutherstadt-Wittenberg":MAILTO:info@lutherstadt-wittenberg.de
END:VEVENT
BEGIN:VEVENT
DTSTART;VALUE=DATE:20240607
DTEND;VALUE=DATE:20240610
DTSTAMP:20260421T205318
CREATED:20240118T130612Z
LAST-MODIFIED:20240118T130612Z
UID:10000303-1717718400-1717977599@www.landkreis-wittenberg.de
SUMMARY:HIVE FESTIVAL
DESCRIPTION:Elektro-Festival \nTickets und mehr: www.hive-festival.de
URL:https://www.landkreis-wittenberg.de/event/hive-festival/
LOCATION:Ferropolis\, Ferropolisstraße 1\, Gräfenhainichen\, 06773
CATEGORIES:Feste
END:VEVENT
BEGIN:VEVENT
DTSTART;VALUE=DATE:20240608
DTEND;VALUE=DATE:20240610
DTSTAMP:20260421T205318
CREATED:20240405T081108Z
LAST-MODIFIED:20240405T081108Z
UID:10000430-1717804800-1717977599@www.landkreis-wittenberg.de
SUMMARY:34. Landesmeisterschaften Sachsen-Anhalts im Rudern
DESCRIPTION:
URL:https://www.landkreis-wittenberg.de/event/34-landesmeisterschaften-sachsen-anhalts-im-rudern/
LOCATION:Ruderzentrum Zschornewitz\, Pöplitzer Weg\, Gräfenhainichen\, 06772
CATEGORIES:Allgemein
END:VEVENT
BEGIN:VEVENT
DTSTART;TZID=Europe/Berlin:20240608T090000
DTEND;TZID=Europe/Berlin:20240608T180000
DTSTAMP:20260421T205318
CREATED:20240503T085436Z
LAST-MODIFIED:20240503T085639Z
UID:10000467-1717837200-1717869600@www.landkreis-wittenberg.de
SUMMARY:TAG DER BUNDESWEHR
DESCRIPTION:Seit 2015 gibt es ihn\, den Tag der Bundeswehr. \nEinmal im Jahr öffnet die Truppe seitdem ihre Tore und lädt alle Bürgerinnen und Bürger ein\, einen exklusiven Blick hinter den Kasernenzaun zu werfen. \nEinen ganzen Tag lang können sich Besucherinnen und Besucher ein eigenes Bild von der Truppe machen\, mit Mitarbeitenden ins Gespräch kommen und dabei Technik und Gerät hautnah und exklusiv erleben. \nEs ist aber auch bereits der dritte Tag der Bundeswehr seit dem völkerrechtswidrigen Überfall Russlands auf die Ukraine am 24. Februar 2022. Der seitdem anhaltende schreckliche Krieg mitten in Europa\, die fortdauernde Unterstützung der ukrainischen Armee durch die Bundeswehr\, die ausgerufene Zeitenwende – das alles beschäftigt vielen Menschen in unserem Land. \nBeim Tag der Bundeswehr können viele der Fragen zu den Streitkräften\, zur Ausrüstung und zu bestehenden Herausforderungen gestellt und beantwortet werden. \nNutzen Sie die Chance\, besuchen Sie uns und lernen Sie die Soldatinnen und Soldaten sowie die zivilen Mitarbeiterinnen und Mitarbeiter kennen. \nErleben Sie die ganze Vielfalt der Bundeswehr und ihrer Menschen: live\, in Farbe und aus nächster Nähe. \nUnd bringen Sie die Kinder\, Oma und Opa und auch Ihre Freunde und Nachbarn mit – für jeden von Ihnen wird an den unterschiedlichen Standorten etwas dabei sein.
URL:https://www.landkreis-wittenberg.de/event/tag-der-bundeswehr/
LOCATION:Fliegerhorst-Holzdorf\, Fliegerhorstallee 1\, Schönewald\, 04916\, Germany
CATEGORIES:Allgemein,Feste
ATTACH;FMTTYPE=image/jpeg:https://www.landkreis-wittenberg.de/wp-content/uploads/2024/05/Tag-der-Bundeswehr.jpg
END:VEVENT
BEGIN:VEVENT
DTSTART;TZID=Europe/Berlin:20240608T183000
DTEND;TZID=Europe/Berlin:20240608T220000
DTSTAMP:20260421T205318
CREATED:20240405T080925Z
LAST-MODIFIED:20240405T080925Z
UID:10000428-1717871400-1717884000@www.landkreis-wittenberg.de
SUMMARY:Frühlingsfest des GCC
DESCRIPTION:
URL:https://www.landkreis-wittenberg.de/event/fruehlingsfest-des-gcc/
LOCATION:Vereinshaus des GCC\, Grüne Gasse 2\, Gräfenhainichen\, 06773
CATEGORIES:Allgemein,Feste
END:VEVENT
BEGIN:VEVENT
DTSTART;TZID=Europe/Berlin:20240608T190000
DTEND;TZID=Europe/Berlin:20240608T220000
DTSTAMP:20260421T205318
CREATED:20240405T081025Z
LAST-MODIFIED:20240405T081025Z
UID:10000429-1717873200-1717884000@www.landkreis-wittenberg.de
SUMMARY:Handgemachte Musik mit Bands der Region
DESCRIPTION:Einlass: 18:00 Uhr\nEintritt frei! Um eine Spende wird gebeten!
URL:https://www.landkreis-wittenberg.de/event/handgemachte-musik-mit-bands-der-region/
LOCATION:Freilichtbühne\, Schloßstraße 27\, Gräfenhainichen\, 06773
CATEGORIES:Allgemein
END:VEVENT
BEGIN:VEVENT
DTSTART;TZID=Europe/Berlin:20240611T100000
DTEND;TZID=Europe/Berlin:20240611T120000
DTSTAMP:20260421T205318
CREATED:20240528T102150Z
LAST-MODIFIED:20240528T102150Z
UID:10000469-1718100000-1718107200@www.landkreis-wittenberg.de
SUMMARY:„Die betriebswirtschaftliche Auswertung – ein Frühindikator für eine mögliche Krise?“
DESCRIPTION:  \n\n\n\n\n\n\n\n\n\n\n\n\n\n\n\nDie vier gewerblichen Kammern Sachsen-Anhalts bieten gemeinsam regelmäßig Informationsveranstaltungen zum Thema Unternehmenssicherung an. \nIn der diesmal von der Handwerkskammer Halle (Saale) organisierten Onlineveranstaltung spielen insbesondere Indikatoren zur Früherkennung von Unternehmensproblemen eine wichtige Rolle. Hierzu laden wir Sie herzlich ein. \nThemen: \n\nWie ist die betriebswirtschaftliche Auswertung (BWA) und Summen- und Saldenliste (SuSa) aufgebaut?\nWie können BWA und SuSa zielgerichtet interpretiert werden? Welche Kennzahlen sind zur Früherkennung wichtig?\nWie kann man sich schnell und sicher einen Finanz-Überblick über das Unternehmen und somit zur Steuerung und Krisenfrüherkennung erschaffen?\n\nReferenten: \nSimone Dieckow\, Steuerberaterin\, Schmidt & Partner Steuerberatungsgesellschaft mbH & Co. Dessau Roßlau KG\nJörg Schulze\, Dipl.-Wirtschaftsingenieur (FH)\, ETL Unternehmensberatung AG Dessau   \nAnmeldung unter diesem Link. \n\n\n\n\n\n\n\n\n\n\n\n\n\n\n\n 
URL:https://www.landkreis-wittenberg.de/event/die-betriebswirtschaftliche-auswertung-ein-fruehindikator-fuer-eine-moegliche-krise/
LOCATION:Online-Informationsveranstaltung\, über Microsoft Teams
CATEGORIES:Wirtschaftsförderung
ATTACH;FMTTYPE=image/jpeg:https://www.landkreis-wittenberg.de/wp-content/uploads/2023/09/AdobeStock_189319148_Handshaker.jpg
ORGANIZER;CN="Handwerkskammer Halle (Saale)":MAILTO:abaer@hwkhalle.de
END:VEVENT
BEGIN:VEVENT
DTSTART;TZID=Europe/Berlin:20240612T180000
DTEND;TZID=Europe/Berlin:20240612T200000
DTSTAMP:20260421T205318
CREATED:20240119T080133Z
LAST-MODIFIED:20240515T141224Z
UID:10000325-1718215200-1718222400@www.landkreis-wittenberg.de
SUMMARY:Kinderschutzstammtisch
DESCRIPTION:Der nächste Kinderschutz-Stammtisch wird am 12.06.2024 im Reso-Witt e.V.\, Große Bruchstraße 17\, 06886 Luth. Wittenberg um 18.00 Uhr stattfinden. Alle Interessierten sind dazu herzlich eingeladen! Eine Anmeldung ist nicht erforderlich. \nRegelmäßig organisiert die Arbeitsgruppe „Kinderschutzakteure im Dialog“ Diskussionsabende in verschiedenen Städten des Landkreises Wittenberg. Dabei sollen sich nicht allein Fachkräfte angesprochen fühlen\, sondern ausdrücklich alle Bürger und Bürgerinnen\, die mit Kindern und Jugendlichen privat und beruflich zu tun haben und sich Gedanken um deren Wohlergehen machen. \nInhalt der Abende sind aktuelle oder allgemeine Fragen des Umgangs mit Sorgen um das Kindeswohl in Familie\, Schule und sozialem Umfeld\, bei Trennung der Eltern\, Verdacht auf Misshandlungen oder erkennbaren Verhaltensproblemen. In der Runde kann mit Vertretern des Fachdienstes Jugend\, freien Trägern der Jugendhilfe sowie anderen Fachleuten und auch untereinander diskutiert werden. Offene Fragen sollen – auf Wunsch anonymisiert – aufgegriffen und nach Klärung kompetent beantwortet werden. \nRückfragen können Sie telefonisch an Heike Garbacki\, Netzwerkkoordinatorin\, 03491 / 806-2210 oder per Mail an heike.garbacki@landkreis-wittenberg.de richten.
URL:https://www.landkreis-wittenberg.de/event/kinderschutzstammtisch-2/
LOCATION:Reso-Witt e.V.\, Große Bruchstraße 17\, Lutherstadt Wittenberg\, 06886
CATEGORIES:Kreisverwaltung Wittenberg
ATTACH;FMTTYPE=image/jpeg:https://www.landkreis-wittenberg.de/wp-content/uploads/2023/08/AdobeStock_282163930_Pflegefamilie.jpg
ORGANIZER;CN="Kreisverwaltung Wittenberg - Fr%C3%BChe Hilfen":MAILTO:heike.garbacki@landkreis-wittenberg.de
END:VEVENT
BEGIN:VEVENT
DTSTART;VALUE=DATE:20240614
DTEND;VALUE=DATE:20240616
DTSTAMP:20260421T205318
CREATED:20240606T071451Z
LAST-MODIFIED:20240606T071451Z
UID:10000470-1718323200-1718495999@www.landkreis-wittenberg.de
SUMMARY:Kleinkunsttraum Oranienbaum - das bunte Varieté-Spektakel
DESCRIPTION:Kleinkunsttraum Oranienbaum: Ein buntes Programm voller Überraschungen \nDie Vorfreude steigt: Am 14. und 15. Juni 2024 wird der barocke Schlosspark von Oranien-baum zur Bühne für ein buntes Varieté-Spektakel. Der „Kleinkunsttraum Oranienbaum“ lockt die Besucherinnen und Besucher mit facettenreicher Bühnenkunst von Zauberei und Comedy über Clownerie und Puppenspiel bis hin zu Tanz und Pantomime. \nVierzig Künstlerinnen und Künstler aus ganz Europa werden das Publikum ab 19 Uhr in ihre faszinierende Welt des Varietés entführen. Die Besucherinnen und Besucher können sich dabei ihr Programm selbst zusammenstellen und von Auftritt zu Auftritt durch den Schloss-park schlendern. \nVor dem Chinesischen Haus verbinden Martina Brandl und Martin Rosengarten Gesellschaftskritik mit Blödelei und präsentieren ein breites musikalisches Programm von Folk bis Elektropop. Gaboor Vosteen zeigt vor der Pagode mit einem der simpelsten Instrumente der Welt – der Blöckflöte – die verrücktesten Tricks und verwandelt die Banalität der Flötenmu-sik in eine fantastische One-Man-Show.\nIm Gartenparterre bewegen sich die Aristokraten mit Stuhlbalance\, Comedy und Jonglage im Rausch der Leichtigkeit während die Showbarkeeper Lutz und Moritz fleißig frische Cocktails mixen und dabei die ein oder andere Zutat fliegen lernt. \nIm ehemaligen Irrgarten zieht Dorice Arsenopoulou das Publikum mit ihrem Schleier- und Serpentinentanz in ihren Bann. Der Comedian und Bauchredner Daniel Reinsberg lässt Zeichnungen Sprechen und Waschlappen singen. \nZwischen den Bühnen wandeln anmutige Windpferde durch den Park\, freche Strauße halten ihre Reiter auf Trab und eine rätselhafte Maschine bringt die Gäste zum Staunen. Die beiden Sommerabende werden mit einer spektakulären Licht- und Lasershow vor der Schlossfassade enden. Für ausgewählte gastronomische Angebote ist selbstverständlich gesorgt. \nTickets \nWer diesen spannende Veranstaltungsabend voller Spaß\, Artistik und Magie nicht verpassen möchte\, sollte sich jetzt noch Tickets für Freitag\, den 14. Juni 2024\, sichern. Der Samstag ist bereits ausverkauft. Der Eintritt zur Veranstaltung beträgt 39 Euro. Kinder unter 12 Jahren haben freien Eintritt. \nhttps://tickets.gartenreich.de
URL:https://www.landkreis-wittenberg.de/event/kleinkunsttraum-oranienbaum-das-bunte-variete-spektakel/
LOCATION:Schlosspark Oranienbaum\, Schloßstraße\, Oranienbaum- Wörlitz\, 06785\, Germany
CATEGORIES:Allgemein,Feste
ATTACH;FMTTYPE=image/jpeg:https://www.landkreis-wittenberg.de/wp-content/uploads/2024/06/Kleinkunsttraum-Oranienbaum-©-KsDW-Peter-Dafinger.jpg
END:VEVENT
BEGIN:VEVENT
DTSTART;VALUE=DATE:20240615
DTEND;VALUE=DATE:20240616
DTSTAMP:20260421T205318
CREATED:20240405T081152Z
LAST-MODIFIED:20240405T081152Z
UID:10000431-1718409600-1718495999@www.landkreis-wittenberg.de
SUMMARY:Sommerfest
DESCRIPTION:
URL:https://www.landkreis-wittenberg.de/event/sommerfest/
LOCATION:Naturcampingplatz „Möhlauer See“\, Uferpromenade 99\, Gräfenhainichen\, 06772
CATEGORIES:Allgemein,Feste
END:VEVENT
BEGIN:VEVENT
DTSTART;VALUE=DATE:20240621
DTEND;VALUE=DATE:20240624
DTSTAMP:20260421T205318
CREATED:20240118T130805Z
LAST-MODIFIED:20240118T130805Z
UID:10000304-1718928000-1719187199@www.landkreis-wittenberg.de
SUMMARY:30. Full Force Festival
DESCRIPTION:Punk-\, Metal- und Hardcore-Festival \nTickets und mehr: www.fullforce.de
URL:https://www.landkreis-wittenberg.de/event/30-full-force-festival/
LOCATION:Ferropolis\, Ferropolisstraße 1\, Gräfenhainichen\, 06773
CATEGORIES:Feste
END:VEVENT
BEGIN:VEVENT
DTSTART;TZID=Europe/Berlin:20240621T200000
DTEND;TZID=Europe/Berlin:20240621T235900
DTSTAMP:20260421T205318
CREATED:20240118T125653Z
LAST-MODIFIED:20240118T125653Z
UID:10000300-1719000000-1719014340@www.landkreis-wittenberg.de
SUMMARY:Rainald Grebe & die Kapelle der Versöhnung
DESCRIPTION:Kartenvorverkauf im Januar 2024 bei tixforgigs oder in der Tourist-Information Gräfenhainichen. \nEinlass: 19:00 Uhr
URL:https://www.landkreis-wittenberg.de/event/rainald-grebe-die-kapelle-der-versoehnung/
LOCATION:Freilichtbühne\, Schloßstraße 27\, Gräfenhainichen\, 06773
CATEGORIES:Feste
END:VEVENT
BEGIN:VEVENT
DTSTART;TZID=Europe/Berlin:20240622T200000
DTEND;TZID=Europe/Berlin:20240622T235900
DTSTAMP:20260421T205318
CREATED:20240126T101328Z
LAST-MODIFIED:20240126T101328Z
UID:10000336-1719086400-1719100740@www.landkreis-wittenberg.de
SUMMARY:Midsommer-Sause Trebitz
DESCRIPTION:
URL:https://www.landkreis-wittenberg.de/event/midsommer-sause-trebitz/
LOCATION:TCV-Hof\, Wittenberger Chaussee 41\, Bad Schmiedeberg\, 06905
CATEGORIES:Feste
ORGANIZER;CN="Trebitzer Carneval Verein 1953 e.V.":MAILTO:info@trebitz-helau.de
END:VEVENT
BEGIN:VEVENT
DTSTART;TZID=Europe/Berlin:20240625T080000
DTEND;TZID=Europe/Berlin:20240625T150000
DTSTAMP:20260421T205318
CREATED:20240327T100618Z
LAST-MODIFIED:20240327T103251Z
UID:10000409-1719302400-1719327600@www.landkreis-wittenberg.de
SUMMARY:IB-Beratungstag
DESCRIPTION:Unter dem Motto “IB regional – Wir für Sie vor Ort” findet in Wittenberg monatlich ein Beratungstag der Investitionsbank Sachsen-Anhalt statt. Unternehmen\, Existenzgründer und Privatpersonen können Ihre Fragen rund um die Förderung in einem individuellen Gespräch persönlich stellen. Das vielfältige  Angebot der Investitionsbank reicht von Unternehmensförderung über Finanzierungen bis hin zur Unterstützung von Kommunen. \nSie suchen nach dem passenden Fördermix? Alle Fragen rund um die Förder- und Finanzierungsmöglichkeiten beantworten Ihnen die Experten der Investitionsbank und der Stabsstelle Wirtschaft. \nNehmen Sie den Beratungssprechtag analog oder auf Wunsch auch telefonisch bzw. digital wahr. Wir bieten Ihnen maximale Flexibilität. \nFür die individuellen Gespräche bitten wir um Terminvereinbarung unter 03491 8061023 oder wirtschaft@landkreis-wittenberg.de.
URL:https://www.landkreis-wittenberg.de/event/ib-beratungstag-2/2024-06-25/
LOCATION:Kreisverwaltung Wittenberg\, Breitscheidstr. 4\, Lutherstadt Wittenberg\, Sachsen-Anhalt\, 06886\, Germany
CATEGORIES:Wirtschaftsförderung
ATTACH;FMTTYPE=image/jpeg:https://www.landkreis-wittenberg.de/wp-content/uploads/2024/02/AdobeStock_31097513-scaled.jpeg
END:VEVENT
BEGIN:VEVENT
DTSTART;TZID=Europe/Berlin:20240629T190000
DTEND;TZID=Europe/Berlin:20240629T220000
DTSTAMP:20260421T205318
CREATED:20240301T091005Z
LAST-MODIFIED:20240708T075127Z
UID:10000383-1719687600-1719698400@www.landkreis-wittenberg.de
SUMMARY:Wittenberger Nachtgeschichten - Führung und Essen
DESCRIPTION:Im Fackelschein begleitet Sie ein historisch gewandeter Stadtführer\, der Ihnen allerlei Interessantes und Unterhaltsames aus dem Wittenberg des 16. Jahrhunderts zu berichten weiß. \nVor Wegelagerern und Beutelabschneidern werden Sie von den Wittenberger Wächtern beschützt. \n\n\n\nBeginn:\n21:00 Uhr\n\n\nDauer:\n1 Stunde\n\n\nPreis:\n12\,-€/ erm. 10\,-€\n\n\nTreffpunkt:\nTourist-Information\, Schlossplatz 2\n\n\n\nTickets können Sie unter diesem Link erwerben: https://wittenberg-booking.inet-mainz.de/ \nFührung & Essen \nGern heißen wir Sie vor der Führung im Restaurant “Die Niederlassung” herzlich willkommen. Hier servieren wir Ihnen thematisch passende Küche. Alternativ bieten wir Ihnen auch ein vegetarisches Essen an. \n\nBeginn: 19:00 Uhr\nPreis: 37\,-€/ Person\nTreffpunkt:  Restaurant “Die Niederlassung”\, Pfaffengasse 28A\n\nWenn Sie die Kombination aus Führung und Abendessen wünschen\, ist eine vorherige Anmeldung zwingend erforderlich. \nTickets können Sie unter diesem Link erwerben: https://wittenberg-booking.inet-mainz.de/
URL:https://www.landkreis-wittenberg.de/event/wittenberger-nachtgeschichten-fuehrung-und-essen/2024-06-29/
LOCATION:Restaurant “Die Niederlassung”\, Pfaffengasse 28A\, Lutherstadt Wittenberg\, 06886\, Germany
CATEGORIES:Allgemein
ATTACH;FMTTYPE=image/jpeg:https://www.landkreis-wittenberg.de/wp-content/uploads/2024/03/Wittenberger-Nachtgeschichten.jpg
ORGANIZER;CN="Tourist-Information Lutherstadt-Wittenberg":MAILTO:info@lutherstadt-wittenberg.de
END:VEVENT
END:VCALENDAR