BEGIN:VCALENDAR
VERSION:2.0
PRODID:-//Landkreis Wittenberg - ECPv6.15.20//NONSGML v1.0//EN
CALSCALE:GREGORIAN
METHOD:PUBLISH
X-WR-CALNAME:Landkreis Wittenberg
X-ORIGINAL-URL:https://www.landkreis-wittenberg.de
X-WR-CALDESC:Veranstaltungen für Landkreis Wittenberg
REFRESH-INTERVAL;VALUE=DURATION:PT1H
X-Robots-Tag:noindex
X-PUBLISHED-TTL:PT1H
BEGIN:VTIMEZONE
TZID:Europe/Berlin
BEGIN:DAYLIGHT
TZOFFSETFROM:+0100
TZOFFSETTO:+0200
TZNAME:CEST
DTSTART:20250330T010000
END:DAYLIGHT
BEGIN:STANDARD
TZOFFSETFROM:+0200
TZOFFSETTO:+0100
TZNAME:CET
DTSTART:20251026T010000
END:STANDARD
BEGIN:DAYLIGHT
TZOFFSETFROM:+0100
TZOFFSETTO:+0200
TZNAME:CEST
DTSTART:20260329T010000
END:DAYLIGHT
BEGIN:STANDARD
TZOFFSETFROM:+0200
TZOFFSETTO:+0100
TZNAME:CET
DTSTART:20261025T010000
END:STANDARD
BEGIN:DAYLIGHT
TZOFFSETFROM:+0100
TZOFFSETTO:+0200
TZNAME:CEST
DTSTART:20270328T010000
END:DAYLIGHT
BEGIN:STANDARD
TZOFFSETFROM:+0200
TZOFFSETTO:+0100
TZNAME:CET
DTSTART:20271031T010000
END:STANDARD
END:VTIMEZONE
BEGIN:VEVENT
DTSTART;TZID=Europe/Berlin:20260401T110000
DTEND;TZID=Europe/Berlin:20260626T170000
DTSTAMP:20260422T013832
CREATED:20251208T095240Z
LAST-MODIFIED:20251208T095240Z
UID:10001084-1775041200-1782493200@www.landkreis-wittenberg.de
SUMMARY:Die neue Ausstellung „Vielfalt in Tradition und Wandel“ im Museum im Zeughaus
DESCRIPTION:Im Zeughaus: die neue Sonderausstellung des Freundeskreises der Julius-Riemer-Sammlung in Kooperation mit den Städtischen Sammlungen der Lutherstadt Wittenberg. \nUnter dem Titel “Vielfalt in Tradition und Wandel – Minderheiten und Volksgruppen Europas“ „widmet sich die neue Ausstellung im Zeughaus den Menschen\, deren Sprache keine anerkannte Amtssprache in der Europäischen Union ist\, sondern zu den sogenannten Minderheitssprachen zählt. Viele dieser Sprachen sind in Europa größtenteils kaum bekannt. \nMehr als 20 Minderheitssprachen werden in der Ausstellung in historischen Abbildungen und mit zahlreichen ethnographischen Objekten und Kunstwerken aus vier Jahrhunderten vorgestellt. Insbesondere die Geschichte und Kultur der Sorben schafft regionale Bezüge zur Geschichte Mitteldeutschlands und Wittenbergs\, denn die sogenannte „wendische“ Sprache lässt sich in dieser Region vermutlich bis in die Frühe Neuzeit zurückführen. \nDie Sonderausstellung wird bis zum 28.06.2026 im Zeughaus zu sehen sein. \nÖffnungszeiten Museum im Zeughaus \n• Januar bis März:\nDonnerstag bis Sonntag: 11:00 Uhr – 17:00 Uhr\nletzter Einlass 30 Minuten vor Schließung \n• April bis Dezember:\nMittwoch bis Sonntag: 11:00 Uhr – 17:00 Uhr\nletzter Einlass 30 Minuten vor Schließung
URL:https://www.landkreis-wittenberg.de/event/die-neue-ausstellung-vielfalt-in-tradition-und-wandel-im-museum-im-zeughaus-2/
LOCATION:Museum im Zeughaus\, Juristenstraße 16a\, Lutherstadt Wittenberg\, 06886\, Germany
CATEGORIES:Allgemein,Feste,Kulturelle Veranstaltungen
END:VEVENT
BEGIN:VEVENT
DTSTART;TZID=Europe/Berlin:20260422T180000
DTEND;TZID=Europe/Berlin:20260422T193000
DTSTAMP:20260422T013832
CREATED:20260330T134929Z
LAST-MODIFIED:20260330T134929Z
UID:10001217-1776880800-1776886200@www.landkreis-wittenberg.de
SUMMARY:Kinderschutz im Dialog: Diskussionsabende im Landkreis Wittenberg  Text:
DESCRIPTION:Die Arbeitsgruppe „Kinderschutzakteure im Dialog“ organisiert regelmäßig Diskussionsabende in verschiedenen Städten des Landkreises Wittenberg. Ziel dieser Veranstaltungsreihe ist es\, den Austausch zum Thema Kinderschutz zu stärken und möglichst viele Menschen einzubeziehen. Angesprochen sind ausdrücklich nicht nur Fachkräfte aus Jugendhilfe\, Schule oder Beratung\, sondern alle Bürgerinnen und Bürger\, die im Alltag mit Kindern und Jugendlichen zu tun haben und sich Gedanken um deren Wohlergehen machen.\n\n\n\n\n\nIm Mittelpunkt der Diskussionsabende stehen Fragen rund um das Kindeswohl. Dabei geht es sowohl um allgemeine Themen als auch um ganz konkrete Situationen aus dem Alltag. Diskutiert werden beispielsweise Herausforderungen im familiären Umfeld\, Fragen im schulischen Kontext oder Unsicherheiten im sozialen Miteinander. Auch Themen wie Trennung der Eltern\, der Verdacht auf Vernachlässigung oder Misshandlung sowie auffällige Verhaltensweisen von Kindern und Jugendlichen werden aufgegriffen. \nDie Veranstaltungen bieten einen geschützten Rahmen\, um Fragen zu stellen\, Erfahrungen auszutauschen und unterschiedliche Perspektiven kennenzulernen. Vertreterinnen und Vertreter des Fachdienstes Jugend\, freie Träger der Jugendhilfe sowie weitere Fachleute stehen als Ansprechpartner zur Verfügung. Gleichzeitig lebt das Format vom offenen Dialog unter den Teilnehmenden\, bei dem auch persönliche Einschätzungen und Beobachtungen eingebracht werden können. \nEin besonderer Fokus liegt darauf\, Hemmschwellen abzubauen und Orientierung zu geben. Viele Menschen sind unsicher\, wie sie mit möglichen Anzeichen einer Kindeswohlgefährdung umgehen sollen oder an wen sie sich wenden können. Die Diskussionsabende greifen diese Unsicherheiten auf und bieten die Möglichkeit\, Fragen zu klären. Auf Wunsch können Anliegen anonym eingebracht werden\, sodass auch sensible Themen zur Sprache kommen können. \nDie Teilnahme an den Diskussionsabenden ist kostenfrei. Eine Anmeldung ist nicht erforderlich. Damit soll ein möglichst niedrigschwelliger Zugang geschaffen werden\, der es allen Interessierten erleichtert\, sich zu informieren\, auszutauschen und bei Bedarf Unterstützung zu finden. Das Angebot wird fortlaufend stets weiterentwickelt und orientiert sich an den Fragen und Bedarfen der Teilnehmenden vor Ort.
URL:https://www.landkreis-wittenberg.de/event/kinderschutz-im-dialog-diskussionsabende-im-landkreis-wittenberg-text/
LOCATION:Ländliche Erwachsenenbildung (LEB)\, Gutenbergplatz 1\, Gräfenhainichen\, Sachsen-Anhalt\, 06773\, Germany
ORGANIZER;CN="Kinderschutzakteure im Dialog":MAILTO:heike.garbacki@landkreis-wittenberg.de
END:VEVENT
END:VCALENDAR